BEGIN:VCALENDAR
VERSION:2.0
PRODID:-//ARES - ECPv6.15.20//NONSGML v1.0//EN
CALSCALE:GREGORIAN
METHOD:PUBLISH
X-ORIGINAL-URL:https://aresofmocotx.org
X-WR-CALDESC:Events for ARES
REFRESH-INTERVAL;VALUE=DURATION:PT1H
X-Robots-Tag:noindex
X-PUBLISHED-TTL:PT1H
BEGIN:VTIMEZONE
TZID:America/Chicago
BEGIN:DAYLIGHT
TZOFFSETFROM:-0600
TZOFFSETTO:-0500
TZNAME:CDT
DTSTART:20230312T080000
END:DAYLIGHT
BEGIN:STANDARD
TZOFFSETFROM:-0500
TZOFFSETTO:-0600
TZNAME:CST
DTSTART:20231105T070000
END:STANDARD
BEGIN:DAYLIGHT
TZOFFSETFROM:-0600
TZOFFSETTO:-0500
TZNAME:CDT
DTSTART:20240310T080000
END:DAYLIGHT
BEGIN:STANDARD
TZOFFSETFROM:-0500
TZOFFSETTO:-0600
TZNAME:CST
DTSTART:20241103T070000
END:STANDARD
BEGIN:DAYLIGHT
TZOFFSETFROM:-0600
TZOFFSETTO:-0500
TZNAME:CDT
DTSTART:20250309T080000
END:DAYLIGHT
BEGIN:STANDARD
TZOFFSETFROM:-0500
TZOFFSETTO:-0600
TZNAME:CST
DTSTART:20251102T070000
END:STANDARD
END:VTIMEZONE
BEGIN:VEVENT
DTSTART;TZID=America/Chicago:20240622T090000
DTEND;TZID=America/Chicago:20240622T110000
DTSTAMP:20260424T224219
CREATED:20240617T173410Z
LAST-MODIFIED:20240617T173549Z
UID:2047-1719046800-1719054000@aresofmocotx.org
SUMMARY:ARES Test Deployment
DESCRIPTION:ARES Test Deployment. \nRadio operators will deploy to their assigned and volunteer zones. \nNet control will contact each operator requesting their location. \nAfter checking in each radio operator will change their location from their primary location to their secondary location and wait for net control to request their location. \nNet control and assistant logger will capture the operator call sign\, location and signal strength. \nThis exercise will validate radio coverage in the event of a disaster and the ability of ARES to support the community. \nEmail deployment@aresofmocotx.org for additional details.
URL:https://aresofmocotx.org/event/ares-test-deployment/
END:VEVENT
END:VCALENDAR