BEGIN:VCALENDAR
VERSION:2.0
PRODID:-//ARES - ECPv6.15.20//NONSGML v1.0//EN
CALSCALE:GREGORIAN
METHOD:PUBLISH
X-ORIGINAL-URL:https://aresofmocotx.org
X-WR-CALDESC:Events for ARES
REFRESH-INTERVAL;VALUE=DURATION:PT1H
X-Robots-Tag:noindex
X-PUBLISHED-TTL:PT1H
BEGIN:VTIMEZONE
TZID:America/Chicago
BEGIN:DAYLIGHT
TZOFFSETFROM:-0600
TZOFFSETTO:-0500
TZNAME:CDT
DTSTART:20230312T080000
END:DAYLIGHT
BEGIN:STANDARD
TZOFFSETFROM:-0500
TZOFFSETTO:-0600
TZNAME:CST
DTSTART:20231105T070000
END:STANDARD
BEGIN:DAYLIGHT
TZOFFSETFROM:-0600
TZOFFSETTO:-0500
TZNAME:CDT
DTSTART:20240310T080000
END:DAYLIGHT
BEGIN:STANDARD
TZOFFSETFROM:-0500
TZOFFSETTO:-0600
TZNAME:CST
DTSTART:20241103T070000
END:STANDARD
BEGIN:DAYLIGHT
TZOFFSETFROM:-0600
TZOFFSETTO:-0500
TZNAME:CDT
DTSTART:20250309T080000
END:DAYLIGHT
BEGIN:STANDARD
TZOFFSETFROM:-0500
TZOFFSETTO:-0600
TZNAME:CST
DTSTART:20251102T070000
END:STANDARD
END:VTIMEZONE
BEGIN:VEVENT
DTSTART;TZID=America/Chicago:20241001T200000
DTEND;TZID=America/Chicago:20241001T203000
DTSTAMP:20260424T163051
CREATED:20240202T150922Z
LAST-MODIFIED:20240925T114936Z
UID:1267-1727812800-1727814600@aresofmocotx.org
SUMMARY:ARES Tuesday Net
DESCRIPTION:Simulated Emergency Exercise Net starting at 2000 (8:00pm). We encourage all to please participate so that you are practiced in the net. \nThose able to do so\, we encourage all to participate in BBS Packet\, Vara HF\, and Winlink (Telnet). \nSend your digital check ins prior to the net. \n\nPhone – 146.920 MHz – /203.5 (tone) Repeater\nBkup –  147.140 MHz + /136.5 (tone) Repeater\nPacket BBS  – 145.030 MHz Simplex WA5EOC-1\, address to ALL@WA5EOC as bulletin\nWinlink Vara HF P2P – Center Freq: 3.58850 MHz\nWinlink  – Send Winlink check ins to “MCA-NET” include the method used in the subject line\n\nTelnet\nPacket VHF  –  Packet UHF – connect to any Winlink Gateway 145.030 MHz- options WA9JG-10\, N5MDT-10\, W5HVL-10\nVARA FM VHF – VARA FM UHF connect to any VARA FM Winlink Gateway – options 145.550 MHz WA5EOC-10\, 446.15 MHz W5HVL-11\nVARA HF – connect to any Winlink Gateway
URL:https://aresofmocotx.org/event/ares-tuesday-net-40/
LOCATION:ARES Tuesday Net Repeater WA5AIR 146.920 (-) 203.5\, 146.920 MHz (-) 203.5(tone) Repeater\, Conroe\, TX\, United States
CATEGORIES:ARES Net
END:VEVENT
END:VCALENDAR