BEGIN:VCALENDAR
VERSION:2.0
PRODID:-//ARES - ECPv6.15.20//NONSGML v1.0//EN
CALSCALE:GREGORIAN
METHOD:PUBLISH
X-WR-CALNAME:ARES
X-ORIGINAL-URL:https://aresofmocotx.org
X-WR-CALDESC:Events for ARES
REFRESH-INTERVAL;VALUE=DURATION:PT1H
X-Robots-Tag:noindex
X-PUBLISHED-TTL:PT1H
BEGIN:VTIMEZONE
TZID:America/Chicago
BEGIN:DAYLIGHT
TZOFFSETFROM:-0600
TZOFFSETTO:-0500
TZNAME:CDT
DTSTART:20230312T080000
END:DAYLIGHT
BEGIN:STANDARD
TZOFFSETFROM:-0500
TZOFFSETTO:-0600
TZNAME:CST
DTSTART:20231105T070000
END:STANDARD
BEGIN:DAYLIGHT
TZOFFSETFROM:-0600
TZOFFSETTO:-0500
TZNAME:CDT
DTSTART:20240310T080000
END:DAYLIGHT
BEGIN:STANDARD
TZOFFSETFROM:-0500
TZOFFSETTO:-0600
TZNAME:CST
DTSTART:20241103T070000
END:STANDARD
BEGIN:DAYLIGHT
TZOFFSETFROM:-0600
TZOFFSETTO:-0500
TZNAME:CDT
DTSTART:20250309T080000
END:DAYLIGHT
BEGIN:STANDARD
TZOFFSETFROM:-0500
TZOFFSETTO:-0600
TZNAME:CST
DTSTART:20251102T070000
END:STANDARD
END:VTIMEZONE
BEGIN:VEVENT
DTSTART;TZID=America/Chicago:20241109T090000
DTEND;TZID=America/Chicago:20241109T153000
DTSTAMP:20260424T145522
CREATED:20241011T034932Z
LAST-MODIFIED:20241023T142614Z
UID:2431-1731142800-1731166200@aresofmocotx.org
SUMMARY:ARES Communications Trailer Rebuild
DESCRIPTION:We are continuing work on our ARES trailer. Your help would be greatly appreciated in cleanup\, maintenance\, and enhancement of our trailer. Work is planned for this Saturday at the Montgomery County Office of Emergency Management\, 9472 Airport Road in Conroe from 0900 hours (9:00 AM) to 1500 hours (3:00 PM) For more information\, please call Gerry Messerschmidt at 610-613-3882.
URL:https://aresofmocotx.org/event/ares-communications-trailer-cleanup-2/
LOCATION:Montgomery County Office of Emergency Management\, 9472 Airport Rd\, Conroe\, TX\, 77303\, United States
END:VEVENT
END:VCALENDAR