BEGIN:VCALENDAR
VERSION:2.0
PRODID:-//ARES - ECPv6.15.20//NONSGML v1.0//EN
CALSCALE:GREGORIAN
METHOD:PUBLISH
X-ORIGINAL-URL:https://aresofmocotx.org
X-WR-CALDESC:Events for ARES
REFRESH-INTERVAL;VALUE=DURATION:PT1H
X-Robots-Tag:noindex
X-PUBLISHED-TTL:PT1H
BEGIN:VTIMEZONE
TZID:America/Chicago
BEGIN:DAYLIGHT
TZOFFSETFROM:-0600
TZOFFSETTO:-0500
TZNAME:CDT
DTSTART:20240310T080000
END:DAYLIGHT
BEGIN:STANDARD
TZOFFSETFROM:-0500
TZOFFSETTO:-0600
TZNAME:CST
DTSTART:20241103T070000
END:STANDARD
BEGIN:DAYLIGHT
TZOFFSETFROM:-0600
TZOFFSETTO:-0500
TZNAME:CDT
DTSTART:20250309T080000
END:DAYLIGHT
BEGIN:STANDARD
TZOFFSETFROM:-0500
TZOFFSETTO:-0600
TZNAME:CST
DTSTART:20251102T070000
END:STANDARD
BEGIN:DAYLIGHT
TZOFFSETFROM:-0600
TZOFFSETTO:-0500
TZNAME:CDT
DTSTART:20260308T080000
END:DAYLIGHT
BEGIN:STANDARD
TZOFFSETFROM:-0500
TZOFFSETTO:-0600
TZNAME:CST
DTSTART:20261101T070000
END:STANDARD
END:VTIMEZONE
BEGIN:VEVENT
DTSTART;TZID=America/Chicago:20250413T070000
DTEND;TZID=America/Chicago:20250413T140000
DTSTAMP:20260424T070830
CREATED:20250226T231808Z
LAST-MODIFIED:20250302T145442Z
UID:3884-1744527600-1744552800@aresofmocotx.org
SUMMARY:Gran Fondo Texas bike ride
DESCRIPTION:Gran Fondo Ham Radio Operator Registration Form \nHam Radio Operators needed to support the Gran Fondo Texas bike ride.\nThere are 5 rest stops.  Each rest stop needs a radio operator to coordinate SAG support / pickup and medical need. Also relay rest stop needs to command center. \nThe ride starts at\nMontgomery High School\n22825 Texas 105 W\nMontgomery\, TX 77356 \nRest Stops\n31 Mile Route Rest Stops\n1st – Mile 12 on FM 149 @ Lone Star Trailhead\n2nd – Mile 19 on Bethel Rd. @ Lone Start Trailhead \n46 Mile Route Rest Stops\n1st – Mile 12 on FM 149 @ Lone Star Trailhead\n2nd – Mile 25 in Richards\n3rd – Mile 33 on Bethel Rd. @ Lone Start Trailhead \n60 Mile Route Rest Stops\n1st – Mile 12 on FM 149 @ Lone Star Trailhead\n2nd – Mile 25 in Richards\n3rd – Mile 39 in Richards\n5th – Mile 47 on Bethel Rd. @ Lone Start Trailhead \n74 Mile Route Rest Stops\n1st – Mile 12 on FM 149 @ Lone Star Trailhead\n2nd – Mile 25 in Richards\n3rd – Mile 36 in Anderson\n4th – Mile 54 in Richards\n5th – Mile 62 on Bethel Rd. @ Lone Start Trailhead \n96 Mile Route Rest Stops\n1st – Mile 12 on FM 149 @ Lone Star Trailhead\n2nd – Mile 25 in Richards\n3rd – Mile 36 in Anderson\n4th – Mile 50 on 3090 @ 244\n5th – Mile 58 in Anderson\n6th – Mile 17 in Richards\n7th – Mile  83 on Bethel Rd. @ Lone Start Trailhead
URL:https://aresofmocotx.org/event/gran-fondo-texas-bike-ride/
LOCATION:Gran Fondo Texas bike ride\, Montgomery High School\, 22825 Texas 105 W\, Montgomery\, TX\, 77356\, United States
END:VEVENT
END:VCALENDAR