BEGIN:VCALENDAR
VERSION:2.0
PRODID:-//ARES - ECPv6.15.20//NONSGML v1.0//EN
CALSCALE:GREGORIAN
METHOD:PUBLISH
X-WR-CALNAME:ARES
X-ORIGINAL-URL:https://aresofmocotx.org
X-WR-CALDESC:Events for ARES
REFRESH-INTERVAL;VALUE=DURATION:PT1H
X-Robots-Tag:noindex
X-PUBLISHED-TTL:PT1H
BEGIN:VTIMEZONE
TZID:America/Chicago
BEGIN:DAYLIGHT
TZOFFSETFROM:-0600
TZOFFSETTO:-0500
TZNAME:CDT
DTSTART:20250309T080000
END:DAYLIGHT
BEGIN:STANDARD
TZOFFSETFROM:-0500
TZOFFSETTO:-0600
TZNAME:CST
DTSTART:20251102T070000
END:STANDARD
BEGIN:DAYLIGHT
TZOFFSETFROM:-0600
TZOFFSETTO:-0500
TZNAME:CDT
DTSTART:20260308T080000
END:DAYLIGHT
BEGIN:STANDARD
TZOFFSETFROM:-0500
TZOFFSETTO:-0600
TZNAME:CST
DTSTART:20261101T070000
END:STANDARD
BEGIN:DAYLIGHT
TZOFFSETFROM:-0600
TZOFFSETTO:-0500
TZNAME:CDT
DTSTART:20270314T080000
END:DAYLIGHT
BEGIN:STANDARD
TZOFFSETFROM:-0500
TZOFFSETTO:-0600
TZNAME:CST
DTSTART:20271107T070000
END:STANDARD
END:VTIMEZONE
BEGIN:VEVENT
DTSTART;TZID=America/Chicago:20260127T200000
DTEND;TZID=America/Chicago:20260127T203000
DTSTAMP:20260423T154730
CREATED:20251231T202440Z
LAST-MODIFIED:20251231T213403Z
UID:5745-1769544000-1769545800@aresofmocotx.org
SUMMARY:ARES Tuesday Net
DESCRIPTION:Emergency Exercise Net starting at 2000 (8:00pm). We encourage all to please participate so that you are practiced in the net.  \nThose able to do so\, we encourage all to participate in BBS Packet\, Vara HF\, VARA FM\, Winlink Packet and Winlink Telnet.   \nSend your digital check ins prior to the voice net. \n\nPhone –  146.920 MHz – /203.5 (tone) Repeater\n\nDigital BBS Packet – 145.030 MHz Simplex – Send Bulletin to ALL connect to WA5EOC-1 v CONROE\n\nDigital Vara HF P2P  – Center Freq: 3.58850 MHz Send to N5KWN\n\nDigital Winlink VARA HF\, VARA FM\, Winlink Packet\, Winlink Telnet – Send to MCA-NET
URL:https://aresofmocotx.org/event/ares-tuesday-net-109/
CATEGORIES:ARES Net
END:VEVENT
END:VCALENDAR