BEGIN:VCALENDAR
VERSION:2.0
PRODID:-//ARES - ECPv6.15.20//NONSGML v1.0//EN
CALSCALE:GREGORIAN
METHOD:PUBLISH
X-ORIGINAL-URL:https://aresofmocotx.org
X-WR-CALDESC:Events for ARES
REFRESH-INTERVAL;VALUE=DURATION:PT1H
X-Robots-Tag:noindex
X-PUBLISHED-TTL:PT1H
BEGIN:VTIMEZONE
TZID:America/Chicago
BEGIN:DAYLIGHT
TZOFFSETFROM:-0600
TZOFFSETTO:-0500
TZNAME:CDT
DTSTART:20240310T080000
END:DAYLIGHT
BEGIN:STANDARD
TZOFFSETFROM:-0500
TZOFFSETTO:-0600
TZNAME:CST
DTSTART:20241103T070000
END:STANDARD
BEGIN:DAYLIGHT
TZOFFSETFROM:-0600
TZOFFSETTO:-0500
TZNAME:CDT
DTSTART:20250309T080000
END:DAYLIGHT
BEGIN:STANDARD
TZOFFSETFROM:-0500
TZOFFSETTO:-0600
TZNAME:CST
DTSTART:20251102T070000
END:STANDARD
BEGIN:DAYLIGHT
TZOFFSETFROM:-0600
TZOFFSETTO:-0500
TZNAME:CDT
DTSTART:20260308T080000
END:DAYLIGHT
BEGIN:STANDARD
TZOFFSETFROM:-0500
TZOFFSETTO:-0600
TZNAME:CST
DTSTART:20261101T070000
END:STANDARD
BEGIN:DAYLIGHT
TZOFFSETFROM:-0600
TZOFFSETTO:-0500
TZNAME:CDT
DTSTART:20270314T080000
END:DAYLIGHT
BEGIN:STANDARD
TZOFFSETFROM:-0500
TZOFFSETTO:-0600
TZNAME:CST
DTSTART:20271107T070000
END:STANDARD
END:VTIMEZONE
BEGIN:VEVENT
DTSTART;TZID=America/Chicago:20260409T193000
DTEND;TZID=America/Chicago:20260409T210000
DTSTAMP:20260423T161314
CREATED:20251231T195155Z
LAST-MODIFIED:20251231T214848Z
UID:5556-1775763000-1775768400@aresofmocotx.org
SUMMARY:ARES Meeting
DESCRIPTION:Meeting at 1930 (7:30pm) In Person Meeting
URL:https://aresofmocotx.org/event/ares-meeting-29/
LOCATION:The Woodlands Emergency Training Center\, 16135 IH 45 South\, The Woodlands\, 77385\, United States
CATEGORIES:ARES Meeting
END:VEVENT
BEGIN:VEVENT
DTSTART;TZID=America/Chicago:20260328T080000
DTEND;TZID=America/Chicago:20260328T093000
DTSTAMP:20260423T161314
CREATED:20251231T203544Z
LAST-MODIFIED:20251231T203544Z
UID:5800-1774684800-1774690200@aresofmocotx.org
SUMMARY:Ham Radio Operators Get Together Breakfast
DESCRIPTION:Ham Radio Operators Get Together Breakfast – 4th Saturday of each month.<br/Join other ham radio operators for breakfast at the Golden Corral. I-45 North East Feeder just north of HWY 105 Conroe\, TX.\nGet together around 8:00 AM. The Golden Corral does not open until 8:00 AM.  Good food\, great variety and lots of it. I will often just have coffee and conversation.
URL:https://aresofmocotx.org/event/ham-radio-operators-get-together-breakfast-19/
LOCATION:Ham Radio Operators Get Together Breakfast\, 1604 I-45\, Conroe\, TX\, 77301\, United States
CATEGORIES:ARES Meeting
END:VEVENT
BEGIN:VEVENT
DTSTART;TZID=America/Chicago:20260312T193000
DTEND;TZID=America/Chicago:20260312T210000
DTSTAMP:20260423T161314
CREATED:20251231T195155Z
LAST-MODIFIED:20251231T214848Z
UID:5555-1773343800-1773349200@aresofmocotx.org
SUMMARY:ARES Meeting
DESCRIPTION:Meeting at 1930 (7:30pm) In Person Meeting
URL:https://aresofmocotx.org/event/ares-meeting-28/
LOCATION:The Woodlands Emergency Training Center\, 16135 IH 45 South\, The Woodlands\, 77385\, United States
CATEGORIES:ARES Meeting
END:VEVENT
BEGIN:VEVENT
DTSTART;TZID=America/Chicago:20260228T080000
DTEND;TZID=America/Chicago:20260228T093000
DTSTAMP:20260423T161314
CREATED:20251231T203544Z
LAST-MODIFIED:20251231T203544Z
UID:5799-1772265600-1772271000@aresofmocotx.org
SUMMARY:Ham Radio Operators Get Together Breakfast
DESCRIPTION:Ham Radio Operators Get Together Breakfast – 4th Saturday of each month.<br/Join other ham radio operators for breakfast at the Golden Corral. I-45 North East Feeder just north of HWY 105 Conroe\, TX.\nGet together around 8:00 AM. The Golden Corral does not open until 8:00 AM.  Good food\, great variety and lots of it. I will often just have coffee and conversation.
URL:https://aresofmocotx.org/event/ham-radio-operators-get-together-breakfast-18/
LOCATION:Ham Radio Operators Get Together Breakfast\, 1604 I-45\, Conroe\, TX\, 77301\, United States
CATEGORIES:ARES Meeting
END:VEVENT
BEGIN:VEVENT
DTSTART;TZID=America/Chicago:20260212T193000
DTEND;TZID=America/Chicago:20260212T210000
DTSTAMP:20260423T161314
CREATED:20251231T195155Z
LAST-MODIFIED:20251231T214848Z
UID:5554-1770924600-1770930000@aresofmocotx.org
SUMMARY:ARES Meeting
DESCRIPTION:Meeting at 1930 (7:30pm) In Person Meeting
URL:https://aresofmocotx.org/event/ares-meeting-27/
LOCATION:The Woodlands Emergency Training Center\, 16135 IH 45 South\, The Woodlands\, 77385\, United States
CATEGORIES:ARES Meeting
END:VEVENT
BEGIN:VEVENT
DTSTART;TZID=America/Chicago:20260124T080000
DTEND;TZID=America/Chicago:20260124T093000
DTSTAMP:20260423T161314
CREATED:20251231T203544Z
LAST-MODIFIED:20251231T203544Z
UID:5798-1769241600-1769247000@aresofmocotx.org
SUMMARY:Ham Radio Operators Get Together Breakfast
DESCRIPTION:Ham Radio Operators Get Together Breakfast – 4th Saturday of each month. \nJoin other ham radio operators for breakfast at the Golden Corral. I-45 North East Feeder just north of HWY 105 Conroe\, TX.\nGet together around 8:00 AM. The Golden Corral does not open until 8:00 AM.  Good food\, great variety and lots of it. I will often just have coffee and conversation.
URL:https://aresofmocotx.org/event/ham-radio-operators-get-together-breakfast-17/
LOCATION:Ham Radio Operators Get Together Breakfast\, 1604 I-45\, Conroe\, TX\, 77301\, United States
CATEGORIES:ARES Meeting
END:VEVENT
BEGIN:VEVENT
DTSTART;TZID=America/Chicago:20260108T193000
DTEND;TZID=America/Chicago:20260108T210000
DTSTAMP:20260423T161314
CREATED:20251231T195154Z
LAST-MODIFIED:20251231T214847Z
UID:5553-1767900600-1767906000@aresofmocotx.org
SUMMARY:ARES Meeting
DESCRIPTION:Meeting at 1930 (7:30pm) In Person Meeting
URL:https://aresofmocotx.org/event/ares-meeting-26/
LOCATION:The Woodlands Emergency Training Center\, 16135 IH 45 South\, The Woodlands\, 77385\, United States
CATEGORIES:ARES Meeting
END:VEVENT
BEGIN:VEVENT
DTSTART;TZID=America/Chicago:20251227T080000
DTEND;TZID=America/Chicago:20251227T093000
DTSTAMP:20260423T161314
CREATED:20241231T211109Z
LAST-MODIFIED:20250319T124631Z
UID:2964-1766822400-1766827800@aresofmocotx.org
SUMMARY:Ham Radio Operators Get Together Breakfast
DESCRIPTION:Ham Radio Operators Get Together Breakfast – 4th Saturday of each month.\nJoin other ham radio operators for breakfast at the Golden Corral. I-45 North East Feeder just north of HWY 105 Conroe\, TX.\nGet together around 8:00 AM. The Golden Corral does not open until 8:00 AM. Good food\, great variety and lots of it. I will often just have coffee and conversation.
URL:https://aresofmocotx.org/event/ham-radio-operators-get-together-breakfast-16/
LOCATION:Ham Radio Operators Get Together Breakfast\, 1604 I-45\, Conroe\, TX\, 77301\, United States
CATEGORIES:ARES Meeting
END:VEVENT
BEGIN:VEVENT
DTSTART;TZID=America/Chicago:20251211T190000
DTEND;TZID=America/Chicago:20251211T210000
DTSTAMP:20260423T161314
CREATED:20241231T210954Z
LAST-MODIFIED:20251201T200808Z
UID:2951-1765479600-1765486800@aresofmocotx.org
SUMMARY:ARES Meeting - Christmas Get Together
DESCRIPTION:No Meeting \nSnacks\, Good Conversation
URL:https://aresofmocotx.org/event/ares-meeting-25/
LOCATION:The Woodlands Emergency Training Center\, 16135 IH 45 South\, The Woodlands\, 77385\, United States
CATEGORIES:ARES Meeting
END:VEVENT
BEGIN:VEVENT
DTSTART;TZID=America/Chicago:20251122T080000
DTEND;TZID=America/Chicago:20251122T093000
DTSTAMP:20260423T161314
CREATED:20241231T211109Z
LAST-MODIFIED:20250319T124600Z
UID:2963-1763798400-1763803800@aresofmocotx.org
SUMMARY:Ham Radio Operators Get Together Breakfast
DESCRIPTION:Ham Radio Operators Get Together Breakfast – 4th Saturday of each month.\nJoin other ham radio operators for breakfast at the Golden Corral. I-45 North East Feeder just north of HWY 105 Conroe\, TX.\nGet together around 8:00 AM. The Golden Corral does not open until 8:00 AM. Good food\, great variety and lots of it. I will often just have coffee and conversation.
URL:https://aresofmocotx.org/event/ham-radio-operators-get-together-breakfast-15/
LOCATION:Ham Radio Operators Get Together Breakfast\, 1604 I-45\, Conroe\, TX\, 77301\, United States
CATEGORIES:ARES Meeting
END:VEVENT
BEGIN:VEVENT
DTSTART;TZID=America/Chicago:20251113T193000
DTEND;TZID=America/Chicago:20251113T210000
DTSTAMP:20260423T161314
CREATED:20241231T210954Z
LAST-MODIFIED:20250105T204237Z
UID:2950-1763062200-1763067600@aresofmocotx.org
SUMMARY:ARES Meeting
DESCRIPTION:Meeting at 1930 (7:30pm) In Person Meeting
URL:https://aresofmocotx.org/event/ares-meeting-24/
LOCATION:The Woodlands Emergency Training Center\, 16135 IH 45 South\, The Woodlands\, 77385\, United States
CATEGORIES:ARES Meeting
END:VEVENT
BEGIN:VEVENT
DTSTART;TZID=America/Chicago:20251025T080000
DTEND;TZID=America/Chicago:20251025T093000
DTSTAMP:20260423T161314
CREATED:20241231T211108Z
LAST-MODIFIED:20250319T124522Z
UID:2962-1761379200-1761384600@aresofmocotx.org
SUMMARY:Ham Radio Operators Get Together Breakfast
DESCRIPTION:Ham Radio Operators Get Together Breakfast – 4th Saturday of each month.\nJoin other ham radio operators for breakfast at the Golden Corral. I-45 North East Feeder just north of HWY 105 Conroe\, TX.\nGet together around 8:00 AM. The Golden Corral does not open until 8:00 AM. Good food\, great variety and lots of it. I will often just have coffee and conversation.
URL:https://aresofmocotx.org/event/ham-radio-operators-get-together-breakfast-14/
LOCATION:Ham Radio Operators Get Together Breakfast\, 1604 I-45\, Conroe\, TX\, 77301\, United States
CATEGORIES:ARES Meeting
END:VEVENT
BEGIN:VEVENT
DTSTART;TZID=America/Chicago:20251009T193000
DTEND;TZID=America/Chicago:20251009T210000
DTSTAMP:20260423T161314
CREATED:20241231T210952Z
LAST-MODIFIED:20250105T204237Z
UID:2949-1760038200-1760043600@aresofmocotx.org
SUMMARY:ARES Meeting
DESCRIPTION:Meeting at 1930 (7:30pm) In Person Meeting
URL:https://aresofmocotx.org/event/ares-meeting-23/
LOCATION:The Woodlands Emergency Training Center\, 16135 IH 45 South\, The Woodlands\, 77385\, United States
CATEGORIES:ARES Meeting
END:VEVENT
BEGIN:VEVENT
DTSTART;TZID=America/Chicago:20250927T080000
DTEND;TZID=America/Chicago:20250927T093000
DTSTAMP:20260423T161314
CREATED:20241231T211055Z
LAST-MODIFIED:20250319T124450Z
UID:2961-1758960000-1758965400@aresofmocotx.org
SUMMARY:Ham Radio Operators Get Together Breakfast
DESCRIPTION:Ham Radio Operators Get Together Breakfast – 4th Saturday of each month.\nJoin other ham radio operators for breakfast at the Golden Corral. I-45 North East Feeder just north of HWY 105 Conroe\, TX.\nGet together around 8:00 AM. The Golden Corral does not open until 8:00 AM. Good food\, great variety and lots of it. I will often just have coffee and conversation.
URL:https://aresofmocotx.org/event/ham-radio-operators-get-together-breakfast-13/
LOCATION:Ham Radio Operators Get Together Breakfast\, 1604 I-45\, Conroe\, TX\, 77301\, United States
CATEGORIES:ARES Meeting
END:VEVENT
BEGIN:VEVENT
DTSTART;TZID=America/Chicago:20250911T193000
DTEND;TZID=America/Chicago:20250911T210000
DTSTAMP:20260423T161314
CREATED:20241231T210941Z
LAST-MODIFIED:20250105T204223Z
UID:2948-1757619000-1757624400@aresofmocotx.org
SUMMARY:ARES Meeting
DESCRIPTION:Meeting at 1930 (7:30pm) In Person Meeting
URL:https://aresofmocotx.org/event/ares-meeting-22/
LOCATION:The Woodlands Emergency Training Center\, 16135 IH 45 South\, The Woodlands\, 77385\, United States
CATEGORIES:ARES Meeting
END:VEVENT
BEGIN:VEVENT
DTSTART;TZID=America/Chicago:20250823T080000
DTEND;TZID=America/Chicago:20250823T093000
DTSTAMP:20260423T161314
CREATED:20241231T211055Z
LAST-MODIFIED:20250319T124414Z
UID:2960-1755936000-1755941400@aresofmocotx.org
SUMMARY:Ham Radio Operators Get Together Breakfast
DESCRIPTION:Ham Radio Operators Get Together Breakfast – 4th Saturday of each month.\nJoin other ham radio operators for breakfast at the Golden Corral. I-45 North East Feeder just north of HWY 105 Conroe\, TX.\nGet together around 8:00 AM. The Golden Corral does not open until 8:00 AM. Good food\, great variety and lots of it. I will often just have coffee and conversation.
URL:https://aresofmocotx.org/event/ham-radio-operators-get-together-breakfast-12/
LOCATION:Ham Radio Operators Get Together Breakfast\, 1604 I-45\, Conroe\, TX\, 77301\, United States
CATEGORIES:ARES Meeting
END:VEVENT
BEGIN:VEVENT
DTSTART;TZID=America/Chicago:20250814T193000
DTEND;TZID=America/Chicago:20250814T210000
DTSTAMP:20260423T161314
CREATED:20241231T210941Z
LAST-MODIFIED:20250105T204223Z
UID:2947-1755199800-1755205200@aresofmocotx.org
SUMMARY:ARES Meeting
DESCRIPTION:Meeting at 1930 (7:30pm) In Person Meeting
URL:https://aresofmocotx.org/event/ares-meeting-21/
LOCATION:The Woodlands Emergency Training Center\, 16135 IH 45 South\, The Woodlands\, 77385\, United States
CATEGORIES:ARES Meeting
END:VEVENT
BEGIN:VEVENT
DTSTART;TZID=America/Chicago:20250726T080000
DTEND;TZID=America/Chicago:20250726T093000
DTSTAMP:20260423T161314
CREATED:20241231T211055Z
LAST-MODIFIED:20250319T124330Z
UID:2959-1753516800-1753522200@aresofmocotx.org
SUMMARY:Ham Radio Operators Get Together Breakfast
DESCRIPTION:Ham Radio Operators Get Together Breakfast – 4th Saturday of each month.\nJoin other ham radio operators for breakfast at the Golden Corral. I-45 North East Feeder just north of HWY 105 Conroe\, TX.\nGet together around 8:00 AM. The Golden Corral does not open until 8:00 AM. Good food\, great variety and lots of it. I will often just have coffee and conversation.
URL:https://aresofmocotx.org/event/ham-radio-operators-get-together-breakfast-11/
LOCATION:Ham Radio Operators Get Together Breakfast\, 1604 I-45\, Conroe\, TX\, 77301\, United States
CATEGORIES:ARES Meeting
END:VEVENT
BEGIN:VEVENT
DTSTART;TZID=America/Chicago:20250710T193000
DTEND;TZID=America/Chicago:20250710T210000
DTSTAMP:20260423T161314
CREATED:20241231T210940Z
LAST-MODIFIED:20250105T204222Z
UID:2946-1752175800-1752181200@aresofmocotx.org
SUMMARY:ARES Meeting
DESCRIPTION:Meeting at 1930 (7:30pm) In Person Meeting
URL:https://aresofmocotx.org/event/ares-meeting-20/
LOCATION:The Woodlands Emergency Training Center\, 16135 IH 45 South\, The Woodlands\, 77385\, United States
CATEGORIES:ARES Meeting
END:VEVENT
BEGIN:VEVENT
DTSTART;TZID=America/Chicago:20250628T080000
DTEND;TZID=America/Chicago:20250628T093000
DTSTAMP:20260423T161314
CREATED:20241231T211054Z
LAST-MODIFIED:20250319T124247Z
UID:2958-1751097600-1751103000@aresofmocotx.org
SUMMARY:Ham Radio Operators Get Together Breakfast
DESCRIPTION:Ham Radio Operators Get Together Breakfast – 4th Saturday of each month.\nJoin other ham radio operators for breakfast at the Golden Corral. I-45 North East Feeder just north of HWY 105 Conroe\, TX.\nGet together around 8:00 AM. The Golden Corral does not open until 8:00 AM. Good food\, great variety and lots of it. I will often just have coffee and conversation.
URL:https://aresofmocotx.org/event/ham-radio-operators-get-together-breakfast-10/
LOCATION:Ham Radio Operators Get Together Breakfast\, 1604 I-45\, Conroe\, TX\, 77301\, United States
CATEGORIES:ARES Meeting
END:VEVENT
BEGIN:VEVENT
DTSTART;TZID=America/Chicago:20250612T193000
DTEND;TZID=America/Chicago:20250612T210000
DTSTAMP:20260423T161315
CREATED:20241231T210940Z
LAST-MODIFIED:20250105T204222Z
UID:2945-1749756600-1749762000@aresofmocotx.org
SUMMARY:ARES Meeting
DESCRIPTION:Meeting at 1930 (7:30pm) In Person Meeting
URL:https://aresofmocotx.org/event/ares-meeting-19/
LOCATION:The Woodlands Emergency Training Center\, 16135 IH 45 South\, The Woodlands\, 77385\, United States
CATEGORIES:ARES Meeting
END:VEVENT
BEGIN:VEVENT
DTSTART;TZID=America/Chicago:20250524T080000
DTEND;TZID=America/Chicago:20250524T093000
DTSTAMP:20260423T161315
CREATED:20241231T211053Z
LAST-MODIFIED:20250319T124205Z
UID:2957-1748073600-1748079000@aresofmocotx.org
SUMMARY:Ham Radio Operators Get Together Breakfast
DESCRIPTION:Ham Radio Operators Get Together Breakfast – 4th Saturday of each month.\nJoin other ham radio operators for breakfast at the Golden Corral. I-45 North East Feeder just north of HWY 105 Conroe\, TX.\nGet together around 8:00 AM. The Golden Corral does not open until 8:00 AM. Good food\, great variety and lots of it. I will often just have coffee and conversation.
URL:https://aresofmocotx.org/event/ham-radio-operators-get-together-breakfast-9/
LOCATION:Ham Radio Operators Get Together Breakfast\, 1604 I-45\, Conroe\, TX\, 77301\, United States
CATEGORIES:ARES Meeting
END:VEVENT
BEGIN:VEVENT
DTSTART;TZID=America/Chicago:20250508T193000
DTEND;TZID=America/Chicago:20250508T210000
DTSTAMP:20260423T161315
CREATED:20241231T210938Z
LAST-MODIFIED:20250105T204222Z
UID:2944-1746732600-1746738000@aresofmocotx.org
SUMMARY:ARES Meeting
DESCRIPTION:Meeting at 1930 (7:30pm) In Person Meeting
URL:https://aresofmocotx.org/event/ares-meeting-18/
LOCATION:The Woodlands Emergency Training Center\, 16135 IH 45 South\, The Woodlands\, 77385\, United States
CATEGORIES:ARES Meeting
END:VEVENT
BEGIN:VEVENT
DTSTART;TZID=America/Chicago:20250426T080000
DTEND;TZID=America/Chicago:20250426T093000
DTSTAMP:20260423T161315
CREATED:20241231T211048Z
LAST-MODIFIED:20250319T124130Z
UID:2956-1745654400-1745659800@aresofmocotx.org
SUMMARY:Ham Radio Operators Get Together Breakfast
DESCRIPTION:Ham Radio Operators Get Together Breakfast – 4th Saturday of each month.\nJoin other ham radio operators for breakfast at the Golden Corral. I-45 North East Feeder just north of HWY 105 Conroe\, TX.\nGet together around 8:00 AM. The Golden Corral does not open until 8:00 AM. Good food\, great variety and lots of it. I will often just have coffee and conversation.
URL:https://aresofmocotx.org/event/ham-radio-operators-get-together-breakfast-8/
LOCATION:Ham Radio Operators Get Together Breakfast\, 1604 I-45\, Conroe\, TX\, 77301\, United States
CATEGORIES:ARES Meeting
END:VEVENT
BEGIN:VEVENT
DTSTART;TZID=America/Chicago:20250410T193000
DTEND;TZID=America/Chicago:20250410T210000
DTSTAMP:20260423T161315
CREATED:20241231T210932Z
LAST-MODIFIED:20250402T103827Z
UID:2943-1744313400-1744318800@aresofmocotx.org
SUMMARY:ARES Meeting
DESCRIPTION:ARES Trailer will be at the meeting. \nTrailer Signing 1830 (6:30 PM) If you helped with updating the trailer come and sign your name on the trailer. \n  \nMeeting at 1930 (7:30 PM) In Person Meeting
URL:https://aresofmocotx.org/event/ares-meeting-17/
LOCATION:The Woodlands Emergency Training Center\, 16135 IH 45 South\, The Woodlands\, 77385\, United States
CATEGORIES:ARES Meeting
END:VEVENT
BEGIN:VEVENT
DTSTART;TZID=America/Chicago:20250322T080000
DTEND;TZID=America/Chicago:20250322T093000
DTSTAMP:20260423T161315
CREATED:20241231T211048Z
LAST-MODIFIED:20250319T124037Z
UID:2955-1742630400-1742635800@aresofmocotx.org
SUMMARY:Ham Radio Operators Get Together Breakfast
DESCRIPTION:Ham Radio Operators Get Together Breakfast – 4th Saturday of each month.\nJoin other ham radio operators for breakfast at the Golden Corral. I-45 North East Feeder just north of HWY 105 Conroe\, TX.\nGet together around 8:00 AM. The Golden Corral does not open until 8:00 AM. Good food\, great variety and lots of it. I will often just have coffee and conversation.
URL:https://aresofmocotx.org/event/ham-radio-operators-get-together-breakfast-7/
LOCATION:Ham Radio Operators Get Together Breakfast\, 1604 I-45\, Conroe\, TX\, 77301\, United States
CATEGORIES:ARES Meeting
END:VEVENT
BEGIN:VEVENT
DTSTART;TZID=America/Chicago:20250313T183000
DTEND;TZID=America/Chicago:20250313T210000
DTSTAMP:20260423T161315
CREATED:20241231T210931Z
LAST-MODIFIED:20250309T135035Z
UID:2942-1741890600-1741899600@aresofmocotx.org
SUMMARY:ARES Meeting
DESCRIPTION:Training at 1830 (6:30 PM)\nPresentations by\nArt Shaddix – Antennas\nPeter Belbin – Traccar \nMeeting at 1930 (7:30 PM) In Person Meeting
URL:https://aresofmocotx.org/event/ares-meeting-16/
LOCATION:The Woodlands Emergency Training Center\, 16135 IH 45 South\, The Woodlands\, 77385\, United States
CATEGORIES:ARES Meeting
END:VEVENT
BEGIN:VEVENT
DTSTART;TZID=America/Chicago:20250222T080000
DTEND;TZID=America/Chicago:20250222T093000
DTSTAMP:20260423T161315
CREATED:20241231T211048Z
LAST-MODIFIED:20250319T124716Z
UID:2954-1740211200-1740216600@aresofmocotx.org
SUMMARY:Ham Radio Operators Get Together Breakfast
DESCRIPTION:Ham Radio Operators Get Together Breakfast – 4th Saturday of each month.\nJoin other ham radio operators for breakfast at the Golden Corral. I-45 North East Feeder just north of HWY 105 Conroe\, TX.\nGet together around 8:00 AM. The Golden Corral does not open until 8:00 AM. Good food\, great variety and lots of it. I will often just have coffee and conversation.
URL:https://aresofmocotx.org/event/ham-radio-operators-get-together-breakfast-6/
LOCATION:Ham Radio Operators Get Together Breakfast\, 1604 I-45\, Conroe\, TX\, 77301\, United States
CATEGORIES:ARES Meeting
END:VEVENT
BEGIN:VEVENT
DTSTART;TZID=America/Chicago:20250213T193000
DTEND;TZID=America/Chicago:20250213T210000
DTSTAMP:20260423T161315
CREATED:20241231T210931Z
LAST-MODIFIED:20250110T104436Z
UID:2941-1739475000-1739480400@aresofmocotx.org
SUMMARY:ARES Meeting
DESCRIPTION:Presentation at 1830 (6:30 PM) Go Box – Art Shaddix \nMeeting at 1930 (7:30 PM) In Person Meeting
URL:https://aresofmocotx.org/event/ares-meeting-15/
LOCATION:The Woodlands Emergency Training Center\, 16135 IH 45 South\, The Woodlands\, 77385\, United States
CATEGORIES:ARES Meeting
END:VEVENT
BEGIN:VEVENT
DTSTART;TZID=America/Chicago:20250125T080000
DTEND;TZID=America/Chicago:20250125T093000
DTSTAMP:20260423T161315
CREATED:20241231T211047Z
LAST-MODIFIED:20250105T204324Z
UID:2953-1737792000-1737797400@aresofmocotx.org
SUMMARY:Ham Radio Operators Get Together Breakfast
DESCRIPTION:Ham Radio Operators Get Together Breakfast – 4th Saturday of each month. \nJoin other ham radio operators for breakfast at the Golden Corral. I-45 North East Feeder just north of HWY 105 Conroe\, TX.\nGet together around 8:00 AM. The Golden Corral does not open until 8:00 AM.  Good food\, great variety and lots of it. I will often just have coffee and conversation.
URL:https://aresofmocotx.org/event/ham-radio-operators-get-together-breakfast-3/
LOCATION:Ham Radio Operators Get Together Breakfast\, 1604 I-45\, Conroe\, TX\, 77301\, United States
CATEGORIES:ARES Meeting
END:VEVENT
END:VCALENDAR