BEGIN:VCALENDAR
VERSION:2.0
PRODID:-//ARES - ECPv6.15.20//NONSGML v1.0//EN
CALSCALE:GREGORIAN
METHOD:PUBLISH
X-ORIGINAL-URL:https://aresofmocotx.org
X-WR-CALDESC:Events for ARES
REFRESH-INTERVAL;VALUE=DURATION:PT1H
X-Robots-Tag:noindex
X-PUBLISHED-TTL:PT1H
BEGIN:VTIMEZONE
TZID:America/Chicago
BEGIN:DAYLIGHT
TZOFFSETFROM:-0600
TZOFFSETTO:-0500
TZNAME:CDT
DTSTART:20240310T080000
END:DAYLIGHT
BEGIN:STANDARD
TZOFFSETFROM:-0500
TZOFFSETTO:-0600
TZNAME:CST
DTSTART:20241103T070000
END:STANDARD
BEGIN:DAYLIGHT
TZOFFSETFROM:-0600
TZOFFSETTO:-0500
TZNAME:CDT
DTSTART:20250309T080000
END:DAYLIGHT
BEGIN:STANDARD
TZOFFSETFROM:-0500
TZOFFSETTO:-0600
TZNAME:CST
DTSTART:20251102T070000
END:STANDARD
BEGIN:DAYLIGHT
TZOFFSETFROM:-0600
TZOFFSETTO:-0500
TZNAME:CDT
DTSTART:20260308T080000
END:DAYLIGHT
BEGIN:STANDARD
TZOFFSETFROM:-0500
TZOFFSETTO:-0600
TZNAME:CST
DTSTART:20261101T070000
END:STANDARD
BEGIN:DAYLIGHT
TZOFFSETFROM:-0600
TZOFFSETTO:-0500
TZNAME:CDT
DTSTART:20270314T080000
END:DAYLIGHT
BEGIN:STANDARD
TZOFFSETFROM:-0500
TZOFFSETTO:-0600
TZNAME:CST
DTSTART:20271107T070000
END:STANDARD
END:VTIMEZONE
BEGIN:VEVENT
DTSTART;TZID=America/Chicago:20251113T193000
DTEND;TZID=America/Chicago:20251113T210000
DTSTAMP:20260424T091312
CREATED:20241231T210954Z
LAST-MODIFIED:20250105T204237Z
UID:2950-1763062200-1763067600@aresofmocotx.org
SUMMARY:ARES Meeting
DESCRIPTION:Meeting at 1930 (7:30pm) In Person Meeting
URL:https://aresofmocotx.org/event/ares-meeting-24/
LOCATION:The Woodlands Emergency Training Center\, 16135 IH 45 South\, The Woodlands\, 77385\, United States
CATEGORIES:ARES Meeting
END:VEVENT
BEGIN:VEVENT
DTSTART;TZID=America/Chicago:20251122T080000
DTEND;TZID=America/Chicago:20251122T093000
DTSTAMP:20260424T091312
CREATED:20241231T211109Z
LAST-MODIFIED:20250319T124600Z
UID:2963-1763798400-1763803800@aresofmocotx.org
SUMMARY:Ham Radio Operators Get Together Breakfast
DESCRIPTION:Ham Radio Operators Get Together Breakfast – 4th Saturday of each month.\nJoin other ham radio operators for breakfast at the Golden Corral. I-45 North East Feeder just north of HWY 105 Conroe\, TX.\nGet together around 8:00 AM. The Golden Corral does not open until 8:00 AM. Good food\, great variety and lots of it. I will often just have coffee and conversation.
URL:https://aresofmocotx.org/event/ham-radio-operators-get-together-breakfast-15/
LOCATION:Ham Radio Operators Get Together Breakfast\, 1604 I-45\, Conroe\, TX\, 77301\, United States
CATEGORIES:ARES Meeting
END:VEVENT
BEGIN:VEVENT
DTSTART;TZID=America/Chicago:20251211T190000
DTEND;TZID=America/Chicago:20251211T210000
DTSTAMP:20260424T091312
CREATED:20241231T210954Z
LAST-MODIFIED:20251201T200808Z
UID:2951-1765479600-1765486800@aresofmocotx.org
SUMMARY:ARES Meeting - Christmas Get Together
DESCRIPTION:No Meeting \nSnacks\, Good Conversation
URL:https://aresofmocotx.org/event/ares-meeting-25/
LOCATION:The Woodlands Emergency Training Center\, 16135 IH 45 South\, The Woodlands\, 77385\, United States
CATEGORIES:ARES Meeting
END:VEVENT
BEGIN:VEVENT
DTSTART;TZID=America/Chicago:20251227T080000
DTEND;TZID=America/Chicago:20251227T093000
DTSTAMP:20260424T091312
CREATED:20241231T211109Z
LAST-MODIFIED:20250319T124631Z
UID:2964-1766822400-1766827800@aresofmocotx.org
SUMMARY:Ham Radio Operators Get Together Breakfast
DESCRIPTION:Ham Radio Operators Get Together Breakfast – 4th Saturday of each month.\nJoin other ham radio operators for breakfast at the Golden Corral. I-45 North East Feeder just north of HWY 105 Conroe\, TX.\nGet together around 8:00 AM. The Golden Corral does not open until 8:00 AM. Good food\, great variety and lots of it. I will often just have coffee and conversation.
URL:https://aresofmocotx.org/event/ham-radio-operators-get-together-breakfast-16/
LOCATION:Ham Radio Operators Get Together Breakfast\, 1604 I-45\, Conroe\, TX\, 77301\, United States
CATEGORIES:ARES Meeting
END:VEVENT
BEGIN:VEVENT
DTSTART;TZID=America/Chicago:20260108T193000
DTEND;TZID=America/Chicago:20260108T210000
DTSTAMP:20260424T091312
CREATED:20251231T195154Z
LAST-MODIFIED:20251231T214847Z
UID:5553-1767900600-1767906000@aresofmocotx.org
SUMMARY:ARES Meeting
DESCRIPTION:Meeting at 1930 (7:30pm) In Person Meeting
URL:https://aresofmocotx.org/event/ares-meeting-26/
LOCATION:The Woodlands Emergency Training Center\, 16135 IH 45 South\, The Woodlands\, 77385\, United States
CATEGORIES:ARES Meeting
END:VEVENT
BEGIN:VEVENT
DTSTART;TZID=America/Chicago:20260124T080000
DTEND;TZID=America/Chicago:20260124T093000
DTSTAMP:20260424T091312
CREATED:20251231T203544Z
LAST-MODIFIED:20251231T203544Z
UID:5798-1769241600-1769247000@aresofmocotx.org
SUMMARY:Ham Radio Operators Get Together Breakfast
DESCRIPTION:Ham Radio Operators Get Together Breakfast – 4th Saturday of each month. \nJoin other ham radio operators for breakfast at the Golden Corral. I-45 North East Feeder just north of HWY 105 Conroe\, TX.\nGet together around 8:00 AM. The Golden Corral does not open until 8:00 AM.  Good food\, great variety and lots of it. I will often just have coffee and conversation.
URL:https://aresofmocotx.org/event/ham-radio-operators-get-together-breakfast-17/
LOCATION:Ham Radio Operators Get Together Breakfast\, 1604 I-45\, Conroe\, TX\, 77301\, United States
CATEGORIES:ARES Meeting
END:VEVENT
BEGIN:VEVENT
DTSTART;TZID=America/Chicago:20260212T193000
DTEND;TZID=America/Chicago:20260212T210000
DTSTAMP:20260424T091312
CREATED:20251231T195155Z
LAST-MODIFIED:20251231T214848Z
UID:5554-1770924600-1770930000@aresofmocotx.org
SUMMARY:ARES Meeting
DESCRIPTION:Meeting at 1930 (7:30pm) In Person Meeting
URL:https://aresofmocotx.org/event/ares-meeting-27/
LOCATION:The Woodlands Emergency Training Center\, 16135 IH 45 South\, The Woodlands\, 77385\, United States
CATEGORIES:ARES Meeting
END:VEVENT
BEGIN:VEVENT
DTSTART;TZID=America/Chicago:20260228T080000
DTEND;TZID=America/Chicago:20260228T093000
DTSTAMP:20260424T091312
CREATED:20251231T203544Z
LAST-MODIFIED:20251231T203544Z
UID:5799-1772265600-1772271000@aresofmocotx.org
SUMMARY:Ham Radio Operators Get Together Breakfast
DESCRIPTION:Ham Radio Operators Get Together Breakfast – 4th Saturday of each month.<br/Join other ham radio operators for breakfast at the Golden Corral. I-45 North East Feeder just north of HWY 105 Conroe\, TX.\nGet together around 8:00 AM. The Golden Corral does not open until 8:00 AM.  Good food\, great variety and lots of it. I will often just have coffee and conversation.
URL:https://aresofmocotx.org/event/ham-radio-operators-get-together-breakfast-18/
LOCATION:Ham Radio Operators Get Together Breakfast\, 1604 I-45\, Conroe\, TX\, 77301\, United States
CATEGORIES:ARES Meeting
END:VEVENT
BEGIN:VEVENT
DTSTART;TZID=America/Chicago:20260312T193000
DTEND;TZID=America/Chicago:20260312T210000
DTSTAMP:20260424T091312
CREATED:20251231T195155Z
LAST-MODIFIED:20251231T214848Z
UID:5555-1773343800-1773349200@aresofmocotx.org
SUMMARY:ARES Meeting
DESCRIPTION:Meeting at 1930 (7:30pm) In Person Meeting
URL:https://aresofmocotx.org/event/ares-meeting-28/
LOCATION:The Woodlands Emergency Training Center\, 16135 IH 45 South\, The Woodlands\, 77385\, United States
CATEGORIES:ARES Meeting
END:VEVENT
BEGIN:VEVENT
DTSTART;TZID=America/Chicago:20260328T080000
DTEND;TZID=America/Chicago:20260328T093000
DTSTAMP:20260424T091312
CREATED:20251231T203544Z
LAST-MODIFIED:20251231T203544Z
UID:5800-1774684800-1774690200@aresofmocotx.org
SUMMARY:Ham Radio Operators Get Together Breakfast
DESCRIPTION:Ham Radio Operators Get Together Breakfast – 4th Saturday of each month.<br/Join other ham radio operators for breakfast at the Golden Corral. I-45 North East Feeder just north of HWY 105 Conroe\, TX.\nGet together around 8:00 AM. The Golden Corral does not open until 8:00 AM.  Good food\, great variety and lots of it. I will often just have coffee and conversation.
URL:https://aresofmocotx.org/event/ham-radio-operators-get-together-breakfast-19/
LOCATION:Ham Radio Operators Get Together Breakfast\, 1604 I-45\, Conroe\, TX\, 77301\, United States
CATEGORIES:ARES Meeting
END:VEVENT
BEGIN:VEVENT
DTSTART;TZID=America/Chicago:20260409T193000
DTEND;TZID=America/Chicago:20260409T210000
DTSTAMP:20260424T091312
CREATED:20251231T195155Z
LAST-MODIFIED:20251231T214848Z
UID:5556-1775763000-1775768400@aresofmocotx.org
SUMMARY:ARES Meeting
DESCRIPTION:Meeting at 1930 (7:30pm) In Person Meeting
URL:https://aresofmocotx.org/event/ares-meeting-29/
LOCATION:The Woodlands Emergency Training Center\, 16135 IH 45 South\, The Woodlands\, 77385\, United States
CATEGORIES:ARES Meeting
END:VEVENT
BEGIN:VEVENT
DTSTART;TZID=America/Chicago:20260425T080000
DTEND;TZID=America/Chicago:20260425T093000
DTSTAMP:20260424T091312
CREATED:20251231T203544Z
LAST-MODIFIED:20251231T203544Z
UID:5801-1777104000-1777109400@aresofmocotx.org
SUMMARY:Ham Radio Operators Get Together Breakfast
DESCRIPTION:Ham Radio Operators Get Together Breakfast – 4th Saturday of each month.<br/Join other ham radio operators for breakfast at the Golden Corral. I-45 North East Feeder just north of HWY 105 Conroe\, TX.\nGet together around 8:00 AM. The Golden Corral does not open until 8:00 AM.  Good food\, great variety and lots of it. I will often just have coffee and conversation.
URL:https://aresofmocotx.org/event/ham-radio-operators-get-together-breakfast-20/
LOCATION:Ham Radio Operators Get Together Breakfast\, 1604 I-45\, Conroe\, TX\, 77301\, United States
CATEGORIES:ARES Meeting
END:VEVENT
BEGIN:VEVENT
DTSTART;TZID=America/Chicago:20260514T193000
DTEND;TZID=America/Chicago:20260514T210000
DTSTAMP:20260424T091312
CREATED:20251231T195156Z
LAST-MODIFIED:20251231T214849Z
UID:5557-1778787000-1778792400@aresofmocotx.org
SUMMARY:ARES Meeting
DESCRIPTION:Meeting at 1930 (7:30pm) In Person Meeting
URL:https://aresofmocotx.org/event/ares-meeting-30/
LOCATION:The Woodlands Emergency Training Center\, 16135 IH 45 South\, The Woodlands\, 77385\, United States
CATEGORIES:ARES Meeting
END:VEVENT
BEGIN:VEVENT
DTSTART;TZID=America/Chicago:20260523T080000
DTEND;TZID=America/Chicago:20260523T093000
DTSTAMP:20260424T091312
CREATED:20251231T203546Z
LAST-MODIFIED:20251231T203546Z
UID:5802-1779523200-1779528600@aresofmocotx.org
SUMMARY:Ham Radio Operators Get Together Breakfast
DESCRIPTION:Ham Radio Operators Get Together Breakfast – 4th Saturday of each month.<br/Join other ham radio operators for breakfast at the Golden Corral. I-45 North East Feeder just north of HWY 105 Conroe\, TX.\nGet together around 8:00 AM. The Golden Corral does not open until 8:00 AM.  Good food\, great variety and lots of it. I will often just have coffee and conversation.
URL:https://aresofmocotx.org/event/ham-radio-operators-get-together-breakfast-21/
LOCATION:Ham Radio Operators Get Together Breakfast\, 1604 I-45\, Conroe\, TX\, 77301\, United States
CATEGORIES:ARES Meeting
END:VEVENT
BEGIN:VEVENT
DTSTART;TZID=America/Chicago:20260611T193000
DTEND;TZID=America/Chicago:20260611T210000
DTSTAMP:20260424T091312
CREATED:20251231T195156Z
LAST-MODIFIED:20251231T214849Z
UID:5558-1781206200-1781211600@aresofmocotx.org
SUMMARY:ARES Meeting
DESCRIPTION:Meeting at 1930 (7:30pm) In Person Meeting
URL:https://aresofmocotx.org/event/ares-meeting-31/
LOCATION:The Woodlands Emergency Training Center\, 16135 IH 45 South\, The Woodlands\, 77385\, United States
CATEGORIES:ARES Meeting
END:VEVENT
BEGIN:VEVENT
DTSTART;TZID=America/Chicago:20260627T080000
DTEND;TZID=America/Chicago:20260627T093000
DTSTAMP:20260424T091312
CREATED:20251231T203546Z
LAST-MODIFIED:20251231T203546Z
UID:5803-1782547200-1782552600@aresofmocotx.org
SUMMARY:Ham Radio Operators Get Together Breakfast
DESCRIPTION:Ham Radio Operators Get Together Breakfast – 4th Saturday of each month.<br/Join other ham radio operators for breakfast at the Golden Corral. I-45 North East Feeder just north of HWY 105 Conroe\, TX.\nGet together around 8:00 AM. The Golden Corral does not open until 8:00 AM.  Good food\, great variety and lots of it. I will often just have coffee and conversation.
URL:https://aresofmocotx.org/event/ham-radio-operators-get-together-breakfast-22/
LOCATION:Ham Radio Operators Get Together Breakfast\, 1604 I-45\, Conroe\, TX\, 77301\, United States
CATEGORIES:ARES Meeting
END:VEVENT
BEGIN:VEVENT
DTSTART;TZID=America/Chicago:20260709T193000
DTEND;TZID=America/Chicago:20260709T210000
DTSTAMP:20260424T091312
CREATED:20251231T195156Z
LAST-MODIFIED:20251231T214849Z
UID:5559-1783625400-1783630800@aresofmocotx.org
SUMMARY:ARES Meeting
DESCRIPTION:Meeting at 1930 (7:30pm) In Person Meeting
URL:https://aresofmocotx.org/event/ares-meeting-32/
LOCATION:The Woodlands Emergency Training Center\, 16135 IH 45 South\, The Woodlands\, 77385\, United States
CATEGORIES:ARES Meeting
END:VEVENT
BEGIN:VEVENT
DTSTART;TZID=America/Chicago:20260725T080000
DTEND;TZID=America/Chicago:20260725T093000
DTSTAMP:20260424T091312
CREATED:20251231T203546Z
LAST-MODIFIED:20251231T203546Z
UID:5804-1784966400-1784971800@aresofmocotx.org
SUMMARY:Ham Radio Operators Get Together Breakfast
DESCRIPTION:Ham Radio Operators Get Together Breakfast – 4th Saturday of each month.<br/Join other ham radio operators for breakfast at the Golden Corral. I-45 North East Feeder just north of HWY 105 Conroe\, TX.\nGet together around 8:00 AM. The Golden Corral does not open until 8:00 AM.  Good food\, great variety and lots of it. I will often just have coffee and conversation.
URL:https://aresofmocotx.org/event/ham-radio-operators-get-together-breakfast-23/
LOCATION:Ham Radio Operators Get Together Breakfast\, 1604 I-45\, Conroe\, TX\, 77301\, United States
CATEGORIES:ARES Meeting
END:VEVENT
BEGIN:VEVENT
DTSTART;TZID=America/Chicago:20260812T193000
DTEND;TZID=America/Chicago:20260812T210000
DTSTAMP:20260424T091312
CREATED:20251231T195157Z
LAST-MODIFIED:20251231T214849Z
UID:5560-1786563000-1786568400@aresofmocotx.org
SUMMARY:ARES Meeting
DESCRIPTION:Meeting at 1930 (7:30pm) In Person Meeting
URL:https://aresofmocotx.org/event/ares-meeting-33/
LOCATION:The Woodlands Emergency Training Center\, 16135 IH 45 South\, The Woodlands\, 77385\, United States
CATEGORIES:ARES Meeting
END:VEVENT
BEGIN:VEVENT
DTSTART;TZID=America/Chicago:20260822T080000
DTEND;TZID=America/Chicago:20260822T093000
DTSTAMP:20260424T091312
CREATED:20251231T203546Z
LAST-MODIFIED:20251231T203546Z
UID:5805-1787385600-1787391000@aresofmocotx.org
SUMMARY:Ham Radio Operators Get Together Breakfast
DESCRIPTION:Ham Radio Operators Get Together Breakfast – 4th Saturday of each month.<br/Join other ham radio operators for breakfast at the Golden Corral. I-45 North East Feeder just north of HWY 105 Conroe\, TX.\nGet together around 8:00 AM. The Golden Corral does not open until 8:00 AM.  Good food\, great variety and lots of it. I will often just have coffee and conversation.
URL:https://aresofmocotx.org/event/ham-radio-operators-get-together-breakfast-24/
LOCATION:Ham Radio Operators Get Together Breakfast\, 1604 I-45\, Conroe\, TX\, 77301\, United States
CATEGORIES:ARES Meeting
END:VEVENT
BEGIN:VEVENT
DTSTART;TZID=America/Chicago:20260910T193000
DTEND;TZID=America/Chicago:20260910T210000
DTSTAMP:20260424T091312
CREATED:20251231T195157Z
LAST-MODIFIED:20251231T214849Z
UID:5561-1789068600-1789074000@aresofmocotx.org
SUMMARY:ARES Meeting
DESCRIPTION:Meeting at 1930 (7:30pm) In Person Meeting
URL:https://aresofmocotx.org/event/ares-meeting-34/
LOCATION:The Woodlands Emergency Training Center\, 16135 IH 45 South\, The Woodlands\, 77385\, United States
CATEGORIES:ARES Meeting
END:VEVENT
BEGIN:VEVENT
DTSTART;TZID=America/Chicago:20260926T080000
DTEND;TZID=America/Chicago:20260926T093000
DTSTAMP:20260424T091312
CREATED:20251231T203546Z
LAST-MODIFIED:20251231T203546Z
UID:5806-1790409600-1790415000@aresofmocotx.org
SUMMARY:Ham Radio Operators Get Together Breakfast
DESCRIPTION:Ham Radio Operators Get Together Breakfast – 4th Saturday of each month.<br/Join other ham radio operators for breakfast at the Golden Corral. I-45 North East Feeder just north of HWY 105 Conroe\, TX.\nGet together around 8:00 AM. The Golden Corral does not open until 8:00 AM.  Good food\, great variety and lots of it. I will often just have coffee and conversation.
URL:https://aresofmocotx.org/event/ham-radio-operators-get-together-breakfast-25/
LOCATION:Ham Radio Operators Get Together Breakfast\, 1604 I-45\, Conroe\, TX\, 77301\, United States
CATEGORIES:ARES Meeting
END:VEVENT
BEGIN:VEVENT
DTSTART;TZID=America/Chicago:20261008T193000
DTEND;TZID=America/Chicago:20261008T210000
DTSTAMP:20260424T091312
CREATED:20251231T195157Z
LAST-MODIFIED:20251231T214904Z
UID:5562-1791487800-1791493200@aresofmocotx.org
SUMMARY:ARES Meeting
DESCRIPTION:Meeting at 1930 (7:30pm) In Person Meeting
URL:https://aresofmocotx.org/event/ares-meeting-35/
LOCATION:The Woodlands Emergency Training Center\, 16135 IH 45 South\, The Woodlands\, 77385\, United States
CATEGORIES:ARES Meeting
END:VEVENT
BEGIN:VEVENT
DTSTART;TZID=America/Chicago:20261024T080000
DTEND;TZID=America/Chicago:20261024T093000
DTSTAMP:20260424T091312
CREATED:20251231T203601Z
LAST-MODIFIED:20251231T203601Z
UID:5807-1792828800-1792834200@aresofmocotx.org
SUMMARY:Ham Radio Operators Get Together Breakfast
DESCRIPTION:Ham Radio Operators Get Together Breakfast – 4th Saturday of each month.<br/Join other ham radio operators for breakfast at the Golden Corral. I-45 North East Feeder just north of HWY 105 Conroe\, TX.\nGet together around 8:00 AM. The Golden Corral does not open until 8:00 AM.  Good food\, great variety and lots of it. I will often just have coffee and conversation.
URL:https://aresofmocotx.org/event/ham-radio-operators-get-together-breakfast-26/
LOCATION:Ham Radio Operators Get Together Breakfast\, 1604 I-45\, Conroe\, TX\, 77301\, United States
CATEGORIES:ARES Meeting
END:VEVENT
BEGIN:VEVENT
DTSTART;TZID=America/Chicago:20261112T193000
DTEND;TZID=America/Chicago:20261112T210000
DTSTAMP:20260424T091312
CREATED:20251231T195157Z
LAST-MODIFIED:20251231T214904Z
UID:5563-1794511800-1794517200@aresofmocotx.org
SUMMARY:ARES Meeting
DESCRIPTION:Meeting at 1930 (7:30pm) In Person Meeting
URL:https://aresofmocotx.org/event/ares-meeting-36/
LOCATION:The Woodlands Emergency Training Center\, 16135 IH 45 South\, The Woodlands\, 77385\, United States
CATEGORIES:ARES Meeting
END:VEVENT
BEGIN:VEVENT
DTSTART;TZID=America/Chicago:20261128T080000
DTEND;TZID=America/Chicago:20261128T093000
DTSTAMP:20260424T091312
CREATED:20251231T203601Z
LAST-MODIFIED:20251231T203601Z
UID:5808-1795852800-1795858200@aresofmocotx.org
SUMMARY:Ham Radio Operators Get Together Breakfast
DESCRIPTION:Ham Radio Operators Get Together Breakfast – 4th Saturday of each month.<br/Join other ham radio operators for breakfast at the Golden Corral. I-45 North East Feeder just north of HWY 105 Conroe\, TX.\nGet together around 8:00 AM. The Golden Corral does not open until 8:00 AM.  Good food\, great variety and lots of it. I will often just have coffee and conversation.
URL:https://aresofmocotx.org/event/ham-radio-operators-get-together-breakfast-27/
LOCATION:Ham Radio Operators Get Together Breakfast\, 1604 I-45\, Conroe\, TX\, 77301\, United States
CATEGORIES:ARES Meeting
END:VEVENT
BEGIN:VEVENT
DTSTART;TZID=America/Chicago:20261210T193000
DTEND;TZID=America/Chicago:20261210T210000
DTSTAMP:20260424T091312
CREATED:20251231T195157Z
LAST-MODIFIED:20251231T214904Z
UID:5564-1796931000-1796936400@aresofmocotx.org
SUMMARY:ARES Meeting
DESCRIPTION:Meeting at 1930 (7:30pm) In Person Meeting
URL:https://aresofmocotx.org/event/ares-meeting-37/
LOCATION:The Woodlands Emergency Training Center\, 16135 IH 45 South\, The Woodlands\, 77385\, United States
CATEGORIES:ARES Meeting
END:VEVENT
BEGIN:VEVENT
DTSTART;TZID=America/Chicago:20261226T080000
DTEND;TZID=America/Chicago:20261226T093000
DTSTAMP:20260424T091312
CREATED:20251231T203602Z
LAST-MODIFIED:20251231T203602Z
UID:5809-1798272000-1798277400@aresofmocotx.org
SUMMARY:Ham Radio Operators Get Together Breakfast
DESCRIPTION:Ham Radio Operators Get Together Breakfast – 4th Saturday of each month.<br/Join other ham radio operators for breakfast at the Golden Corral. I-45 North East Feeder just north of HWY 105 Conroe\, TX.\nGet together around 8:00 AM. The Golden Corral does not open until 8:00 AM.  Good food\, great variety and lots of it. I will often just have coffee and conversation.
URL:https://aresofmocotx.org/event/ham-radio-operators-get-together-breakfast-28/
LOCATION:Ham Radio Operators Get Together Breakfast\, 1604 I-45\, Conroe\, TX\, 77301\, United States
CATEGORIES:ARES Meeting
END:VEVENT
END:VCALENDAR