BEGIN:VCALENDAR
VERSION:2.0
PRODID:-//ARES - ECPv6.15.20//NONSGML v1.0//EN
CALSCALE:GREGORIAN
METHOD:PUBLISH
X-ORIGINAL-URL:https://aresofmocotx.org
X-WR-CALDESC:Events for ARES
REFRESH-INTERVAL;VALUE=DURATION:PT1H
X-Robots-Tag:noindex
X-PUBLISHED-TTL:PT1H
BEGIN:VTIMEZONE
TZID:America/Chicago
BEGIN:DAYLIGHT
TZOFFSETFROM:-0600
TZOFFSETTO:-0500
TZNAME:CDT
DTSTART:20230312T080000
END:DAYLIGHT
BEGIN:STANDARD
TZOFFSETFROM:-0500
TZOFFSETTO:-0600
TZNAME:CST
DTSTART:20231105T070000
END:STANDARD
BEGIN:DAYLIGHT
TZOFFSETFROM:-0600
TZOFFSETTO:-0500
TZNAME:CDT
DTSTART:20240310T080000
END:DAYLIGHT
BEGIN:STANDARD
TZOFFSETFROM:-0500
TZOFFSETTO:-0600
TZNAME:CST
DTSTART:20241103T070000
END:STANDARD
BEGIN:DAYLIGHT
TZOFFSETFROM:-0600
TZOFFSETTO:-0500
TZNAME:CDT
DTSTART:20250309T080000
END:DAYLIGHT
BEGIN:STANDARD
TZOFFSETFROM:-0500
TZOFFSETTO:-0600
TZNAME:CST
DTSTART:20251102T070000
END:STANDARD
END:VTIMEZONE
BEGIN:VEVENT
DTSTART;TZID=America/Chicago:20240422T193000
DTEND;TZID=America/Chicago:20240422T200000
DTSTAMP:20260425T053454
CREATED:20240202T150044Z
LAST-MODIFIED:20240404T201634Z
UID:1138-1713814200-1713816000@aresofmocotx.org
SUMMARY:ARES Monday HF Net
DESCRIPTION:ARES HF Net on 3.873 MHz starting at 1930 (7:30pm).  When checking in\, we are in District 1.  You can also check in digitally using TXARES-HF on hf radio only.  No telnet.
URL:https://aresofmocotx.org/event/ares-monday-hf-net-17/
LOCATION:ARES Monday HF Net\, 3.873 MHz\, United States
CATEGORIES:ARES Net
END:VEVENT
BEGIN:VEVENT
DTSTART;TZID=America/Chicago:20240422T200000
DTEND;TZID=America/Chicago:20240422T203000
DTSTAMP:20260425T053454
CREATED:20240202T150329Z
LAST-MODIFIED:20240404T201920Z
UID:1191-1713816000-1713817800@aresofmocotx.org
SUMMARY:ARES Monday VHF Net
DESCRIPTION:VHF Net at 2000\, (8:00pm)\, on 147.140 MHz/136.5 (tone) Repeater)
URL:https://aresofmocotx.org/event/ares-monday-vhf-net-17/
LOCATION:ARES Monday VHF Net\, 147.14 MHz +/136.5(tone) Repeater\, Conroe\, United States
CATEGORIES:ARES Net
END:VEVENT
END:VCALENDAR