BEGIN:VCALENDAR
VERSION:2.0
PRODID:-//ARES - ECPv6.15.20//NONSGML v1.0//EN
CALSCALE:GREGORIAN
METHOD:PUBLISH
X-WR-CALNAME:ARES
X-ORIGINAL-URL:https://aresofmocotx.org
X-WR-CALDESC:Events for ARES
REFRESH-INTERVAL;VALUE=DURATION:PT1H
X-Robots-Tag:noindex
X-PUBLISHED-TTL:PT1H
BEGIN:VTIMEZONE
TZID:America/Chicago
BEGIN:DAYLIGHT
TZOFFSETFROM:-0600
TZOFFSETTO:-0500
TZNAME:CDT
DTSTART:20230312T080000
END:DAYLIGHT
BEGIN:STANDARD
TZOFFSETFROM:-0500
TZOFFSETTO:-0600
TZNAME:CST
DTSTART:20231105T070000
END:STANDARD
BEGIN:DAYLIGHT
TZOFFSETFROM:-0600
TZOFFSETTO:-0500
TZNAME:CDT
DTSTART:20240310T080000
END:DAYLIGHT
BEGIN:STANDARD
TZOFFSETFROM:-0500
TZOFFSETTO:-0600
TZNAME:CST
DTSTART:20241103T070000
END:STANDARD
BEGIN:DAYLIGHT
TZOFFSETFROM:-0600
TZOFFSETTO:-0500
TZNAME:CDT
DTSTART:20250309T080000
END:DAYLIGHT
BEGIN:STANDARD
TZOFFSETFROM:-0500
TZOFFSETTO:-0600
TZNAME:CST
DTSTART:20251102T070000
END:STANDARD
END:VTIMEZONE
BEGIN:VEVENT
DTSTART;TZID=America/Chicago:20240625T200000
DTEND;TZID=America/Chicago:20240625T203000
DTSTAMP:20260425T085923
CREATED:20240202T150851Z
LAST-MODIFIED:20240404T202250Z
UID:1253-1719345600-1719347400@aresofmocotx.org
SUMMARY:ARES Tuesday Net
DESCRIPTION:Emergency Exercise Net starting at 2000 (8:00pm). We encourage all to please participate so that you are practiced in the net.  \nThose able to do so\, we encourage all to participate in BBS Packet\, Vara HF\, and Winlink (Telnet).   \nSend your digital check ins prior to the net. \n\nPhone –  146.920 MHz – /203.5 (tone) Repeater\n\nDigital BBS Packet – 145.030 MHz Simplex\n\nDigital Vara HF  – Center Freq: 3.58850 MHz\n\nDigital Winlink (Telnet) – Send your Winlink (Telnet) check in message to “MCA-NET”
URL:https://aresofmocotx.org/event/ares-tuesday-net-26/
LOCATION:ARES Tuesday Net Repeater WA5AIR 146.920 (-) 203.5\, 146.920 MHz (-) 203.5(tone) Repeater\, Conroe\, TX\, United States
CATEGORIES:ARES Net
END:VEVENT
BEGIN:VEVENT
DTSTART;TZID=America/Chicago:20240701T193000
DTEND;TZID=America/Chicago:20240701T200000
DTSTAMP:20260425T085923
CREATED:20240202T150114Z
LAST-MODIFIED:20240404T201704Z
UID:1148-1719862200-1719864000@aresofmocotx.org
SUMMARY:ARES Monday HF Net
DESCRIPTION:ARES HF Net on 3.873 MHz starting at 1930 (7:30pm).  When checking in\, we are in District 1.  You can also check in digitally using TXARES-HF on hf radio only.  No telnet.
URL:https://aresofmocotx.org/event/ares-monday-hf-net-27/
LOCATION:ARES Monday HF Net\, 3.873 MHz\, United States
CATEGORIES:ARES Net
END:VEVENT
BEGIN:VEVENT
DTSTART;TZID=America/Chicago:20240701T200000
DTEND;TZID=America/Chicago:20240701T203000
DTSTAMP:20260425T085923
CREATED:20240202T150359Z
LAST-MODIFIED:20240404T201950Z
UID:1201-1719864000-1719865800@aresofmocotx.org
SUMMARY:ARES Monday VHF Net
DESCRIPTION:VHF Net at 2000\, (8:00pm)\, on 147.140 MHz/136.5 (tone) Repeater)
URL:https://aresofmocotx.org/event/ares-monday-vhf-net-27/
LOCATION:ARES Monday VHF Net\, 147.14 MHz +/136.5(tone) Repeater\, Conroe\, United States
CATEGORIES:ARES Net
END:VEVENT
BEGIN:VEVENT
DTSTART;TZID=America/Chicago:20240702T200000
DTEND;TZID=America/Chicago:20240702T203000
DTSTAMP:20260425T085923
CREATED:20240202T150852Z
LAST-MODIFIED:20240404T202250Z
UID:1254-1719950400-1719952200@aresofmocotx.org
SUMMARY:ARES Tuesday Net
DESCRIPTION:Emergency Exercise Net starting at 2000 (8:00pm). We encourage all to please participate so that you are practiced in the net.  \nThose able to do so\, we encourage all to participate in BBS Packet\, Vara HF\, and Winlink (Telnet).   \nSend your digital check ins prior to the net. \n\nPhone –  146.920 MHz – /203.5 (tone) Repeater\n\nDigital BBS Packet – 145.030 MHz Simplex\n\nDigital Vara HF  – Center Freq: 3.58850 MHz\n\nDigital Winlink (Telnet) – Send your Winlink (Telnet) check in message to “MCA-NET”
URL:https://aresofmocotx.org/event/ares-tuesday-net-27/
LOCATION:ARES Tuesday Net Repeater WA5AIR 146.920 (-) 203.5\, 146.920 MHz (-) 203.5(tone) Repeater\, Conroe\, TX\, United States
CATEGORIES:ARES Net
END:VEVENT
BEGIN:VEVENT
DTSTART;TZID=America/Chicago:20240708T193000
DTEND;TZID=America/Chicago:20240708T200000
DTSTAMP:20260425T085923
CREATED:20240202T150114Z
LAST-MODIFIED:20240404T201704Z
UID:1149-1720467000-1720468800@aresofmocotx.org
SUMMARY:ARES Monday HF Net
DESCRIPTION:ARES HF Net on 3.873 MHz starting at 1930 (7:30pm).  When checking in\, we are in District 1.  You can also check in digitally using TXARES-HF on hf radio only.  No telnet.
URL:https://aresofmocotx.org/event/ares-monday-hf-net-28/
LOCATION:ARES Monday HF Net\, 3.873 MHz\, United States
CATEGORIES:ARES Net
END:VEVENT
BEGIN:VEVENT
DTSTART;TZID=America/Chicago:20240708T200000
DTEND;TZID=America/Chicago:20240708T203000
DTSTAMP:20260425T085923
CREATED:20240202T150359Z
LAST-MODIFIED:20240404T201950Z
UID:1202-1720468800-1720470600@aresofmocotx.org
SUMMARY:ARES Monday VHF Net
DESCRIPTION:VHF Net at 2000\, (8:00pm)\, on 147.140 MHz/136.5 (tone) Repeater)
URL:https://aresofmocotx.org/event/ares-monday-vhf-net-28/
LOCATION:ARES Monday VHF Net\, 147.14 MHz +/136.5(tone) Repeater\, Conroe\, United States
CATEGORIES:ARES Net
END:VEVENT
BEGIN:VEVENT
DTSTART;TZID=America/Chicago:20240709T200000
DTEND;TZID=America/Chicago:20240709T203000
DTSTAMP:20260425T085923
CREATED:20240202T150852Z
LAST-MODIFIED:20240404T202250Z
UID:1255-1720555200-1720557000@aresofmocotx.org
SUMMARY:ARES Tuesday Net
DESCRIPTION:Emergency Exercise Net starting at 2000 (8:00pm). We encourage all to please participate so that you are practiced in the net.  \nThose able to do so\, we encourage all to participate in BBS Packet\, Vara HF\, and Winlink (Telnet).   \nSend your digital check ins prior to the net. \n\nPhone –  146.920 MHz – /203.5 (tone) Repeater\n\nDigital BBS Packet – 145.030 MHz Simplex\n\nDigital Vara HF  – Center Freq: 3.58850 MHz\n\nDigital Winlink (Telnet) – Send your Winlink (Telnet) check in message to “MCA-NET”
URL:https://aresofmocotx.org/event/ares-tuesday-net-28/
LOCATION:ARES Tuesday Net Repeater WA5AIR 146.920 (-) 203.5\, 146.920 MHz (-) 203.5(tone) Repeater\, Conroe\, TX\, United States
CATEGORIES:ARES Net
END:VEVENT
BEGIN:VEVENT
DTSTART;TZID=America/Chicago:20240715T193000
DTEND;TZID=America/Chicago:20240715T200000
DTSTAMP:20260425T085923
CREATED:20240202T150114Z
LAST-MODIFIED:20240404T201704Z
UID:1150-1721071800-1721073600@aresofmocotx.org
SUMMARY:ARES Monday HF Net
DESCRIPTION:ARES HF Net on 3.873 MHz starting at 1930 (7:30pm).  When checking in\, we are in District 1.  You can also check in digitally using TXARES-HF on hf radio only.  No telnet.
URL:https://aresofmocotx.org/event/ares-monday-hf-net-29/
LOCATION:ARES Monday HF Net\, 3.873 MHz\, United States
CATEGORIES:ARES Net
END:VEVENT
BEGIN:VEVENT
DTSTART;TZID=America/Chicago:20240715T200000
DTEND;TZID=America/Chicago:20240715T203000
DTSTAMP:20260425T085923
CREATED:20240202T150414Z
LAST-MODIFIED:20240404T202005Z
UID:1203-1721073600-1721075400@aresofmocotx.org
SUMMARY:ARES Monday VHF Net
DESCRIPTION:VHF Net at 2000\, (8:00pm)\, on 147.140 MHz/136.5 (tone) Repeater)
URL:https://aresofmocotx.org/event/ares-monday-vhf-net-29/
LOCATION:ARES Monday VHF Net\, 147.14 MHz +/136.5(tone) Repeater\, Conroe\, United States
CATEGORIES:ARES Net
END:VEVENT
BEGIN:VEVENT
DTSTART;TZID=America/Chicago:20240716T200000
DTEND;TZID=America/Chicago:20240716T203000
DTSTAMP:20260425T085923
CREATED:20240202T150852Z
LAST-MODIFIED:20240718T122819Z
UID:1256-1721160000-1721161800@aresofmocotx.org
SUMMARY:ARES Tuesday Net/Alternate Repeater
DESCRIPTION:Emergency Exercise Net starting at 2000 (8:00pm). We encourage all to please participate so that you are practiced in the net. \nThose able to do so\, we encourage all to participate in BBS Packet\, Vara HF\, and Winlink (Telnet). \nSend your digital check ins prior to the net. \n\nPhone –  146.680 MHz – PL 146.2 Hz\nDigital BBS Packet – 145.030 MHz Simplex\nDigital Vara HF – Center Freq: 3.58850 MHz\nDigital Winlink – Send your Winlink check in message to “MCA-NET”
URL:https://aresofmocotx.org/event/ares-tuesday-net-29/
LOCATION:ARES Tuesday Net Repeater N5SWP 146.680 (-) 146.2\, 146.680 MHz (-) 146.2\, Spring\, TX\, United States
CATEGORIES:ARES Net
END:VEVENT
BEGIN:VEVENT
DTSTART;TZID=America/Chicago:20240722T193000
DTEND;TZID=America/Chicago:20240722T200000
DTSTAMP:20260425T085923
CREATED:20240202T150114Z
LAST-MODIFIED:20240404T201705Z
UID:1151-1721676600-1721678400@aresofmocotx.org
SUMMARY:ARES Monday HF Net
DESCRIPTION:ARES HF Net on 3.873 MHz starting at 1930 (7:30pm).  When checking in\, we are in District 1.  You can also check in digitally using TXARES-HF on hf radio only.  No telnet.
URL:https://aresofmocotx.org/event/ares-monday-hf-net-30/
LOCATION:ARES Monday HF Net\, 3.873 MHz\, United States
CATEGORIES:ARES Net
END:VEVENT
BEGIN:VEVENT
DTSTART;TZID=America/Chicago:20240722T200000
DTEND;TZID=America/Chicago:20240722T203000
DTSTAMP:20260425T085923
CREATED:20240202T150414Z
LAST-MODIFIED:20240404T202005Z
UID:1204-1721678400-1721680200@aresofmocotx.org
SUMMARY:ARES Monday VHF Net
DESCRIPTION:VHF Net at 2000\, (8:00pm)\, on 147.140 MHz/136.5 (tone) Repeater)
URL:https://aresofmocotx.org/event/ares-monday-vhf-net-30/
LOCATION:ARES Monday VHF Net\, 147.14 MHz +/136.5(tone) Repeater\, Conroe\, United States
CATEGORIES:ARES Net
END:VEVENT
BEGIN:VEVENT
DTSTART;TZID=America/Chicago:20240723T200000
DTEND;TZID=America/Chicago:20240723T203000
DTSTAMP:20260425T085923
CREATED:20240202T150852Z
LAST-MODIFIED:20240404T202250Z
UID:1257-1721764800-1721766600@aresofmocotx.org
SUMMARY:ARES Tuesday Net
DESCRIPTION:Emergency Exercise Net starting at 2000 (8:00pm). We encourage all to please participate so that you are practiced in the net.  \nThose able to do so\, we encourage all to participate in BBS Packet\, Vara HF\, and Winlink (Telnet).   \nSend your digital check ins prior to the net. \n\nPhone –  146.920 MHz – /203.5 (tone) Repeater\n\nDigital BBS Packet – 145.030 MHz Simplex\n\nDigital Vara HF  – Center Freq: 3.58850 MHz\n\nDigital Winlink (Telnet) – Send your Winlink (Telnet) check in message to “MCA-NET”
URL:https://aresofmocotx.org/event/ares-tuesday-net-30/
LOCATION:ARES Tuesday Net Repeater WA5AIR 146.920 (-) 203.5\, 146.920 MHz (-) 203.5(tone) Repeater\, Conroe\, TX\, United States
CATEGORIES:ARES Net
END:VEVENT
BEGIN:VEVENT
DTSTART;TZID=America/Chicago:20240729T193000
DTEND;TZID=America/Chicago:20240729T200000
DTSTAMP:20260425T085923
CREATED:20240202T150129Z
LAST-MODIFIED:20240404T201719Z
UID:1152-1722281400-1722283200@aresofmocotx.org
SUMMARY:ARES Monday HF Net
DESCRIPTION:ARES HF Net on 3.873 MHz starting at 1930 (7:30pm).  When checking in\, we are in District 1.  You can also check in digitally using TXARES-HF on hf radio only.  No telnet.
URL:https://aresofmocotx.org/event/ares-monday-hf-net-31/
LOCATION:ARES Monday HF Net\, 3.873 MHz\, United States
CATEGORIES:ARES Net
END:VEVENT
BEGIN:VEVENT
DTSTART;TZID=America/Chicago:20240729T200000
DTEND;TZID=America/Chicago:20240729T203000
DTSTAMP:20260425T085923
CREATED:20240202T150414Z
LAST-MODIFIED:20240404T202005Z
UID:1205-1722283200-1722285000@aresofmocotx.org
SUMMARY:ARES Monday VHF Net
DESCRIPTION:VHF Net at 2000\, (8:00pm)\, on 147.140 MHz/136.5 (tone) Repeater)
URL:https://aresofmocotx.org/event/ares-monday-vhf-net-31/
LOCATION:ARES Monday VHF Net\, 147.14 MHz +/136.5(tone) Repeater\, Conroe\, United States
CATEGORIES:ARES Net
END:VEVENT
BEGIN:VEVENT
DTSTART;TZID=America/Chicago:20240730T200000
DTEND;TZID=America/Chicago:20240730T203000
DTSTAMP:20260425T085923
CREATED:20240202T150906Z
LAST-MODIFIED:20240404T202305Z
UID:1258-1722369600-1722371400@aresofmocotx.org
SUMMARY:ARES Tuesday Net
DESCRIPTION:Emergency Exercise Net starting at 2000 (8:00pm). We encourage all to please participate so that you are practiced in the net.  \nThose able to do so\, we encourage all to participate in BBS Packet\, Vara HF\, and Winlink (Telnet).   \nSend your digital check ins prior to the net. \n\nPhone –  146.920 MHz – /203.5 (tone) Repeater\n\nDigital BBS Packet – 145.030 MHz Simplex\n\nDigital Vara HF  – Center Freq: 3.58850 MHz\n\nDigital Winlink (Telnet) – Send your Winlink (Telnet) check in message to “MCA-NET”
URL:https://aresofmocotx.org/event/ares-tuesday-net-31/
LOCATION:ARES Tuesday Net Repeater WA5AIR 146.920 (-) 203.5\, 146.920 MHz (-) 203.5(tone) Repeater\, Conroe\, TX\, United States
CATEGORIES:ARES Net
END:VEVENT
BEGIN:VEVENT
DTSTART;TZID=America/Chicago:20240805T193000
DTEND;TZID=America/Chicago:20240805T200000
DTSTAMP:20260425T085923
CREATED:20240202T150129Z
LAST-MODIFIED:20240404T201719Z
UID:1153-1722886200-1722888000@aresofmocotx.org
SUMMARY:ARES Monday HF Net
DESCRIPTION:ARES HF Net on 3.873 MHz starting at 1930 (7:30pm).  When checking in\, we are in District 1.  You can also check in digitally using TXARES-HF on hf radio only.  No telnet.
URL:https://aresofmocotx.org/event/ares-monday-hf-net-32/
LOCATION:ARES Monday HF Net\, 3.873 MHz\, United States
CATEGORIES:ARES Net
END:VEVENT
BEGIN:VEVENT
DTSTART;TZID=America/Chicago:20240805T200000
DTEND;TZID=America/Chicago:20240805T203000
DTSTAMP:20260425T085923
CREATED:20240202T150414Z
LAST-MODIFIED:20240404T202005Z
UID:1206-1722888000-1722889800@aresofmocotx.org
SUMMARY:ARES Monday VHF Net
DESCRIPTION:VHF Net at 2000\, (8:00pm)\, on 147.140 MHz/136.5 (tone) Repeater)
URL:https://aresofmocotx.org/event/ares-monday-vhf-net-32/
LOCATION:ARES Monday VHF Net\, 147.14 MHz +/136.5(tone) Repeater\, Conroe\, United States
CATEGORIES:ARES Net
END:VEVENT
BEGIN:VEVENT
DTSTART;TZID=America/Chicago:20240806T200000
DTEND;TZID=America/Chicago:20240806T203000
DTSTAMP:20260425T085923
CREATED:20240202T150906Z
LAST-MODIFIED:20240404T202305Z
UID:1259-1722974400-1722976200@aresofmocotx.org
SUMMARY:ARES Tuesday Net
DESCRIPTION:Emergency Exercise Net starting at 2000 (8:00pm). We encourage all to please participate so that you are practiced in the net.  \nThose able to do so\, we encourage all to participate in BBS Packet\, Vara HF\, and Winlink (Telnet).   \nSend your digital check ins prior to the net. \n\nPhone –  146.920 MHz – /203.5 (tone) Repeater\n\nDigital BBS Packet – 145.030 MHz Simplex\n\nDigital Vara HF  – Center Freq: 3.58850 MHz\n\nDigital Winlink (Telnet) – Send your Winlink (Telnet) check in message to “MCA-NET”
URL:https://aresofmocotx.org/event/ares-tuesday-net-32/
LOCATION:ARES Tuesday Net Repeater WA5AIR 146.920 (-) 203.5\, 146.920 MHz (-) 203.5(tone) Repeater\, Conroe\, TX\, United States
CATEGORIES:ARES Net
END:VEVENT
BEGIN:VEVENT
DTSTART;TZID=America/Chicago:20240812T193000
DTEND;TZID=America/Chicago:20240812T200000
DTSTAMP:20260425T085923
CREATED:20240202T150129Z
LAST-MODIFIED:20240404T201719Z
UID:1154-1723491000-1723492800@aresofmocotx.org
SUMMARY:ARES Monday HF Net
DESCRIPTION:ARES HF Net on 3.873 MHz starting at 1930 (7:30pm).  When checking in\, we are in District 1.  You can also check in digitally using TXARES-HF on hf radio only.  No telnet.
URL:https://aresofmocotx.org/event/ares-monday-hf-net-33/
LOCATION:ARES Monday HF Net\, 3.873 MHz\, United States
CATEGORIES:ARES Net
END:VEVENT
BEGIN:VEVENT
DTSTART;TZID=America/Chicago:20240812T200000
DTEND;TZID=America/Chicago:20240812T203000
DTSTAMP:20260425T085923
CREATED:20240202T150414Z
LAST-MODIFIED:20240404T202005Z
UID:1207-1723492800-1723494600@aresofmocotx.org
SUMMARY:ARES Monday VHF Net
DESCRIPTION:VHF Net at 2000\, (8:00pm)\, on 147.140 MHz/136.5 (tone) Repeater)
URL:https://aresofmocotx.org/event/ares-monday-vhf-net-33/
LOCATION:ARES Monday VHF Net\, 147.14 MHz +/136.5(tone) Repeater\, Conroe\, United States
CATEGORIES:ARES Net
END:VEVENT
BEGIN:VEVENT
DTSTART;TZID=America/Chicago:20240813T200000
DTEND;TZID=America/Chicago:20240813T203000
DTSTAMP:20260425T085923
CREATED:20240202T150906Z
LAST-MODIFIED:20240718T123107Z
UID:1260-1723579200-1723581000@aresofmocotx.org
SUMMARY:ARES Tuesday Net/Alternate Repeater
DESCRIPTION:Emergency Exercise Net starting at 2000 (8:00pm). We encourage all to please participate so that you are practiced in the net. \nThose able to do so\, we encourage all to participate in BBS Packet\, Vara HF\, and Winlink (Telnet). \nSend your digital check ins prior to the net. \n\nPhone –  442.175 MHz + /103.5 (tone) Repeater\nDigital BBS Packet – 145.030 MHz Simplex\nDigital Vara HF – Center Freq: 3.58850 MHz\nDigital Winlink (Telnet) – Send your Winlink (Telnet) check in message to “MCA-NET”
URL:https://aresofmocotx.org/event/ares-tuesday-net-33/
LOCATION:ARES Tuesday Net  Repeater 442.175 (+) 103.5\, 442.175 (+) 103.5\, Conroe\, TX\, United States
CATEGORIES:ARES Net
END:VEVENT
BEGIN:VEVENT
DTSTART;TZID=America/Chicago:20240819T193000
DTEND;TZID=America/Chicago:20240819T200000
DTSTAMP:20260425T085923
CREATED:20240202T150129Z
LAST-MODIFIED:20240404T201719Z
UID:1155-1724095800-1724097600@aresofmocotx.org
SUMMARY:ARES Monday HF Net
DESCRIPTION:ARES HF Net on 3.873 MHz starting at 1930 (7:30pm).  When checking in\, we are in District 1.  You can also check in digitally using TXARES-HF on hf radio only.  No telnet.
URL:https://aresofmocotx.org/event/ares-monday-hf-net-34/
LOCATION:ARES Monday HF Net\, 3.873 MHz\, United States
CATEGORIES:ARES Net
END:VEVENT
BEGIN:VEVENT
DTSTART;TZID=America/Chicago:20240819T200000
DTEND;TZID=America/Chicago:20240819T203000
DTSTAMP:20260425T085923
CREATED:20240202T150429Z
LAST-MODIFIED:20240404T202020Z
UID:1208-1724097600-1724099400@aresofmocotx.org
SUMMARY:ARES Monday VHF Net
DESCRIPTION:VHF Net at 2000\, (8:00pm)\, on 147.140 MHz/136.5 (tone) Repeater)
URL:https://aresofmocotx.org/event/ares-monday-vhf-net-34/
LOCATION:ARES Monday VHF Net\, 147.14 MHz +/136.5(tone) Repeater\, Conroe\, United States
CATEGORIES:ARES Net
END:VEVENT
BEGIN:VEVENT
DTSTART;TZID=America/Chicago:20240820T200000
DTEND;TZID=America/Chicago:20240820T203000
DTSTAMP:20260425T085923
CREATED:20240202T150907Z
LAST-MODIFIED:20240404T202305Z
UID:1261-1724184000-1724185800@aresofmocotx.org
SUMMARY:ARES Tuesday Net
DESCRIPTION:Emergency Exercise Net starting at 2000 (8:00pm). We encourage all to please participate so that you are practiced in the net.  \nThose able to do so\, we encourage all to participate in BBS Packet\, Vara HF\, and Winlink (Telnet).   \nSend your digital check ins prior to the net. \n\nPhone –  146.920 MHz – /203.5 (tone) Repeater\n\nDigital BBS Packet – 145.030 MHz Simplex\n\nDigital Vara HF  – Center Freq: 3.58850 MHz\n\nDigital Winlink (Telnet) – Send your Winlink (Telnet) check in message to “MCA-NET”
URL:https://aresofmocotx.org/event/ares-tuesday-net-34/
LOCATION:ARES Tuesday Net Repeater WA5AIR 146.920 (-) 203.5\, 146.920 MHz (-) 203.5(tone) Repeater\, Conroe\, TX\, United States
CATEGORIES:ARES Net
END:VEVENT
BEGIN:VEVENT
DTSTART;TZID=America/Chicago:20240826T193000
DTEND;TZID=America/Chicago:20240826T200000
DTSTAMP:20260425T085923
CREATED:20240202T150129Z
LAST-MODIFIED:20240404T201719Z
UID:1156-1724700600-1724702400@aresofmocotx.org
SUMMARY:ARES Monday HF Net
DESCRIPTION:ARES HF Net on 3.873 MHz starting at 1930 (7:30pm).  When checking in\, we are in District 1.  You can also check in digitally using TXARES-HF on hf radio only.  No telnet.
URL:https://aresofmocotx.org/event/ares-monday-hf-net-35/
LOCATION:ARES Monday HF Net\, 3.873 MHz\, United States
CATEGORIES:ARES Net
END:VEVENT
BEGIN:VEVENT
DTSTART;TZID=America/Chicago:20240826T200000
DTEND;TZID=America/Chicago:20240826T203000
DTSTAMP:20260425T085923
CREATED:20240202T150429Z
LAST-MODIFIED:20240404T202020Z
UID:1209-1724702400-1724704200@aresofmocotx.org
SUMMARY:ARES Monday VHF Net
DESCRIPTION:VHF Net at 2000\, (8:00pm)\, on 147.140 MHz/136.5 (tone) Repeater)
URL:https://aresofmocotx.org/event/ares-monday-vhf-net-35/
LOCATION:ARES Monday VHF Net\, 147.14 MHz +/136.5(tone) Repeater\, Conroe\, United States
CATEGORIES:ARES Net
END:VEVENT
BEGIN:VEVENT
DTSTART;TZID=America/Chicago:20240827T200000
DTEND;TZID=America/Chicago:20240827T203000
DTSTAMP:20260425T085923
CREATED:20240202T150907Z
LAST-MODIFIED:20240404T202305Z
UID:1262-1724788800-1724790600@aresofmocotx.org
SUMMARY:ARES Tuesday Net
DESCRIPTION:Emergency Exercise Net starting at 2000 (8:00pm). We encourage all to please participate so that you are practiced in the net.  \nThose able to do so\, we encourage all to participate in BBS Packet\, Vara HF\, and Winlink (Telnet).   \nSend your digital check ins prior to the net. \n\nPhone –  146.920 MHz – /203.5 (tone) Repeater\n\nDigital BBS Packet – 145.030 MHz Simplex\n\nDigital Vara HF  – Center Freq: 3.58850 MHz\n\nDigital Winlink (Telnet) – Send your Winlink (Telnet) check in message to “MCA-NET”
URL:https://aresofmocotx.org/event/ares-tuesday-net-35/
LOCATION:ARES Tuesday Net Repeater WA5AIR 146.920 (-) 203.5\, 146.920 MHz (-) 203.5(tone) Repeater\, Conroe\, TX\, United States
CATEGORIES:ARES Net
END:VEVENT
BEGIN:VEVENT
DTSTART;TZID=America/Chicago:20240902T193000
DTEND;TZID=America/Chicago:20240902T200000
DTSTAMP:20260425T085923
CREATED:20240202T150144Z
LAST-MODIFIED:20240404T201734Z
UID:1157-1725305400-1725307200@aresofmocotx.org
SUMMARY:ARES Monday HF Net
DESCRIPTION:ARES HF Net on 3.873 MHz starting at 1930 (7:30pm).  When checking in\, we are in District 1.  You can also check in digitally using TXARES-HF on hf radio only.  No telnet.
URL:https://aresofmocotx.org/event/ares-monday-hf-net-36/
LOCATION:ARES Monday HF Net\, 3.873 MHz\, United States
CATEGORIES:ARES Net
END:VEVENT
BEGIN:VEVENT
DTSTART;TZID=America/Chicago:20240902T200000
DTEND;TZID=America/Chicago:20240902T203000
DTSTAMP:20260425T085923
CREATED:20240202T150430Z
LAST-MODIFIED:20240404T202020Z
UID:1210-1725307200-1725309000@aresofmocotx.org
SUMMARY:ARES Monday VHF Net
DESCRIPTION:VHF Net at 2000\, (8:00pm)\, on 147.140 MHz/136.5 (tone) Repeater)
URL:https://aresofmocotx.org/event/ares-monday-vhf-net-36/
LOCATION:ARES Monday VHF Net\, 147.14 MHz +/136.5(tone) Repeater\, Conroe\, United States
CATEGORIES:ARES Net
END:VEVENT
END:VCALENDAR