BEGIN:VCALENDAR
VERSION:2.0
PRODID:-//ARES - ECPv6.15.20//NONSGML v1.0//EN
CALSCALE:GREGORIAN
METHOD:PUBLISH
X-WR-CALNAME:ARES
X-ORIGINAL-URL:https://aresofmocotx.org
X-WR-CALDESC:Events for ARES
REFRESH-INTERVAL;VALUE=DURATION:PT1H
X-Robots-Tag:noindex
X-PUBLISHED-TTL:PT1H
BEGIN:VTIMEZONE
TZID:America/Chicago
BEGIN:DAYLIGHT
TZOFFSETFROM:-0600
TZOFFSETTO:-0500
TZNAME:CDT
DTSTART:20230312T080000
END:DAYLIGHT
BEGIN:STANDARD
TZOFFSETFROM:-0500
TZOFFSETTO:-0600
TZNAME:CST
DTSTART:20231105T070000
END:STANDARD
BEGIN:DAYLIGHT
TZOFFSETFROM:-0600
TZOFFSETTO:-0500
TZNAME:CDT
DTSTART:20240310T080000
END:DAYLIGHT
BEGIN:STANDARD
TZOFFSETFROM:-0500
TZOFFSETTO:-0600
TZNAME:CST
DTSTART:20241103T070000
END:STANDARD
BEGIN:DAYLIGHT
TZOFFSETFROM:-0600
TZOFFSETTO:-0500
TZNAME:CDT
DTSTART:20250309T080000
END:DAYLIGHT
BEGIN:STANDARD
TZOFFSETFROM:-0500
TZOFFSETTO:-0600
TZNAME:CST
DTSTART:20251102T070000
END:STANDARD
END:VTIMEZONE
BEGIN:VEVENT
DTSTART;TZID=America/Chicago:20240819T193000
DTEND;TZID=America/Chicago:20240819T200000
DTSTAMP:20260425T085929
CREATED:20240202T150129Z
LAST-MODIFIED:20240404T201719Z
UID:1155-1724095800-1724097600@aresofmocotx.org
SUMMARY:ARES Monday HF Net
DESCRIPTION:ARES HF Net on 3.873 MHz starting at 1930 (7:30pm).  When checking in\, we are in District 1.  You can also check in digitally using TXARES-HF on hf radio only.  No telnet.
URL:https://aresofmocotx.org/event/ares-monday-hf-net-34/
LOCATION:ARES Monday HF Net\, 3.873 MHz\, United States
CATEGORIES:ARES Net
END:VEVENT
BEGIN:VEVENT
DTSTART;TZID=America/Chicago:20240819T200000
DTEND;TZID=America/Chicago:20240819T203000
DTSTAMP:20260425T085929
CREATED:20240202T150429Z
LAST-MODIFIED:20240404T202020Z
UID:1208-1724097600-1724099400@aresofmocotx.org
SUMMARY:ARES Monday VHF Net
DESCRIPTION:VHF Net at 2000\, (8:00pm)\, on 147.140 MHz/136.5 (tone) Repeater)
URL:https://aresofmocotx.org/event/ares-monday-vhf-net-34/
LOCATION:ARES Monday VHF Net\, 147.14 MHz +/136.5(tone) Repeater\, Conroe\, United States
CATEGORIES:ARES Net
END:VEVENT
BEGIN:VEVENT
DTSTART;TZID=America/Chicago:20240820T200000
DTEND;TZID=America/Chicago:20240820T203000
DTSTAMP:20260425T085929
CREATED:20240202T150907Z
LAST-MODIFIED:20240404T202305Z
UID:1261-1724184000-1724185800@aresofmocotx.org
SUMMARY:ARES Tuesday Net
DESCRIPTION:Emergency Exercise Net starting at 2000 (8:00pm). We encourage all to please participate so that you are practiced in the net.  \nThose able to do so\, we encourage all to participate in BBS Packet\, Vara HF\, and Winlink (Telnet).   \nSend your digital check ins prior to the net. \n\nPhone –  146.920 MHz – /203.5 (tone) Repeater\n\nDigital BBS Packet – 145.030 MHz Simplex\n\nDigital Vara HF  – Center Freq: 3.58850 MHz\n\nDigital Winlink (Telnet) – Send your Winlink (Telnet) check in message to “MCA-NET”
URL:https://aresofmocotx.org/event/ares-tuesday-net-34/
LOCATION:ARES Tuesday Net Repeater WA5AIR 146.920 (-) 203.5\, 146.920 MHz (-) 203.5(tone) Repeater\, Conroe\, TX\, United States
CATEGORIES:ARES Net
END:VEVENT
BEGIN:VEVENT
DTSTART;TZID=America/Chicago:20240826T193000
DTEND;TZID=America/Chicago:20240826T200000
DTSTAMP:20260425T085929
CREATED:20240202T150129Z
LAST-MODIFIED:20240404T201719Z
UID:1156-1724700600-1724702400@aresofmocotx.org
SUMMARY:ARES Monday HF Net
DESCRIPTION:ARES HF Net on 3.873 MHz starting at 1930 (7:30pm).  When checking in\, we are in District 1.  You can also check in digitally using TXARES-HF on hf radio only.  No telnet.
URL:https://aresofmocotx.org/event/ares-monday-hf-net-35/
LOCATION:ARES Monday HF Net\, 3.873 MHz\, United States
CATEGORIES:ARES Net
END:VEVENT
BEGIN:VEVENT
DTSTART;TZID=America/Chicago:20240826T200000
DTEND;TZID=America/Chicago:20240826T203000
DTSTAMP:20260425T085929
CREATED:20240202T150429Z
LAST-MODIFIED:20240404T202020Z
UID:1209-1724702400-1724704200@aresofmocotx.org
SUMMARY:ARES Monday VHF Net
DESCRIPTION:VHF Net at 2000\, (8:00pm)\, on 147.140 MHz/136.5 (tone) Repeater)
URL:https://aresofmocotx.org/event/ares-monday-vhf-net-35/
LOCATION:ARES Monday VHF Net\, 147.14 MHz +/136.5(tone) Repeater\, Conroe\, United States
CATEGORIES:ARES Net
END:VEVENT
BEGIN:VEVENT
DTSTART;TZID=America/Chicago:20240827T200000
DTEND;TZID=America/Chicago:20240827T203000
DTSTAMP:20260425T085929
CREATED:20240202T150907Z
LAST-MODIFIED:20240404T202305Z
UID:1262-1724788800-1724790600@aresofmocotx.org
SUMMARY:ARES Tuesday Net
DESCRIPTION:Emergency Exercise Net starting at 2000 (8:00pm). We encourage all to please participate so that you are practiced in the net.  \nThose able to do so\, we encourage all to participate in BBS Packet\, Vara HF\, and Winlink (Telnet).   \nSend your digital check ins prior to the net. \n\nPhone –  146.920 MHz – /203.5 (tone) Repeater\n\nDigital BBS Packet – 145.030 MHz Simplex\n\nDigital Vara HF  – Center Freq: 3.58850 MHz\n\nDigital Winlink (Telnet) – Send your Winlink (Telnet) check in message to “MCA-NET”
URL:https://aresofmocotx.org/event/ares-tuesday-net-35/
LOCATION:ARES Tuesday Net Repeater WA5AIR 146.920 (-) 203.5\, 146.920 MHz (-) 203.5(tone) Repeater\, Conroe\, TX\, United States
CATEGORIES:ARES Net
END:VEVENT
BEGIN:VEVENT
DTSTART;TZID=America/Chicago:20240902T193000
DTEND;TZID=America/Chicago:20240902T200000
DTSTAMP:20260425T085929
CREATED:20240202T150144Z
LAST-MODIFIED:20240404T201734Z
UID:1157-1725305400-1725307200@aresofmocotx.org
SUMMARY:ARES Monday HF Net
DESCRIPTION:ARES HF Net on 3.873 MHz starting at 1930 (7:30pm).  When checking in\, we are in District 1.  You can also check in digitally using TXARES-HF on hf radio only.  No telnet.
URL:https://aresofmocotx.org/event/ares-monday-hf-net-36/
LOCATION:ARES Monday HF Net\, 3.873 MHz\, United States
CATEGORIES:ARES Net
END:VEVENT
BEGIN:VEVENT
DTSTART;TZID=America/Chicago:20240902T200000
DTEND;TZID=America/Chicago:20240902T203000
DTSTAMP:20260425T085929
CREATED:20240202T150430Z
LAST-MODIFIED:20240404T202020Z
UID:1210-1725307200-1725309000@aresofmocotx.org
SUMMARY:ARES Monday VHF Net
DESCRIPTION:VHF Net at 2000\, (8:00pm)\, on 147.140 MHz/136.5 (tone) Repeater)
URL:https://aresofmocotx.org/event/ares-monday-vhf-net-36/
LOCATION:ARES Monday VHF Net\, 147.14 MHz +/136.5(tone) Repeater\, Conroe\, United States
CATEGORIES:ARES Net
END:VEVENT
BEGIN:VEVENT
DTSTART;TZID=America/Chicago:20240903T200000
DTEND;TZID=America/Chicago:20240903T203000
DTSTAMP:20260425T085929
CREATED:20240202T150921Z
LAST-MODIFIED:20240404T202320Z
UID:1263-1725393600-1725395400@aresofmocotx.org
SUMMARY:ARES Tuesday Net
DESCRIPTION:Emergency Exercise Net starting at 2000 (8:00pm). We encourage all to please participate so that you are practiced in the net.  \nThose able to do so\, we encourage all to participate in BBS Packet\, Vara HF\, and Winlink (Telnet).   \nSend your digital check ins prior to the net. \n\nPhone –  146.920 MHz – /203.5 (tone) Repeater\n\nDigital BBS Packet – 145.030 MHz Simplex\n\nDigital Vara HF  – Center Freq: 3.58850 MHz\n\nDigital Winlink (Telnet) – Send your Winlink (Telnet) check in message to “MCA-NET”
URL:https://aresofmocotx.org/event/ares-tuesday-net-36/
LOCATION:ARES Tuesday Net Repeater WA5AIR 146.920 (-) 203.5\, 146.920 MHz (-) 203.5(tone) Repeater\, Conroe\, TX\, United States
CATEGORIES:ARES Net
END:VEVENT
BEGIN:VEVENT
DTSTART;TZID=America/Chicago:20240909T193000
DTEND;TZID=America/Chicago:20240909T200000
DTSTAMP:20260425T085929
CREATED:20240202T150144Z
LAST-MODIFIED:20240404T201734Z
UID:1158-1725910200-1725912000@aresofmocotx.org
SUMMARY:ARES Monday HF Net
DESCRIPTION:ARES HF Net on 3.873 MHz starting at 1930 (7:30pm).  When checking in\, we are in District 1.  You can also check in digitally using TXARES-HF on hf radio only.  No telnet.
URL:https://aresofmocotx.org/event/ares-monday-hf-net-37/
LOCATION:ARES Monday HF Net\, 3.873 MHz\, United States
CATEGORIES:ARES Net
END:VEVENT
BEGIN:VEVENT
DTSTART;TZID=America/Chicago:20240909T200000
DTEND;TZID=America/Chicago:20240909T203000
DTSTAMP:20260425T085929
CREATED:20240202T150430Z
LAST-MODIFIED:20240404T202020Z
UID:1211-1725912000-1725913800@aresofmocotx.org
SUMMARY:ARES Monday VHF Net
DESCRIPTION:VHF Net at 2000\, (8:00pm)\, on 147.140 MHz/136.5 (tone) Repeater)
URL:https://aresofmocotx.org/event/ares-monday-vhf-net-37/
LOCATION:ARES Monday VHF Net\, 147.14 MHz +/136.5(tone) Repeater\, Conroe\, United States
CATEGORIES:ARES Net
END:VEVENT
BEGIN:VEVENT
DTSTART;TZID=America/Chicago:20240910T200000
DTEND;TZID=America/Chicago:20240910T203000
DTSTAMP:20260425T085929
CREATED:20240202T150921Z
LAST-MODIFIED:20240404T202320Z
UID:1264-1725998400-1726000200@aresofmocotx.org
SUMMARY:ARES Tuesday Net
DESCRIPTION:Emergency Exercise Net starting at 2000 (8:00pm). We encourage all to please participate so that you are practiced in the net.  \nThose able to do so\, we encourage all to participate in BBS Packet\, Vara HF\, and Winlink (Telnet).   \nSend your digital check ins prior to the net. \n\nPhone –  146.920 MHz – /203.5 (tone) Repeater\n\nDigital BBS Packet – 145.030 MHz Simplex\n\nDigital Vara HF  – Center Freq: 3.58850 MHz\n\nDigital Winlink (Telnet) – Send your Winlink (Telnet) check in message to “MCA-NET”
URL:https://aresofmocotx.org/event/ares-tuesday-net-37/
LOCATION:ARES Tuesday Net Repeater WA5AIR 146.920 (-) 203.5\, 146.920 MHz (-) 203.5(tone) Repeater\, Conroe\, TX\, United States
CATEGORIES:ARES Net
END:VEVENT
BEGIN:VEVENT
DTSTART;TZID=America/Chicago:20240916T193000
DTEND;TZID=America/Chicago:20240916T200000
DTSTAMP:20260425T085929
CREATED:20240202T150144Z
LAST-MODIFIED:20240404T201734Z
UID:1159-1726515000-1726516800@aresofmocotx.org
SUMMARY:ARES Monday HF Net
DESCRIPTION:ARES HF Net on 3.873 MHz starting at 1930 (7:30pm).  When checking in\, we are in District 1.  You can also check in digitally using TXARES-HF on hf radio only.  No telnet.
URL:https://aresofmocotx.org/event/ares-monday-hf-net-38/
LOCATION:ARES Monday HF Net\, 3.873 MHz\, United States
CATEGORIES:ARES Net
END:VEVENT
BEGIN:VEVENT
DTSTART;TZID=America/Chicago:20240916T200000
DTEND;TZID=America/Chicago:20240916T203000
DTSTAMP:20260425T085929
CREATED:20240202T150430Z
LAST-MODIFIED:20240404T202020Z
UID:1212-1726516800-1726518600@aresofmocotx.org
SUMMARY:ARES Monday VHF Net
DESCRIPTION:VHF Net at 2000\, (8:00pm)\, on 147.140 MHz/136.5 (tone) Repeater)
URL:https://aresofmocotx.org/event/ares-monday-vhf-net-38/
LOCATION:ARES Monday VHF Net\, 147.14 MHz +/136.5(tone) Repeater\, Conroe\, United States
CATEGORIES:ARES Net
END:VEVENT
BEGIN:VEVENT
DTSTART;TZID=America/Chicago:20240917T200000
DTEND;TZID=America/Chicago:20240917T203000
DTSTAMP:20260425T085929
CREATED:20240202T150922Z
LAST-MODIFIED:20240718T191531Z
UID:1265-1726603200-1726605000@aresofmocotx.org
SUMMARY:ARES Tuesday Net/Alternate Repeater
DESCRIPTION:Emergency Exercise Net starting at 2000 (8:00pm). We encourage all to please participate so that you are practiced in the net. \nThose able to do so\, we encourage all to participate in BBS Packet\, Vara HF\, and Winlink (Telnet). \nSend your digital check ins prior to the net. \n\nPhone –  443.025 MHz + /103.5 (tone) Repeater\nDigital BBS Packet – 145.030 MHz Simplex\nDigital Vara HF – Center Freq: 3.58850 MHz\nDigital Winlink (Telnet) – Send your Winlink (Telnet) check in message to “MCA-NET”
URL:https://aresofmocotx.org/event/ares-tuesday-net-38/
LOCATION:ARES Tuesday Net Repeater  443.025 (+) 103.5\, 443.025 (+) 103.5\, Conroe\, TX\, United States
CATEGORIES:ARES Net
END:VEVENT
BEGIN:VEVENT
DTSTART;TZID=America/Chicago:20240923T193000
DTEND;TZID=America/Chicago:20240923T200000
DTSTAMP:20260425T085929
CREATED:20240202T150144Z
LAST-MODIFIED:20240404T201734Z
UID:1160-1727119800-1727121600@aresofmocotx.org
SUMMARY:ARES Monday HF Net
DESCRIPTION:ARES HF Net on 3.873 MHz starting at 1930 (7:30pm).  When checking in\, we are in District 1.  You can also check in digitally using TXARES-HF on hf radio only.  No telnet.
URL:https://aresofmocotx.org/event/ares-monday-hf-net-39/
LOCATION:ARES Monday HF Net\, 3.873 MHz\, United States
CATEGORIES:ARES Net
END:VEVENT
BEGIN:VEVENT
DTSTART;TZID=America/Chicago:20240923T200000
DTEND;TZID=America/Chicago:20240923T203000
DTSTAMP:20260425T085929
CREATED:20240202T150444Z
LAST-MODIFIED:20240404T202035Z
UID:1213-1727121600-1727123400@aresofmocotx.org
SUMMARY:ARES Monday VHF Net
DESCRIPTION:VHF Net at 2000\, (8:00pm)\, on 147.140 MHz/136.5 (tone) Repeater)
URL:https://aresofmocotx.org/event/ares-monday-vhf-net-39/
LOCATION:ARES Monday VHF Net\, 147.14 MHz +/136.5(tone) Repeater\, Conroe\, United States
CATEGORIES:ARES Net
END:VEVENT
BEGIN:VEVENT
DTSTART;TZID=America/Chicago:20240924T200000
DTEND;TZID=America/Chicago:20240924T203000
DTSTAMP:20260425T085929
CREATED:20240202T150922Z
LAST-MODIFIED:20240924T202153Z
UID:1266-1727208000-1727209800@aresofmocotx.org
SUMMARY:ARES Tuesday Net
DESCRIPTION:Emergency Exercise Net starting at 2000 (8:00pm). We encourage all to please participate so that you are practiced in the net. \nThose able to do so\, we encourage all to participate in BBS Packet\, Vara HF\, and Winlink (Telnet). \nSend your digital check ins prior to the net. \n\nPhone – 146.920 MHz – /203.5 (tone) Repeater\nBkup –  147.140 MHz + /136.5 (tone) Repeater\nDigital BBS Packet – 145.030 MHz Simplex\nDigital Vara HF – Center Freq: 3.58850 MHz\nDigital Winlink (Telnet) – Send your Winlink (Telnet) check in message to “MCA-NET”
URL:https://aresofmocotx.org/event/ares-tuesday-net-39/
LOCATION:ARES Tuesday Net Repeater WA5AIR 146.920 (-) 203.5\, 146.920 MHz (-) 203.5(tone) Repeater\, Conroe\, TX\, United States
CATEGORIES:ARES Net
END:VEVENT
BEGIN:VEVENT
DTSTART;TZID=America/Chicago:20240930T193000
DTEND;TZID=America/Chicago:20240930T200000
DTSTAMP:20260425T085929
CREATED:20240202T150144Z
LAST-MODIFIED:20240404T201734Z
UID:1161-1727724600-1727726400@aresofmocotx.org
SUMMARY:ARES Monday HF Net
DESCRIPTION:ARES HF Net on 3.873 MHz starting at 1930 (7:30pm).  When checking in\, we are in District 1.  You can also check in digitally using TXARES-HF on hf radio only.  No telnet.
URL:https://aresofmocotx.org/event/ares-monday-hf-net-40/
LOCATION:ARES Monday HF Net\, 3.873 MHz\, United States
CATEGORIES:ARES Net
END:VEVENT
BEGIN:VEVENT
DTSTART;TZID=America/Chicago:20240930T200000
DTEND;TZID=America/Chicago:20240930T203000
DTSTAMP:20260425T085929
CREATED:20240202T150444Z
LAST-MODIFIED:20240404T202035Z
UID:1214-1727726400-1727728200@aresofmocotx.org
SUMMARY:ARES Monday VHF Net
DESCRIPTION:VHF Net at 2000\, (8:00pm)\, on 147.140 MHz/136.5 (tone) Repeater)
URL:https://aresofmocotx.org/event/ares-monday-vhf-net-40/
LOCATION:ARES Monday VHF Net\, 147.14 MHz +/136.5(tone) Repeater\, Conroe\, United States
CATEGORIES:ARES Net
END:VEVENT
BEGIN:VEVENT
DTSTART;TZID=America/Chicago:20241001T200000
DTEND;TZID=America/Chicago:20241001T203000
DTSTAMP:20260425T085929
CREATED:20240202T150922Z
LAST-MODIFIED:20240925T114936Z
UID:1267-1727812800-1727814600@aresofmocotx.org
SUMMARY:ARES Tuesday Net
DESCRIPTION:Simulated Emergency Exercise Net starting at 2000 (8:00pm). We encourage all to please participate so that you are practiced in the net. \nThose able to do so\, we encourage all to participate in BBS Packet\, Vara HF\, and Winlink (Telnet). \nSend your digital check ins prior to the net. \n\nPhone – 146.920 MHz – /203.5 (tone) Repeater\nBkup –  147.140 MHz + /136.5 (tone) Repeater\nPacket BBS  – 145.030 MHz Simplex WA5EOC-1\, address to ALL@WA5EOC as bulletin\nWinlink Vara HF P2P – Center Freq: 3.58850 MHz\nWinlink  – Send Winlink check ins to “MCA-NET” include the method used in the subject line\n\nTelnet\nPacket VHF  –  Packet UHF – connect to any Winlink Gateway 145.030 MHz- options WA9JG-10\, N5MDT-10\, W5HVL-10\nVARA FM VHF – VARA FM UHF connect to any VARA FM Winlink Gateway – options 145.550 MHz WA5EOC-10\, 446.15 MHz W5HVL-11\nVARA HF – connect to any Winlink Gateway
URL:https://aresofmocotx.org/event/ares-tuesday-net-40/
LOCATION:ARES Tuesday Net Repeater WA5AIR 146.920 (-) 203.5\, 146.920 MHz (-) 203.5(tone) Repeater\, Conroe\, TX\, United States
CATEGORIES:ARES Net
END:VEVENT
BEGIN:VEVENT
DTSTART;TZID=America/Chicago:20241007T193000
DTEND;TZID=America/Chicago:20241007T200000
DTSTAMP:20260425T085929
CREATED:20240202T150159Z
LAST-MODIFIED:20240404T201749Z
UID:1162-1728329400-1728331200@aresofmocotx.org
SUMMARY:ARES Monday HF Net
DESCRIPTION:ARES HF Net on 3.873 MHz starting at 1930 (7:30pm).  When checking in\, we are in District 1.  You can also check in digitally using TXARES-HF on hf radio only.  No telnet.
URL:https://aresofmocotx.org/event/ares-monday-hf-net-41/
LOCATION:ARES Monday HF Net\, 3.873 MHz\, United States
CATEGORIES:ARES Net
END:VEVENT
BEGIN:VEVENT
DTSTART;TZID=America/Chicago:20241007T200000
DTEND;TZID=America/Chicago:20241007T203000
DTSTAMP:20260425T085929
CREATED:20240202T150444Z
LAST-MODIFIED:20240404T202035Z
UID:1215-1728331200-1728333000@aresofmocotx.org
SUMMARY:ARES Monday VHF Net
DESCRIPTION:VHF Net at 2000\, (8:00pm)\, on 147.140 MHz/136.5 (tone) Repeater)
URL:https://aresofmocotx.org/event/ares-monday-vhf-net-41/
LOCATION:ARES Monday VHF Net\, 147.14 MHz +/136.5(tone) Repeater\, Conroe\, United States
CATEGORIES:ARES Net
END:VEVENT
BEGIN:VEVENT
DTSTART;TZID=America/Chicago:20241008T200000
DTEND;TZID=America/Chicago:20241008T203000
DTSTAMP:20260425T085929
CREATED:20240202T150936Z
LAST-MODIFIED:20240924T202253Z
UID:1268-1728417600-1728419400@aresofmocotx.org
SUMMARY:ARES Tuesday Net
DESCRIPTION:Emergency Exercise Net starting at 2000 (8:00pm). We encourage all to please participate so that you are practiced in the net. \nThose able to do so\, we encourage all to participate in BBS Packet\, Vara HF\, and Winlink (Telnet). \nSend your digital check ins prior to the net. \n\nPhone – 146.920 MHz – /203.5 (tone) Repeater\nBkup –  147.140 MHz + /136.5 (tone) Repeater\nDigital BBS Packet – 145.030 MHz Simplex\nDigital Vara HF – Center Freq: 3.58850 MHz\nDigital Winlink (Telnet) – Send your Winlink (Telnet) check in message to “MCA-NET”
URL:https://aresofmocotx.org/event/ares-tuesday-net-41/
LOCATION:ARES Tuesday Net Repeater WA5AIR 146.920 (-) 203.5\, 146.920 MHz (-) 203.5(tone) Repeater\, Conroe\, TX\, United States
CATEGORIES:ARES Net
END:VEVENT
BEGIN:VEVENT
DTSTART;TZID=America/Chicago:20241014T193000
DTEND;TZID=America/Chicago:20241014T200000
DTSTAMP:20260425T085929
CREATED:20240202T150200Z
LAST-MODIFIED:20240404T201749Z
UID:1163-1728934200-1728936000@aresofmocotx.org
SUMMARY:ARES Monday HF Net
DESCRIPTION:ARES HF Net on 3.873 MHz starting at 1930 (7:30pm).  When checking in\, we are in District 1.  You can also check in digitally using TXARES-HF on hf radio only.  No telnet.
URL:https://aresofmocotx.org/event/ares-monday-hf-net-42/
LOCATION:ARES Monday HF Net\, 3.873 MHz\, United States
CATEGORIES:ARES Net
END:VEVENT
BEGIN:VEVENT
DTSTART;TZID=America/Chicago:20241014T200000
DTEND;TZID=America/Chicago:20241014T203000
DTSTAMP:20260425T085929
CREATED:20240202T150444Z
LAST-MODIFIED:20240404T202035Z
UID:1216-1728936000-1728937800@aresofmocotx.org
SUMMARY:ARES Monday VHF Net
DESCRIPTION:VHF Net at 2000\, (8:00pm)\, on 147.140 MHz/136.5 (tone) Repeater)
URL:https://aresofmocotx.org/event/ares-monday-vhf-net-42/
LOCATION:ARES Monday VHF Net\, 147.14 MHz +/136.5(tone) Repeater\, Conroe\, United States
CATEGORIES:ARES Net
END:VEVENT
BEGIN:VEVENT
DTSTART;TZID=America/Chicago:20241015T200000
DTEND;TZID=America/Chicago:20241015T203000
DTSTAMP:20260425T085929
CREATED:20240202T150936Z
LAST-MODIFIED:20240718T191320Z
UID:1269-1729022400-1729024200@aresofmocotx.org
SUMMARY:ARES Tuesday Net/Alternate Repeater
DESCRIPTION:Emergency Exercise Net starting at 2000 (8:00pm). We encourage all to please participate so that you are practiced in the net. \nThose able to do so\, we encourage all to participate in BBS Packet\, Vara HF\, and Winlink (Telnet). \nSend your digital check ins prior to the net. \n\nPhone –  146.680 MHz – /146.2 (tone) Repeater\nDigital BBS Packet – 145.030 MHz Simplex\nDigital Vara HF – Center Freq: 3.58850 MHz\nDigital Winlink (Telnet) – Send your Winlink (Telnet) check in message to “MCA-NET”
URL:https://aresofmocotx.org/event/ares-tuesday-net-42/
LOCATION:ARES Tuesday Net Repeater N5SWP 146.680 (-) 146.2\, 146.680 MHz (-) 146.2\, Spring\, TX\, United States
CATEGORIES:ARES Net
END:VEVENT
BEGIN:VEVENT
DTSTART;TZID=America/Chicago:20241021T193000
DTEND;TZID=America/Chicago:20241021T200000
DTSTAMP:20260425T085929
CREATED:20240202T150200Z
LAST-MODIFIED:20240404T201749Z
UID:1164-1729539000-1729540800@aresofmocotx.org
SUMMARY:ARES Monday HF Net
DESCRIPTION:ARES HF Net on 3.873 MHz starting at 1930 (7:30pm).  When checking in\, we are in District 1.  You can also check in digitally using TXARES-HF on hf radio only.  No telnet.
URL:https://aresofmocotx.org/event/ares-monday-hf-net-43/
LOCATION:ARES Monday HF Net\, 3.873 MHz\, United States
CATEGORIES:ARES Net
END:VEVENT
BEGIN:VEVENT
DTSTART;TZID=America/Chicago:20241021T200000
DTEND;TZID=America/Chicago:20241021T203000
DTSTAMP:20260425T085929
CREATED:20240202T150445Z
LAST-MODIFIED:20240404T202035Z
UID:1217-1729540800-1729542600@aresofmocotx.org
SUMMARY:ARES Monday VHF Net
DESCRIPTION:VHF Net at 2000\, (8:00pm)\, on 147.140 MHz/136.5 (tone) Repeater)
URL:https://aresofmocotx.org/event/ares-monday-vhf-net-43/
LOCATION:ARES Monday VHF Net\, 147.14 MHz +/136.5(tone) Repeater\, Conroe\, United States
CATEGORIES:ARES Net
END:VEVENT
BEGIN:VEVENT
DTSTART;TZID=America/Chicago:20241022T200000
DTEND;TZID=America/Chicago:20241022T203000
DTSTAMP:20260425T085929
CREATED:20240202T150936Z
LAST-MODIFIED:20240924T202353Z
UID:1270-1729627200-1729629000@aresofmocotx.org
SUMMARY:ARES Tuesday Net
DESCRIPTION:Emergency Exercise Net starting at 2000 (8:00pm). We encourage all to please participate so that you are practiced in the net. \nThose able to do so\, we encourage all to participate in BBS Packet\, Vara HF\, and Winlink (Telnet). \nSend your digital check ins prior to the net. \n\nPhone – 146.920 MHz – /203.5 (tone) Repeater\nBkup –  147.140 MHz + /136.5 (tone) Repeater\nDigital BBS Packet – 145.030 MHz Simplex\nDigital Vara HF – Center Freq: 3.58850 MHz\nDigital Winlink (Telnet) – Send your Winlink (Telnet) check in message to “MCA-NET”
URL:https://aresofmocotx.org/event/ares-tuesday-net-43/
LOCATION:ARES Tuesday Net Repeater WA5AIR 146.920 (-) 203.5\, 146.920 MHz (-) 203.5(tone) Repeater\, Conroe\, TX\, United States
CATEGORIES:ARES Net
END:VEVENT
END:VCALENDAR