BEGIN:VCALENDAR
VERSION:2.0
PRODID:-//ARES - ECPv6.15.20//NONSGML v1.0//EN
CALSCALE:GREGORIAN
METHOD:PUBLISH
X-WR-CALNAME:ARES
X-ORIGINAL-URL:https://aresofmocotx.org
X-WR-CALDESC:Events for ARES
REFRESH-INTERVAL;VALUE=DURATION:PT1H
X-Robots-Tag:noindex
X-PUBLISHED-TTL:PT1H
BEGIN:VTIMEZONE
TZID:America/Chicago
BEGIN:DAYLIGHT
TZOFFSETFROM:-0600
TZOFFSETTO:-0500
TZNAME:CDT
DTSTART:20240310T080000
END:DAYLIGHT
BEGIN:STANDARD
TZOFFSETFROM:-0500
TZOFFSETTO:-0600
TZNAME:CST
DTSTART:20241103T070000
END:STANDARD
BEGIN:DAYLIGHT
TZOFFSETFROM:-0600
TZOFFSETTO:-0500
TZNAME:CDT
DTSTART:20250309T080000
END:DAYLIGHT
BEGIN:STANDARD
TZOFFSETFROM:-0500
TZOFFSETTO:-0600
TZNAME:CST
DTSTART:20251102T070000
END:STANDARD
BEGIN:DAYLIGHT
TZOFFSETFROM:-0600
TZOFFSETTO:-0500
TZNAME:CDT
DTSTART:20260308T080000
END:DAYLIGHT
BEGIN:STANDARD
TZOFFSETFROM:-0500
TZOFFSETTO:-0600
TZNAME:CST
DTSTART:20261101T070000
END:STANDARD
END:VTIMEZONE
BEGIN:VEVENT
DTSTART;TZID=America/Chicago:20250916T200000
DTEND;TZID=America/Chicago:20250916T203000
DTSTAMP:20260424T103500
CREATED:20241231T222347Z
LAST-MODIFIED:20250105T205332Z
UID:3092-1758052800-1758054600@aresofmocotx.org
SUMMARY:ARES Tuesday Net
DESCRIPTION:Emergency Exercise Net starting at 2000 (8:00pm). We encourage all to please participate so that you are practiced in the net.  \nThose able to do so\, we encourage all to participate in BBS Packet\, Vara HF\, and Winlink (Telnet).   \nSend your digital check ins prior to the net. \n\nPhone –  146.920 MHz – /203.5 (tone) Repeater\n\nDigital BBS Packet – 145.030 MHz Simplex\n\nDigital Vara HF  – Center Freq: 3.58850 MHz\n\nDigital Winlink (Telnet) – Send your Winlink (Telnet) check in message to “MCA-NET”
URL:https://aresofmocotx.org/event/ares-tuesday-net-90/
CATEGORIES:ARES Net
END:VEVENT
BEGIN:VEVENT
DTSTART;TZID=America/Chicago:20250922T193000
DTEND;TZID=America/Chicago:20250922T200000
DTSTAMP:20260424T103500
CREATED:20241231T211419Z
LAST-MODIFIED:20250105T204709Z
UID:3003-1758569400-1758571200@aresofmocotx.org
SUMMARY:ARES Monday HF Net
DESCRIPTION:ARES HF Net on 3.873 MHz starting at 1930 (7:30pm).  When checking in\, we are in District 1.  You can also check in digitally using TXARES-HF on hf radio only.  No telnet.
URL:https://aresofmocotx.org/event/ares-monday-hf-net-91/
LOCATION:ARES Monday HF Net\, 3.873 MHz\, United States
CATEGORIES:ARES Net
END:VEVENT
BEGIN:VEVENT
DTSTART;TZID=America/Chicago:20250922T200000
DTEND;TZID=America/Chicago:20250922T203000
DTSTAMP:20260424T103500
CREATED:20250105T205009Z
LAST-MODIFIED:20250105T205009Z
UID:3241-1758571200-1758573000@aresofmocotx.org
SUMMARY:ARES Monday VHF Net
DESCRIPTION:VHF Net at 2000\, (8:00pm)\, on 147.140 MHz/136.5 (tone) Repeater)
URL:https://aresofmocotx.org/event/ares-monday-vhf-net-91/
LOCATION:ARES Monday VHF Net\, 147.14 MHz +/136.5(tone) Repeater\, Conroe\, United States
CATEGORIES:ARES Net
END:VEVENT
BEGIN:VEVENT
DTSTART;TZID=America/Chicago:20250923T200000
DTEND;TZID=America/Chicago:20250923T203000
DTSTAMP:20260424T103500
CREATED:20241231T222347Z
LAST-MODIFIED:20250105T205332Z
UID:3093-1758657600-1758659400@aresofmocotx.org
SUMMARY:ARES Tuesday Net
DESCRIPTION:Emergency Exercise Net starting at 2000 (8:00pm). We encourage all to please participate so that you are practiced in the net.  \nThose able to do so\, we encourage all to participate in BBS Packet\, Vara HF\, and Winlink (Telnet).   \nSend your digital check ins prior to the net. \n\nPhone –  146.920 MHz – /203.5 (tone) Repeater\n\nDigital BBS Packet – 145.030 MHz Simplex\n\nDigital Vara HF  – Center Freq: 3.58850 MHz\n\nDigital Winlink (Telnet) – Send your Winlink (Telnet) check in message to “MCA-NET”
URL:https://aresofmocotx.org/event/ares-tuesday-net-91/
CATEGORIES:ARES Net
END:VEVENT
BEGIN:VEVENT
DTSTART;TZID=America/Chicago:20250929T193000
DTEND;TZID=America/Chicago:20250929T200000
DTSTAMP:20260424T103500
CREATED:20241231T211420Z
LAST-MODIFIED:20250105T204709Z
UID:3004-1759174200-1759176000@aresofmocotx.org
SUMMARY:ARES Monday HF Net
DESCRIPTION:ARES HF Net on 3.873 MHz starting at 1930 (7:30pm).  When checking in\, we are in District 1.  You can also check in digitally using TXARES-HF on hf radio only.  No telnet.
URL:https://aresofmocotx.org/event/ares-monday-hf-net-92/
LOCATION:ARES Monday HF Net\, 3.873 MHz\, United States
CATEGORIES:ARES Net
END:VEVENT
BEGIN:VEVENT
DTSTART;TZID=America/Chicago:20250929T200000
DTEND;TZID=America/Chicago:20250929T203000
DTSTAMP:20260424T103500
CREATED:20250105T205010Z
LAST-MODIFIED:20250105T205010Z
UID:3242-1759176000-1759177800@aresofmocotx.org
SUMMARY:ARES Monday VHF Net
DESCRIPTION:VHF Net at 2000\, (8:00pm)\, on 147.140 MHz/136.5 (tone) Repeater)
URL:https://aresofmocotx.org/event/ares-monday-vhf-net-92/
LOCATION:ARES Monday VHF Net\, 147.14 MHz +/136.5(tone) Repeater\, Conroe\, United States
CATEGORIES:ARES Net
END:VEVENT
BEGIN:VEVENT
DTSTART;TZID=America/Chicago:20250930T200000
DTEND;TZID=America/Chicago:20250930T203000
DTSTAMP:20260424T103500
CREATED:20241231T222347Z
LAST-MODIFIED:20250105T205332Z
UID:3094-1759262400-1759264200@aresofmocotx.org
SUMMARY:ARES Tuesday Net
DESCRIPTION:Emergency Exercise Net starting at 2000 (8:00pm). We encourage all to please participate so that you are practiced in the net.  \nThose able to do so\, we encourage all to participate in BBS Packet\, Vara HF\, and Winlink (Telnet).   \nSend your digital check ins prior to the net. \n\nPhone –  146.920 MHz – /203.5 (tone) Repeater\n\nDigital BBS Packet – 145.030 MHz Simplex\n\nDigital Vara HF  – Center Freq: 3.58850 MHz\n\nDigital Winlink (Telnet) – Send your Winlink (Telnet) check in message to “MCA-NET”
URL:https://aresofmocotx.org/event/ares-tuesday-net-92/
CATEGORIES:ARES Net
END:VEVENT
BEGIN:VEVENT
DTSTART;TZID=America/Chicago:20251006T193000
DTEND;TZID=America/Chicago:20251006T200000
DTSTAMP:20260424T103500
CREATED:20241231T211617Z
LAST-MODIFIED:20250105T204724Z
UID:3005-1759779000-1759780800@aresofmocotx.org
SUMMARY:ARES Monday HF Net
DESCRIPTION:ARES HF Net on 3.873 MHz starting at 1930 (7:30pm).  When checking in\, we are in District 1.  You can also check in digitally using TXARES-HF on hf radio only.  No telnet.
URL:https://aresofmocotx.org/event/ares-monday-hf-net-93/
LOCATION:ARES Monday HF Net\, 3.873 MHz\, United States
CATEGORIES:ARES Net
END:VEVENT
BEGIN:VEVENT
DTSTART;TZID=America/Chicago:20251006T200000
DTEND;TZID=America/Chicago:20251006T203000
DTSTAMP:20260424T103500
CREATED:20250105T205010Z
LAST-MODIFIED:20250105T205010Z
UID:3243-1759780800-1759782600@aresofmocotx.org
SUMMARY:ARES Monday VHF Net
DESCRIPTION:VHF Net at 2000\, (8:00pm)\, on 147.140 MHz/136.5 (tone) Repeater)
URL:https://aresofmocotx.org/event/ares-monday-vhf-net-93/
LOCATION:ARES Monday VHF Net\, 147.14 MHz +/136.5(tone) Repeater\, Conroe\, United States
CATEGORIES:ARES Net
END:VEVENT
BEGIN:VEVENT
DTSTART;TZID=America/Chicago:20251007T200000
DTEND;TZID=America/Chicago:20251007T203000
DTSTAMP:20260424T103500
CREATED:20241231T222401Z
LAST-MODIFIED:20250105T205346Z
UID:3095-1759867200-1759869000@aresofmocotx.org
SUMMARY:ARES Tuesday Net
DESCRIPTION:Emergency Exercise Net starting at 2000 (8:00pm). We encourage all to please participate so that you are practiced in the net.  \nThose able to do so\, we encourage all to participate in BBS Packet\, Vara HF\, and Winlink (Telnet).   \nSend your digital check ins prior to the net. \n\nPhone –  146.920 MHz – /203.5 (tone) Repeater\n\nDigital BBS Packet – 145.030 MHz Simplex\n\nDigital Vara HF  – Center Freq: 3.58850 MHz\n\nDigital Winlink (Telnet) – Send your Winlink (Telnet) check in message to “MCA-NET”
URL:https://aresofmocotx.org/event/ares-tuesday-net-93/
CATEGORIES:ARES Net
END:VEVENT
BEGIN:VEVENT
DTSTART;TZID=America/Chicago:20251013T193000
DTEND;TZID=America/Chicago:20251013T200000
DTSTAMP:20260424T103500
CREATED:20241231T211618Z
LAST-MODIFIED:20250105T204724Z
UID:3006-1760383800-1760385600@aresofmocotx.org
SUMMARY:ARES Monday HF Net
DESCRIPTION:ARES HF Net on 3.873 MHz starting at 1930 (7:30pm).  When checking in\, we are in District 1.  You can also check in digitally using TXARES-HF on hf radio only.  No telnet.
URL:https://aresofmocotx.org/event/ares-monday-hf-net-94/
LOCATION:ARES Monday HF Net\, 3.873 MHz\, United States
CATEGORIES:ARES Net
END:VEVENT
BEGIN:VEVENT
DTSTART;TZID=America/Chicago:20251013T200000
DTEND;TZID=America/Chicago:20251013T203000
DTSTAMP:20260424T103500
CREATED:20250105T205010Z
LAST-MODIFIED:20250105T205010Z
UID:3244-1760385600-1760387400@aresofmocotx.org
SUMMARY:ARES Monday VHF Net
DESCRIPTION:VHF Net at 2000\, (8:00pm)\, on 147.140 MHz/136.5 (tone) Repeater)
URL:https://aresofmocotx.org/event/ares-monday-vhf-net-94/
LOCATION:ARES Monday VHF Net\, 147.14 MHz +/136.5(tone) Repeater\, Conroe\, United States
CATEGORIES:ARES Net
END:VEVENT
BEGIN:VEVENT
DTSTART;TZID=America/Chicago:20251014T200000
DTEND;TZID=America/Chicago:20251014T203000
DTSTAMP:20260424T103500
CREATED:20241231T222402Z
LAST-MODIFIED:20250105T205346Z
UID:3096-1760472000-1760473800@aresofmocotx.org
SUMMARY:ARES Tuesday Net
DESCRIPTION:Emergency Exercise Net starting at 2000 (8:00pm). We encourage all to please participate so that you are practiced in the net.  \nThose able to do so\, we encourage all to participate in BBS Packet\, Vara HF\, and Winlink (Telnet).   \nSend your digital check ins prior to the net. \n\nPhone –  146.920 MHz – /203.5 (tone) Repeater\n\nDigital BBS Packet – 145.030 MHz Simplex\n\nDigital Vara HF  – Center Freq: 3.58850 MHz\n\nDigital Winlink (Telnet) – Send your Winlink (Telnet) check in message to “MCA-NET”
URL:https://aresofmocotx.org/event/ares-tuesday-net-94/
CATEGORIES:ARES Net
END:VEVENT
BEGIN:VEVENT
DTSTART;TZID=America/Chicago:20251020T193000
DTEND;TZID=America/Chicago:20251020T200000
DTSTAMP:20260424T103500
CREATED:20241231T211619Z
LAST-MODIFIED:20250105T204724Z
UID:3007-1760988600-1760990400@aresofmocotx.org
SUMMARY:ARES Monday HF Net
DESCRIPTION:ARES HF Net on 3.873 MHz starting at 1930 (7:30pm).  When checking in\, we are in District 1.  You can also check in digitally using TXARES-HF on hf radio only.  No telnet.
URL:https://aresofmocotx.org/event/ares-monday-hf-net-95/
LOCATION:ARES Monday HF Net\, 3.873 MHz\, United States
CATEGORIES:ARES Net
END:VEVENT
BEGIN:VEVENT
DTSTART;TZID=America/Chicago:20251020T200000
DTEND;TZID=America/Chicago:20251020T203000
DTSTAMP:20260424T103500
CREATED:20250105T205010Z
LAST-MODIFIED:20250105T205010Z
UID:3245-1760990400-1760992200@aresofmocotx.org
SUMMARY:ARES Monday VHF Net
DESCRIPTION:VHF Net at 2000\, (8:00pm)\, on 147.140 MHz/136.5 (tone) Repeater)
URL:https://aresofmocotx.org/event/ares-monday-vhf-net-95/
LOCATION:ARES Monday VHF Net\, 147.14 MHz +/136.5(tone) Repeater\, Conroe\, United States
CATEGORIES:ARES Net
END:VEVENT
BEGIN:VEVENT
DTSTART;TZID=America/Chicago:20251021T200000
DTEND;TZID=America/Chicago:20251021T203000
DTSTAMP:20260424T103500
CREATED:20241231T222402Z
LAST-MODIFIED:20250105T205346Z
UID:3097-1761076800-1761078600@aresofmocotx.org
SUMMARY:ARES Tuesday Net
DESCRIPTION:Emergency Exercise Net starting at 2000 (8:00pm). We encourage all to please participate so that you are practiced in the net.  \nThose able to do so\, we encourage all to participate in BBS Packet\, Vara HF\, and Winlink (Telnet).   \nSend your digital check ins prior to the net. \n\nPhone –  146.920 MHz – /203.5 (tone) Repeater\n\nDigital BBS Packet – 145.030 MHz Simplex\n\nDigital Vara HF  – Center Freq: 3.58850 MHz\n\nDigital Winlink (Telnet) – Send your Winlink (Telnet) check in message to “MCA-NET”
URL:https://aresofmocotx.org/event/ares-tuesday-net-95/
CATEGORIES:ARES Net
END:VEVENT
BEGIN:VEVENT
DTSTART;TZID=America/Chicago:20251027T193000
DTEND;TZID=America/Chicago:20251027T200000
DTSTAMP:20260424T103500
CREATED:20241231T211620Z
LAST-MODIFIED:20250105T204724Z
UID:3008-1761593400-1761595200@aresofmocotx.org
SUMMARY:ARES Monday HF Net
DESCRIPTION:ARES HF Net on 3.873 MHz starting at 1930 (7:30pm).  When checking in\, we are in District 1.  You can also check in digitally using TXARES-HF on hf radio only.  No telnet.
URL:https://aresofmocotx.org/event/ares-monday-hf-net-96/
LOCATION:ARES Monday HF Net\, 3.873 MHz\, United States
CATEGORIES:ARES Net
END:VEVENT
BEGIN:VEVENT
DTSTART;TZID=America/Chicago:20251027T200000
DTEND;TZID=America/Chicago:20251027T203000
DTSTAMP:20260424T103500
CREATED:20250105T205023Z
LAST-MODIFIED:20250105T205023Z
UID:3246-1761595200-1761597000@aresofmocotx.org
SUMMARY:ARES Monday VHF Net
DESCRIPTION:VHF Net at 2000\, (8:00pm)\, on 147.140 MHz/136.5 (tone) Repeater)
URL:https://aresofmocotx.org/event/ares-monday-vhf-net-96/
LOCATION:ARES Monday VHF Net\, 147.14 MHz +/136.5(tone) Repeater\, Conroe\, United States
CATEGORIES:ARES Net
END:VEVENT
BEGIN:VEVENT
DTSTART;TZID=America/Chicago:20251028T200000
DTEND;TZID=America/Chicago:20251028T203000
DTSTAMP:20260424T103500
CREATED:20241231T222402Z
LAST-MODIFIED:20250105T205347Z
UID:3098-1761681600-1761683400@aresofmocotx.org
SUMMARY:ARES Tuesday Net
DESCRIPTION:Emergency Exercise Net starting at 2000 (8:00pm). We encourage all to please participate so that you are practiced in the net.  \nThose able to do so\, we encourage all to participate in BBS Packet\, Vara HF\, and Winlink (Telnet).   \nSend your digital check ins prior to the net. \n\nPhone –  146.920 MHz – /203.5 (tone) Repeater\n\nDigital BBS Packet – 145.030 MHz Simplex\n\nDigital Vara HF  – Center Freq: 3.58850 MHz\n\nDigital Winlink (Telnet) – Send your Winlink (Telnet) check in message to “MCA-NET”
URL:https://aresofmocotx.org/event/ares-tuesday-net-96/
CATEGORIES:ARES Net
END:VEVENT
BEGIN:VEVENT
DTSTART;TZID=America/Chicago:20251103T193000
DTEND;TZID=America/Chicago:20251103T200000
DTSTAMP:20260424T103500
CREATED:20241231T211622Z
LAST-MODIFIED:20250105T204724Z
UID:3009-1762198200-1762200000@aresofmocotx.org
SUMMARY:ARES Monday HF Net
DESCRIPTION:ARES HF Net on 3.873 MHz starting at 1930 (7:30pm).  When checking in\, we are in District 1.  You can also check in digitally using TXARES-HF on hf radio only.  No telnet.
URL:https://aresofmocotx.org/event/ares-monday-hf-net-97/
LOCATION:ARES Monday HF Net\, 3.873 MHz\, United States
CATEGORIES:ARES Net
END:VEVENT
BEGIN:VEVENT
DTSTART;TZID=America/Chicago:20251103T200000
DTEND;TZID=America/Chicago:20251103T203000
DTSTAMP:20260424T103500
CREATED:20250105T205024Z
LAST-MODIFIED:20250105T205024Z
UID:3247-1762200000-1762201800@aresofmocotx.org
SUMMARY:ARES Monday VHF Net
DESCRIPTION:VHF Net at 2000\, (8:00pm)\, on 147.140 MHz/136.5 (tone) Repeater)
URL:https://aresofmocotx.org/event/ares-monday-vhf-net-97/
LOCATION:ARES Monday VHF Net\, 147.14 MHz +/136.5(tone) Repeater\, Conroe\, United States
CATEGORIES:ARES Net
END:VEVENT
BEGIN:VEVENT
DTSTART;TZID=America/Chicago:20251104T200000
DTEND;TZID=America/Chicago:20251104T203000
DTSTAMP:20260424T103500
CREATED:20241231T222402Z
LAST-MODIFIED:20251103T194855Z
UID:3099-1762286400-1762288200@aresofmocotx.org
SUMMARY:ARES Tuesday Net
DESCRIPTION:Emergency Exercise Net starting at 2000 (8:00pm). We encourage all to please participate so that you are practiced in the net. \nThose able to do so\, we encourage all to participate in BBS Packet\, Vara HF\, and Winlink (Telnet). \nSend your digital check ins prior to the net. \n\nPhone –  146.920 MHz – /203.5 (tone) Repeater\nDigital BBS Packet – 145.030 MHz Simplex – Send Bulletin to ALL@WA5EOC through any packet BBS gateway.\n\nExample WA5EOC-1 v Conroe – you may send BBS check ins up to 5 days in advance. If there are issues connecting please wait 5 minutes before trying again.  Allowing the BBS time to reset.\n\n\nDigital\n\nVara HF P2P – Center Freq: 3.58850 MHz – N5KWN – Send to N5KWN after 7:30 PM – before 8:00 PM\nDigital Winlink – Send your Winlink check in message to “MCA-NET” – include method in the subject line\n\nTelnet\nUHF / VHF Packet\nUHF / VHF VARA FM\nVARA HF\n\n\n\n\n\nThe net log is available for anyone to monitor real time – https://aresofmocotx.org – Go To Members – This month Net Log – Select the tab for the current week.
URL:https://aresofmocotx.org/event/ares-tuesday-net-97/
CATEGORIES:ARES Net
END:VEVENT
BEGIN:VEVENT
DTSTART;TZID=America/Chicago:20251110T193000
DTEND;TZID=America/Chicago:20251110T200000
DTSTAMP:20260424T103500
CREATED:20241231T211633Z
LAST-MODIFIED:20250105T204739Z
UID:3010-1762803000-1762804800@aresofmocotx.org
SUMMARY:ARES Monday HF Net
DESCRIPTION:ARES HF Net on 3.873 MHz starting at 1930 (7:30pm).  When checking in\, we are in District 1.  You can also check in digitally using TXARES-HF on hf radio only.  No telnet.
URL:https://aresofmocotx.org/event/ares-monday-hf-net-98/
LOCATION:ARES Monday HF Net\, 3.873 MHz\, United States
CATEGORIES:ARES Net
END:VEVENT
BEGIN:VEVENT
DTSTART;TZID=America/Chicago:20251110T200000
DTEND;TZID=America/Chicago:20251110T203000
DTSTAMP:20260424T103500
CREATED:20250105T205024Z
LAST-MODIFIED:20250105T205024Z
UID:3248-1762804800-1762806600@aresofmocotx.org
SUMMARY:ARES Monday VHF Net
DESCRIPTION:VHF Net at 2000\, (8:00pm)\, on 147.140 MHz/136.5 (tone) Repeater)
URL:https://aresofmocotx.org/event/ares-monday-vhf-net-98/
LOCATION:ARES Monday VHF Net\, 147.14 MHz +/136.5(tone) Repeater\, Conroe\, United States
CATEGORIES:ARES Net
END:VEVENT
BEGIN:VEVENT
DTSTART;TZID=America/Chicago:20251111T200000
DTEND;TZID=America/Chicago:20251111T203000
DTSTAMP:20260424T103500
CREATED:20241231T222416Z
LAST-MODIFIED:20251103T194813Z
UID:3100-1762891200-1762893000@aresofmocotx.org
SUMMARY:ARES Tuesday Net
DESCRIPTION:Emergency Exercise Net starting at 2000 (8:00pm). We encourage all to please participate so that you are practiced in the net. \nThose able to do so\, we encourage all to participate in BBS Packet\, Vara HF\, and Winlink (Telnet). \nSend your digital check ins prior to the net. \n\nPhone –  146.920 MHz – /203.5 (tone) Repeater\nDigital BBS Packet – 145.030 MHz Simplex – Send Bulletin to ALL@WA5EOC through any packet BBS gateway.\n\nExample WA5EOC-1 v Conroe – you may send BBS check ins up to 5 days in advance. If there are issues connecting please wait 5 minutes before trying again.  Allowing the BBS time to reset.\n\n\nDigital\n\nVara HF P2P – Center Freq: 3.58850 MHz – N5KWN – Send to N5KWN after 7:30 PM – before 8:00 PM\nDigital Winlink – Send your Winlink check in message to “MCA-NET” – include method in the subject line\n\nTelnet\nUHF / VHF Packet\nUHF / VHF VARA FM\nVARA HF\n\n\n\n\n\nThe net log is available for anyone to monitor real time – https://aresofmocotx.org – Go To Members – This month Net Log – Select the tab for the current week.
URL:https://aresofmocotx.org/event/ares-tuesday-net-98/
CATEGORIES:ARES Net
END:VEVENT
BEGIN:VEVENT
DTSTART;TZID=America/Chicago:20251117T193000
DTEND;TZID=America/Chicago:20251117T200000
DTSTAMP:20260424T103500
CREATED:20241231T211635Z
LAST-MODIFIED:20250105T204739Z
UID:3011-1763407800-1763409600@aresofmocotx.org
SUMMARY:ARES Monday HF Net
DESCRIPTION:ARES HF Net on 3.873 MHz starting at 1930 (7:30pm).  When checking in\, we are in District 1.  You can also check in digitally using TXARES-HF on hf radio only.  No telnet.
URL:https://aresofmocotx.org/event/ares-monday-hf-net-99/
LOCATION:ARES Monday HF Net\, 3.873 MHz\, United States
CATEGORIES:ARES Net
END:VEVENT
BEGIN:VEVENT
DTSTART;TZID=America/Chicago:20251117T200000
DTEND;TZID=America/Chicago:20251117T203000
DTSTAMP:20260424T103500
CREATED:20250105T205024Z
LAST-MODIFIED:20250105T205024Z
UID:3249-1763409600-1763411400@aresofmocotx.org
SUMMARY:ARES Monday VHF Net
DESCRIPTION:VHF Net at 2000\, (8:00pm)\, on 147.140 MHz/136.5 (tone) Repeater)
URL:https://aresofmocotx.org/event/ares-monday-vhf-net-99/
LOCATION:ARES Monday VHF Net\, 147.14 MHz +/136.5(tone) Repeater\, Conroe\, United States
CATEGORIES:ARES Net
END:VEVENT
BEGIN:VEVENT
DTSTART;TZID=America/Chicago:20251118T200000
DTEND;TZID=America/Chicago:20251118T203000
DTSTAMP:20260424T103500
CREATED:20241231T222417Z
LAST-MODIFIED:20251117T131823Z
UID:3101-1763496000-1763497800@aresofmocotx.org
SUMMARY:ARES Tuesday Net
DESCRIPTION:Emergency Exercise Net starting at 2000 (8:00pm). We encourage all to please participate so that you are practiced in the net. \nThose able to do so\, we encourage all to participate in BBS Packet\, Vara HF\, and Winlink (Telnet). \nSend your digital check ins prior to the net. \n\nPhone –  146.920 MHz – /203.5 (tone) Repeater\n\n\nDigital BBS Packet – 145.030 MHz Simplex –\n\nWA5EOC-1 is experiencing problems.\nPlease send your BBS Packet Check In to W5MAX-1 v Conroe after 6:30 PM\nC W5MAX-1 V CONROE\nSB ALL\nSubject: Net Check In\nMessage: Please check me in. /ex\n\n\n\n\nDigital\n\nVara HF P2P – Center Freq: 3.58850 MHz – N5KWN – Send to N5KWN after 7:30 PM – before 8:00 PM\nDigital Winlink – Send your Winlink check in message to “MCA-NET” – include method in the subject line\n\nTelnet\nUHF / VHF Packet\nUHF / VHF VARA FM\nVARA HF\n\n\n\n\n\nThe net log is available for anyone to monitor real time – https://aresofmocotx.org – Go To Members – This month Net Log – Select the tab for the current week.
URL:https://aresofmocotx.org/event/ares-tuesday-net-99/
CATEGORIES:ARES Net
END:VEVENT
BEGIN:VEVENT
DTSTART;TZID=America/Chicago:20251124T193000
DTEND;TZID=America/Chicago:20251124T200000
DTSTAMP:20260424T103500
CREATED:20241231T211635Z
LAST-MODIFIED:20250105T204740Z
UID:3012-1764012600-1764014400@aresofmocotx.org
SUMMARY:ARES Monday HF Net
DESCRIPTION:ARES HF Net on 3.873 MHz starting at 1930 (7:30pm).  When checking in\, we are in District 1.  You can also check in digitally using TXARES-HF on hf radio only.  No telnet.
URL:https://aresofmocotx.org/event/ares-monday-hf-net-100/
LOCATION:ARES Monday HF Net\, 3.873 MHz\, United States
CATEGORIES:ARES Net
END:VEVENT
BEGIN:VEVENT
DTSTART;TZID=America/Chicago:20251124T200000
DTEND;TZID=America/Chicago:20251124T203000
DTSTAMP:20260424T103500
CREATED:20250105T205025Z
LAST-MODIFIED:20250105T205025Z
UID:3250-1764014400-1764016200@aresofmocotx.org
SUMMARY:ARES Monday VHF Net
DESCRIPTION:VHF Net at 2000\, (8:00pm)\, on 147.140 MHz/136.5 (tone) Repeater)
URL:https://aresofmocotx.org/event/ares-monday-vhf-net-100/
LOCATION:ARES Monday VHF Net\, 147.14 MHz +/136.5(tone) Repeater\, Conroe\, United States
CATEGORIES:ARES Net
END:VEVENT
END:VCALENDAR