BEGIN:VCALENDAR
VERSION:2.0
PRODID:-//ARES - ECPv6.15.20//NONSGML v1.0//EN
CALSCALE:GREGORIAN
METHOD:PUBLISH
X-WR-CALNAME:ARES
X-ORIGINAL-URL:https://aresofmocotx.org
X-WR-CALDESC:Events for ARES
REFRESH-INTERVAL;VALUE=DURATION:PT1H
X-Robots-Tag:noindex
X-PUBLISHED-TTL:PT1H
BEGIN:VTIMEZONE
TZID:America/Chicago
BEGIN:DAYLIGHT
TZOFFSETFROM:-0600
TZOFFSETTO:-0500
TZNAME:CDT
DTSTART:20250309T080000
END:DAYLIGHT
BEGIN:STANDARD
TZOFFSETFROM:-0500
TZOFFSETTO:-0600
TZNAME:CST
DTSTART:20251102T070000
END:STANDARD
BEGIN:DAYLIGHT
TZOFFSETFROM:-0600
TZOFFSETTO:-0500
TZNAME:CDT
DTSTART:20260308T080000
END:DAYLIGHT
BEGIN:STANDARD
TZOFFSETFROM:-0500
TZOFFSETTO:-0600
TZNAME:CST
DTSTART:20261101T070000
END:STANDARD
BEGIN:DAYLIGHT
TZOFFSETFROM:-0600
TZOFFSETTO:-0500
TZNAME:CDT
DTSTART:20270314T080000
END:DAYLIGHT
BEGIN:STANDARD
TZOFFSETFROM:-0500
TZOFFSETTO:-0600
TZNAME:CST
DTSTART:20271107T070000
END:STANDARD
END:VTIMEZONE
BEGIN:VEVENT
DTSTART;TZID=America/Chicago:20260608T193000
DTEND;TZID=America/Chicago:20260608T200000
DTSTAMP:20260423T190555
CREATED:20251231T200451Z
LAST-MODIFIED:20251231T211835Z
UID:5594-1780947000-1780948800@aresofmocotx.org
SUMMARY:ARES Monday HF Net
DESCRIPTION:ARES HF Net on 3.873 MHz or 7.285 MHz  starting at 1930 (7:30pm).  When checking in\, we are in District 1.  Send WinLink check-ins. no later than the end of the voice net. Please send your message to TXARES-HF and AA5AF our digital ASEC\, with the following information: Digital mode used (Pactor\, VARA\, VARA FM or Packet) Callsign of WinLink RMS gateway used Frequency used.
URL:https://aresofmocotx.org/event/ares-monday-hf-net-128/
LOCATION:ARES Monday HF Net\, 3.873 MHz\, United States
CATEGORIES:ARES Net
END:VEVENT
BEGIN:VEVENT
DTSTART;TZID=America/Chicago:20260608T200000
DTEND;TZID=America/Chicago:20260608T203000
DTSTAMP:20260423T190555
CREATED:20251231T201222Z
LAST-MODIFIED:20251231T212135Z
UID:5677-1780948800-1780950600@aresofmocotx.org
SUMMARY:ARES Monday VHF Net
DESCRIPTION:VHF Net at 2000\, (8:00pm)\, on 147.140 MHz/136.5 (tone) Repeater)
URL:https://aresofmocotx.org/event/ares-monday-vhf-net-128/
LOCATION:ARES Monday VHF Net\, 147.14 MHz +/136.5(tone) Repeater\, Conroe\, United States
CATEGORIES:ARES Net
END:VEVENT
BEGIN:VEVENT
DTSTART;TZID=America/Chicago:20260609T200000
DTEND;TZID=America/Chicago:20260609T203000
DTSTAMP:20260423T190555
CREATED:20251231T202704Z
LAST-MODIFIED:20251231T213450Z
UID:5769-1781035200-1781037000@aresofmocotx.org
SUMMARY:ARES Tuesday Net
DESCRIPTION:Emergency Exercise Net starting at 2000 (8:00pm). We encourage all to please participate so that you are practiced in the net.  \nThose able to do so\, we encourage all to participate in BBS Packet\, Vara HF\, VARA FM\, Winlink Packet and Winlink Telnet.   \nSend your digital check ins prior to the voice net. \n\nPhone –  146.920 MHz – /203.5 (tone) Repeater\n\nDigital BBS Packet – 145.030 MHz Simplex – Send Bulletin to ALL connect to WA5EOC-1 v CONROE\n\nDigital Vara HF P2P  – Center Freq: 3.58850 MHz Send to N5KWN\n\nDigital Winlink VARA HF\, VARA FM\, Winlink Packet\, Winlink Telnet – Send to MCA-NET
URL:https://aresofmocotx.org/event/ares-tuesday-net-128/
CATEGORIES:ARES Net
END:VEVENT
BEGIN:VEVENT
DTSTART;TZID=America/Chicago:20260611T183000
DTEND;TZID=America/Chicago:20260611T193000
DTSTAMP:20260423T190555
CREATED:20251231T214934Z
LAST-MODIFIED:20251231T214934Z
UID:5958-1781202600-1781206200@aresofmocotx.org
SUMMARY:ARES Meeting Training
DESCRIPTION:Training at 1830 (6:30pm) Topic To Be announced
URL:https://aresofmocotx.org/event/ares-meeting-training-6/
LOCATION:The Woodlands Emergency Training Center\, 16135 IH 45 South\, The Woodlands\, 77385\, United States
CATEGORIES:ARES Training
END:VEVENT
BEGIN:VEVENT
DTSTART;TZID=America/Chicago:20260611T193000
DTEND;TZID=America/Chicago:20260611T210000
DTSTAMP:20260423T190555
CREATED:20251231T195156Z
LAST-MODIFIED:20251231T214849Z
UID:5558-1781206200-1781211600@aresofmocotx.org
SUMMARY:ARES Meeting
DESCRIPTION:Meeting at 1930 (7:30pm) In Person Meeting
URL:https://aresofmocotx.org/event/ares-meeting-31/
LOCATION:The Woodlands Emergency Training Center\, 16135 IH 45 South\, The Woodlands\, 77385\, United States
CATEGORIES:ARES Meeting
END:VEVENT
BEGIN:VEVENT
DTSTART;TZID=America/Chicago:20260615T193000
DTEND;TZID=America/Chicago:20260615T200000
DTSTAMP:20260423T190555
CREATED:20251231T200451Z
LAST-MODIFIED:20251231T211836Z
UID:5595-1781551800-1781553600@aresofmocotx.org
SUMMARY:ARES Monday HF Net
DESCRIPTION:ARES HF Net on 3.873 MHz or 7.285 MHz  starting at 1930 (7:30pm).  When checking in\, we are in District 1.  Send WinLink check-ins. no later than the end of the voice net. Please send your message to TXARES-HF and AA5AF our digital ASEC\, with the following information: Digital mode used (Pactor\, VARA\, VARA FM or Packet) Callsign of WinLink RMS gateway used Frequency used.
URL:https://aresofmocotx.org/event/ares-monday-hf-net-129/
LOCATION:ARES Monday HF Net\, 3.873 MHz\, United States
CATEGORIES:ARES Net
END:VEVENT
BEGIN:VEVENT
DTSTART;TZID=America/Chicago:20260615T200000
DTEND;TZID=America/Chicago:20260615T203000
DTSTAMP:20260423T190555
CREATED:20251231T201223Z
LAST-MODIFIED:20251231T212136Z
UID:5678-1781553600-1781555400@aresofmocotx.org
SUMMARY:ARES Monday VHF Net
DESCRIPTION:VHF Net at 2000\, (8:00pm)\, on 147.140 MHz/136.5 (tone) Repeater)
URL:https://aresofmocotx.org/event/ares-monday-vhf-net-129/
LOCATION:ARES Monday VHF Net\, 147.14 MHz +/136.5(tone) Repeater\, Conroe\, United States
CATEGORIES:ARES Net
END:VEVENT
BEGIN:VEVENT
DTSTART;TZID=America/Chicago:20260616T200000
DTEND;TZID=America/Chicago:20260616T203000
DTSTAMP:20260423T190555
CREATED:20251231T202704Z
LAST-MODIFIED:20251231T213450Z
UID:5770-1781640000-1781641800@aresofmocotx.org
SUMMARY:ARES Tuesday Net
DESCRIPTION:Emergency Exercise Net starting at 2000 (8:00pm). We encourage all to please participate so that you are practiced in the net.  \nThose able to do so\, we encourage all to participate in BBS Packet\, Vara HF\, VARA FM\, Winlink Packet and Winlink Telnet.   \nSend your digital check ins prior to the voice net. \n\nPhone –  146.920 MHz – /203.5 (tone) Repeater\n\nDigital BBS Packet – 145.030 MHz Simplex – Send Bulletin to ALL connect to WA5EOC-1 v CONROE\n\nDigital Vara HF P2P  – Center Freq: 3.58850 MHz Send to N5KWN\n\nDigital Winlink VARA HF\, VARA FM\, Winlink Packet\, Winlink Telnet – Send to MCA-NET
URL:https://aresofmocotx.org/event/ares-tuesday-net-129/
CATEGORIES:ARES Net
END:VEVENT
BEGIN:VEVENT
DTSTART;TZID=America/Chicago:20260622T193000
DTEND;TZID=America/Chicago:20260622T200000
DTSTAMP:20260423T190555
CREATED:20251231T200505Z
LAST-MODIFIED:20251231T211850Z
UID:5596-1782156600-1782158400@aresofmocotx.org
SUMMARY:ARES Monday HF Net
DESCRIPTION:ARES HF Net on 3.873 MHz or 7.285 MHz  starting at 1930 (7:30pm).  When checking in\, we are in District 1.  Send WinLink check-ins. no later than the end of the voice net. Please send your message to TXARES-HF and AA5AF our digital ASEC\, with the following information: Digital mode used (Pactor\, VARA\, VARA FM or Packet) Callsign of WinLink RMS gateway used Frequency used.
URL:https://aresofmocotx.org/event/ares-monday-hf-net-130/
LOCATION:ARES Monday HF Net\, 3.873 MHz\, United States
CATEGORIES:ARES Net
END:VEVENT
BEGIN:VEVENT
DTSTART;TZID=America/Chicago:20260622T200000
DTEND;TZID=America/Chicago:20260622T203000
DTSTAMP:20260423T190555
CREATED:20251231T201223Z
LAST-MODIFIED:20251231T212136Z
UID:5679-1782158400-1782160200@aresofmocotx.org
SUMMARY:ARES Monday VHF Net
DESCRIPTION:VHF Net at 2000\, (8:00pm)\, on 147.140 MHz/136.5 (tone) Repeater)
URL:https://aresofmocotx.org/event/ares-monday-vhf-net-130/
LOCATION:ARES Monday VHF Net\, 147.14 MHz +/136.5(tone) Repeater\, Conroe\, United States
CATEGORIES:ARES Net
END:VEVENT
BEGIN:VEVENT
DTSTART;TZID=America/Chicago:20260623T200000
DTEND;TZID=America/Chicago:20260623T203000
DTSTAMP:20260423T190555
CREATED:20251231T202718Z
LAST-MODIFIED:20251231T213505Z
UID:5771-1782244800-1782246600@aresofmocotx.org
SUMMARY:ARES Tuesday Net
DESCRIPTION:Emergency Exercise Net starting at 2000 (8:00pm). We encourage all to please participate so that you are practiced in the net.  \nThose able to do so\, we encourage all to participate in BBS Packet\, Vara HF\, VARA FM\, Winlink Packet and Winlink Telnet.   \nSend your digital check ins prior to the voice net. \n\nPhone –  146.920 MHz – /203.5 (tone) Repeater\n\nDigital BBS Packet – 145.030 MHz Simplex – Send Bulletin to ALL connect to WA5EOC-1 v CONROE\n\nDigital Vara HF P2P  – Center Freq: 3.58850 MHz Send to N5KWN\n\nDigital Winlink VARA HF\, VARA FM\, Winlink Packet\, Winlink Telnet – Send to MCA-NET
URL:https://aresofmocotx.org/event/ares-tuesday-net-130/
CATEGORIES:ARES Net
END:VEVENT
BEGIN:VEVENT
DTSTART;TZID=America/Chicago:20260627T080000
DTEND;TZID=America/Chicago:20260627T093000
DTSTAMP:20260423T190555
CREATED:20251231T203546Z
LAST-MODIFIED:20251231T203546Z
UID:5803-1782547200-1782552600@aresofmocotx.org
SUMMARY:Ham Radio Operators Get Together Breakfast
DESCRIPTION:Ham Radio Operators Get Together Breakfast – 4th Saturday of each month.<br/Join other ham radio operators for breakfast at the Golden Corral. I-45 North East Feeder just north of HWY 105 Conroe\, TX.\nGet together around 8:00 AM. The Golden Corral does not open until 8:00 AM.  Good food\, great variety and lots of it. I will often just have coffee and conversation.
URL:https://aresofmocotx.org/event/ham-radio-operators-get-together-breakfast-22/
LOCATION:Ham Radio Operators Get Together Breakfast\, 1604 I-45\, Conroe\, TX\, 77301\, United States
CATEGORIES:ARES Meeting
END:VEVENT
BEGIN:VEVENT
DTSTART;TZID=America/Chicago:20260629T193000
DTEND;TZID=America/Chicago:20260629T200000
DTSTAMP:20260423T190555
CREATED:20251231T200505Z
LAST-MODIFIED:20251231T211850Z
UID:5597-1782761400-1782763200@aresofmocotx.org
SUMMARY:ARES Monday HF Net
DESCRIPTION:ARES HF Net on 3.873 MHz or 7.285 MHz  starting at 1930 (7:30pm).  When checking in\, we are in District 1.  Send WinLink check-ins. no later than the end of the voice net. Please send your message to TXARES-HF and AA5AF our digital ASEC\, with the following information: Digital mode used (Pactor\, VARA\, VARA FM or Packet) Callsign of WinLink RMS gateway used Frequency used.
URL:https://aresofmocotx.org/event/ares-monday-hf-net-131/
LOCATION:ARES Monday HF Net\, 3.873 MHz\, United States
CATEGORIES:ARES Net
END:VEVENT
BEGIN:VEVENT
DTSTART;TZID=America/Chicago:20260629T200000
DTEND;TZID=America/Chicago:20260629T203000
DTSTAMP:20260423T190555
CREATED:20251231T201223Z
LAST-MODIFIED:20251231T212136Z
UID:5680-1782763200-1782765000@aresofmocotx.org
SUMMARY:ARES Monday VHF Net
DESCRIPTION:VHF Net at 2000\, (8:00pm)\, on 147.140 MHz/136.5 (tone) Repeater)
URL:https://aresofmocotx.org/event/ares-monday-vhf-net-131/
LOCATION:ARES Monday VHF Net\, 147.14 MHz +/136.5(tone) Repeater\, Conroe\, United States
CATEGORIES:ARES Net
END:VEVENT
BEGIN:VEVENT
DTSTART;TZID=America/Chicago:20260630T200000
DTEND;TZID=America/Chicago:20260630T203000
DTSTAMP:20260423T190555
CREATED:20251231T202719Z
LAST-MODIFIED:20251231T213505Z
UID:5772-1782849600-1782851400@aresofmocotx.org
SUMMARY:ARES Tuesday Net
DESCRIPTION:Emergency Exercise Net starting at 2000 (8:00pm). We encourage all to please participate so that you are practiced in the net.  \nThose able to do so\, we encourage all to participate in BBS Packet\, Vara HF\, VARA FM\, Winlink Packet and Winlink Telnet.   \nSend your digital check ins prior to the voice net. \n\nPhone –  146.920 MHz – /203.5 (tone) Repeater\n\nDigital BBS Packet – 145.030 MHz Simplex – Send Bulletin to ALL connect to WA5EOC-1 v CONROE\n\nDigital Vara HF P2P  – Center Freq: 3.58850 MHz Send to N5KWN\n\nDigital Winlink VARA HF\, VARA FM\, Winlink Packet\, Winlink Telnet – Send to MCA-NET
URL:https://aresofmocotx.org/event/ares-tuesday-net-131/
CATEGORIES:ARES Net
END:VEVENT
BEGIN:VEVENT
DTSTART;TZID=America/Chicago:20260706T193000
DTEND;TZID=America/Chicago:20260706T200000
DTSTAMP:20260423T190555
CREATED:20251231T200506Z
LAST-MODIFIED:20251231T211850Z
UID:5598-1783366200-1783368000@aresofmocotx.org
SUMMARY:ARES Monday HF Net
DESCRIPTION:ARES HF Net on 3.873 MHz or 7.285 MHz  starting at 1930 (7:30pm).  When checking in\, we are in District 1.  Send WinLink check-ins. no later than the end of the voice net. Please send your message to TXARES-HF and AA5AF our digital ASEC\, with the following information: Digital mode used (Pactor\, VARA\, VARA FM or Packet) Callsign of WinLink RMS gateway used Frequency used.
URL:https://aresofmocotx.org/event/ares-monday-hf-net-132/
LOCATION:ARES Monday HF Net\, 3.873 MHz\, United States
CATEGORIES:ARES Net
END:VEVENT
BEGIN:VEVENT
DTSTART;TZID=America/Chicago:20260706T200000
DTEND;TZID=America/Chicago:20260706T203000
DTSTAMP:20260423T190555
CREATED:20251231T201223Z
LAST-MODIFIED:20251231T212136Z
UID:5681-1783368000-1783369800@aresofmocotx.org
SUMMARY:ARES Monday VHF Net
DESCRIPTION:VHF Net at 2000\, (8:00pm)\, on 147.140 MHz/136.5 (tone) Repeater)
URL:https://aresofmocotx.org/event/ares-monday-vhf-net-132/
LOCATION:ARES Monday VHF Net\, 147.14 MHz +/136.5(tone) Repeater\, Conroe\, United States
CATEGORIES:ARES Net
END:VEVENT
BEGIN:VEVENT
DTSTART;TZID=America/Chicago:20260707T200000
DTEND;TZID=America/Chicago:20260707T203000
DTSTAMP:20260423T190555
CREATED:20251231T202719Z
LAST-MODIFIED:20251231T213505Z
UID:5773-1783454400-1783456200@aresofmocotx.org
SUMMARY:ARES Tuesday Net
DESCRIPTION:Emergency Exercise Net starting at 2000 (8:00pm). We encourage all to please participate so that you are practiced in the net.  \nThose able to do so\, we encourage all to participate in BBS Packet\, Vara HF\, VARA FM\, Winlink Packet and Winlink Telnet.   \nSend your digital check ins prior to the voice net. \n\nPhone –  146.920 MHz – /203.5 (tone) Repeater\n\nDigital BBS Packet – 145.030 MHz Simplex – Send Bulletin to ALL connect to WA5EOC-1 v CONROE\n\nDigital Vara HF P2P  – Center Freq: 3.58850 MHz Send to N5KWN\n\nDigital Winlink VARA HF\, VARA FM\, Winlink Packet\, Winlink Telnet – Send to MCA-NET
URL:https://aresofmocotx.org/event/ares-tuesday-net-132/
CATEGORIES:ARES Net
END:VEVENT
BEGIN:VEVENT
DTSTART;TZID=America/Chicago:20260709T183000
DTEND;TZID=America/Chicago:20260709T193000
DTSTAMP:20260423T190555
CREATED:20251231T214935Z
LAST-MODIFIED:20251231T214935Z
UID:5959-1783621800-1783625400@aresofmocotx.org
SUMMARY:ARES Meeting Training
DESCRIPTION:Training at 1830 (6:30pm) Topic To Be announced
URL:https://aresofmocotx.org/event/ares-meeting-training-7/
LOCATION:The Woodlands Emergency Training Center\, 16135 IH 45 South\, The Woodlands\, 77385\, United States
CATEGORIES:ARES Training
END:VEVENT
BEGIN:VEVENT
DTSTART;TZID=America/Chicago:20260709T193000
DTEND;TZID=America/Chicago:20260709T210000
DTSTAMP:20260423T190555
CREATED:20251231T195156Z
LAST-MODIFIED:20251231T214849Z
UID:5559-1783625400-1783630800@aresofmocotx.org
SUMMARY:ARES Meeting
DESCRIPTION:Meeting at 1930 (7:30pm) In Person Meeting
URL:https://aresofmocotx.org/event/ares-meeting-32/
LOCATION:The Woodlands Emergency Training Center\, 16135 IH 45 South\, The Woodlands\, 77385\, United States
CATEGORIES:ARES Meeting
END:VEVENT
BEGIN:VEVENT
DTSTART;TZID=America/Chicago:20260713T193000
DTEND;TZID=America/Chicago:20260713T200000
DTSTAMP:20260423T190555
CREATED:20251231T200506Z
LAST-MODIFIED:20251231T211851Z
UID:5599-1783971000-1783972800@aresofmocotx.org
SUMMARY:ARES Monday HF Net
DESCRIPTION:ARES HF Net on 3.873 MHz or 7.285 MHz  starting at 1930 (7:30pm).  When checking in\, we are in District 1.  Send WinLink check-ins. no later than the end of the voice net. Please send your message to TXARES-HF and AA5AF our digital ASEC\, with the following information: Digital mode used (Pactor\, VARA\, VARA FM or Packet) Callsign of WinLink RMS gateway used Frequency used.
URL:https://aresofmocotx.org/event/ares-monday-hf-net-133/
LOCATION:ARES Monday HF Net\, 3.873 MHz\, United States
CATEGORIES:ARES Net
END:VEVENT
BEGIN:VEVENT
DTSTART;TZID=America/Chicago:20260713T200000
DTEND;TZID=America/Chicago:20260713T203000
DTSTAMP:20260423T190555
CREATED:20251231T201237Z
LAST-MODIFIED:20251231T212150Z
UID:5684-1783972800-1783974600@aresofmocotx.org
SUMMARY:ARES Monday VHF Net
DESCRIPTION:VHF Net at 2000\, (8:00pm)\, on 147.140 MHz/136.5 (tone) Repeater)
URL:https://aresofmocotx.org/event/ares-monday-vhf-net-133/
LOCATION:ARES Monday VHF Net\, 147.14 MHz +/136.5(tone) Repeater\, Conroe\, United States
CATEGORIES:ARES Net
END:VEVENT
BEGIN:VEVENT
DTSTART;TZID=America/Chicago:20260714T200000
DTEND;TZID=America/Chicago:20260714T203000
DTSTAMP:20260423T190555
CREATED:20251231T202719Z
LAST-MODIFIED:20251231T213505Z
UID:5774-1784059200-1784061000@aresofmocotx.org
SUMMARY:ARES Tuesday Net
DESCRIPTION:Emergency Exercise Net starting at 2000 (8:00pm). We encourage all to please participate so that you are practiced in the net.  \nThose able to do so\, we encourage all to participate in BBS Packet\, Vara HF\, VARA FM\, Winlink Packet and Winlink Telnet.   \nSend your digital check ins prior to the voice net. \n\nPhone –  146.920 MHz – /203.5 (tone) Repeater\n\nDigital BBS Packet – 145.030 MHz Simplex – Send Bulletin to ALL connect to WA5EOC-1 v CONROE\n\nDigital Vara HF P2P  – Center Freq: 3.58850 MHz Send to N5KWN\n\nDigital Winlink VARA HF\, VARA FM\, Winlink Packet\, Winlink Telnet – Send to MCA-NET
URL:https://aresofmocotx.org/event/ares-tuesday-net-133/
CATEGORIES:ARES Net
END:VEVENT
BEGIN:VEVENT
DTSTART;TZID=America/Chicago:20260720T193000
DTEND;TZID=America/Chicago:20260720T200000
DTSTAMP:20260423T190555
CREATED:20251231T200506Z
LAST-MODIFIED:20251231T211851Z
UID:5600-1784575800-1784577600@aresofmocotx.org
SUMMARY:ARES Monday HF Net
DESCRIPTION:ARES HF Net on 3.873 MHz or 7.285 MHz  starting at 1930 (7:30pm).  When checking in\, we are in District 1.  Send WinLink check-ins. no later than the end of the voice net. Please send your message to TXARES-HF and AA5AF our digital ASEC\, with the following information: Digital mode used (Pactor\, VARA\, VARA FM or Packet) Callsign of WinLink RMS gateway used Frequency used.
URL:https://aresofmocotx.org/event/ares-monday-hf-net-134/
LOCATION:ARES Monday HF Net\, 3.873 MHz\, United States
CATEGORIES:ARES Net
END:VEVENT
BEGIN:VEVENT
DTSTART;TZID=America/Chicago:20260720T200000
DTEND;TZID=America/Chicago:20260720T203000
DTSTAMP:20260423T190555
CREATED:20251231T201238Z
LAST-MODIFIED:20251231T212150Z
UID:5685-1784577600-1784579400@aresofmocotx.org
SUMMARY:ARES Monday VHF Net
DESCRIPTION:VHF Net at 2000\, (8:00pm)\, on 147.140 MHz/136.5 (tone) Repeater)
URL:https://aresofmocotx.org/event/ares-monday-vhf-net-134/
LOCATION:ARES Monday VHF Net\, 147.14 MHz +/136.5(tone) Repeater\, Conroe\, United States
CATEGORIES:ARES Net
END:VEVENT
BEGIN:VEVENT
DTSTART;TZID=America/Chicago:20260721T200000
DTEND;TZID=America/Chicago:20260721T203000
DTSTAMP:20260423T190555
CREATED:20251231T202719Z
LAST-MODIFIED:20251231T213505Z
UID:5775-1784664000-1784665800@aresofmocotx.org
SUMMARY:ARES Tuesday Net
DESCRIPTION:Emergency Exercise Net starting at 2000 (8:00pm). We encourage all to please participate so that you are practiced in the net.  \nThose able to do so\, we encourage all to participate in BBS Packet\, Vara HF\, VARA FM\, Winlink Packet and Winlink Telnet.   \nSend your digital check ins prior to the voice net. \n\nPhone –  146.920 MHz – /203.5 (tone) Repeater\n\nDigital BBS Packet – 145.030 MHz Simplex – Send Bulletin to ALL connect to WA5EOC-1 v CONROE\n\nDigital Vara HF P2P  – Center Freq: 3.58850 MHz Send to N5KWN\n\nDigital Winlink VARA HF\, VARA FM\, Winlink Packet\, Winlink Telnet – Send to MCA-NET
URL:https://aresofmocotx.org/event/ares-tuesday-net-134/
CATEGORIES:ARES Net
END:VEVENT
BEGIN:VEVENT
DTSTART;TZID=America/Chicago:20260725T080000
DTEND;TZID=America/Chicago:20260725T093000
DTSTAMP:20260423T190555
CREATED:20251231T203546Z
LAST-MODIFIED:20251231T203546Z
UID:5804-1784966400-1784971800@aresofmocotx.org
SUMMARY:Ham Radio Operators Get Together Breakfast
DESCRIPTION:Ham Radio Operators Get Together Breakfast – 4th Saturday of each month.<br/Join other ham radio operators for breakfast at the Golden Corral. I-45 North East Feeder just north of HWY 105 Conroe\, TX.\nGet together around 8:00 AM. The Golden Corral does not open until 8:00 AM.  Good food\, great variety and lots of it. I will often just have coffee and conversation.
URL:https://aresofmocotx.org/event/ham-radio-operators-get-together-breakfast-23/
LOCATION:Ham Radio Operators Get Together Breakfast\, 1604 I-45\, Conroe\, TX\, 77301\, United States
CATEGORIES:ARES Meeting
END:VEVENT
BEGIN:VEVENT
DTSTART;TZID=America/Chicago:20260727T193000
DTEND;TZID=America/Chicago:20260727T200000
DTSTAMP:20260423T190555
CREATED:20251231T200633Z
LAST-MODIFIED:20251231T211905Z
UID:5601-1785180600-1785182400@aresofmocotx.org
SUMMARY:ARES Monday HF Net
DESCRIPTION:ARES HF Net on 3.873 MHz or 7.285 MHz  starting at 1930 (7:30pm).  When checking in\, we are in District 1.  Send WinLink check-ins. no later than the end of the voice net. Please send your message to TXARES-HF and AA5AF our digital ASEC\, with the following information: Digital mode used (Pactor\, VARA\, VARA FM or Packet) Callsign of WinLink RMS gateway used Frequency used.
URL:https://aresofmocotx.org/event/ares-monday-hf-net-135/
LOCATION:ARES Monday HF Net\, 3.873 MHz\, United States
CATEGORIES:ARES Net
END:VEVENT
BEGIN:VEVENT
DTSTART;TZID=America/Chicago:20260727T200000
DTEND;TZID=America/Chicago:20260727T203000
DTSTAMP:20260423T190555
CREATED:20251231T201238Z
LAST-MODIFIED:20251231T212150Z
UID:5686-1785182400-1785184200@aresofmocotx.org
SUMMARY:ARES Monday VHF Net
DESCRIPTION:VHF Net at 2000\, (8:00pm)\, on 147.140 MHz/136.5 (tone) Repeater)
URL:https://aresofmocotx.org/event/ares-monday-vhf-net-135/
LOCATION:ARES Monday VHF Net\, 147.14 MHz +/136.5(tone) Repeater\, Conroe\, United States
CATEGORIES:ARES Net
END:VEVENT
BEGIN:VEVENT
DTSTART;TZID=America/Chicago:20260728T200000
DTEND;TZID=America/Chicago:20260728T203000
DTSTAMP:20260423T190555
CREATED:20251231T202733Z
LAST-MODIFIED:20251231T213705Z
UID:5776-1785268800-1785270600@aresofmocotx.org
SUMMARY:ARES Tuesday Net
DESCRIPTION:Emergency Exercise Net starting at 2000 (8:00pm). We encourage all to please participate so that you are practiced in the net.  \nThose able to do so\, we encourage all to participate in BBS Packet\, Vara HF\, VARA FM\, Winlink Packet and Winlink Telnet.   \nSend your digital check ins prior to the voice net. \n\nPhone –  146.920 MHz – /203.5 (tone) Repeater\n\nDigital BBS Packet – 145.030 MHz Simplex – Send Bulletin to ALL connect to WA5EOC-1 v CONROE\n\nDigital Vara HF P2P  – Center Freq: 3.58850 MHz Send to N5KWN\n\nDigital Winlink VARA HF\, VARA FM\, Winlink Packet\, Winlink Telnet – Send to MCA-NET
URL:https://aresofmocotx.org/event/ares-tuesday-net-135/
CATEGORIES:ARES Net
END:VEVENT
END:VCALENDAR