BEGIN:VCALENDAR
VERSION:2.0
PRODID:-//ARES - ECPv6.15.20//NONSGML v1.0//EN
CALSCALE:GREGORIAN
METHOD:PUBLISH
X-ORIGINAL-URL:https://aresofmocotx.org
X-WR-CALDESC:Events for ARES
REFRESH-INTERVAL;VALUE=DURATION:PT1H
X-Robots-Tag:noindex
X-PUBLISHED-TTL:PT1H
BEGIN:VTIMEZONE
TZID:America/Chicago
BEGIN:DAYLIGHT
TZOFFSETFROM:-0600
TZOFFSETTO:-0500
TZNAME:CDT
DTSTART:20230312T080000
END:DAYLIGHT
BEGIN:STANDARD
TZOFFSETFROM:-0500
TZOFFSETTO:-0600
TZNAME:CST
DTSTART:20231105T070000
END:STANDARD
BEGIN:DAYLIGHT
TZOFFSETFROM:-0600
TZOFFSETTO:-0500
TZNAME:CDT
DTSTART:20240310T080000
END:DAYLIGHT
BEGIN:STANDARD
TZOFFSETFROM:-0500
TZOFFSETTO:-0600
TZNAME:CST
DTSTART:20241103T070000
END:STANDARD
BEGIN:DAYLIGHT
TZOFFSETFROM:-0600
TZOFFSETTO:-0500
TZNAME:CDT
DTSTART:20250309T080000
END:DAYLIGHT
BEGIN:STANDARD
TZOFFSETFROM:-0500
TZOFFSETTO:-0600
TZNAME:CST
DTSTART:20251102T070000
END:STANDARD
END:VTIMEZONE
BEGIN:VEVENT
DTSTART;TZID=America/Chicago:20240226T193000
DTEND;TZID=America/Chicago:20240226T200000
DTSTAMP:20260425T102056
CREATED:20240202T150014Z
LAST-MODIFIED:20240404T201604Z
UID:1130-1708975800-1708977600@aresofmocotx.org
SUMMARY:ARES Monday HF Net
DESCRIPTION:ARES HF Net on 3.873 MHz starting at 1930 (7:30pm).  When checking in\, we are in District 1.  You can also check in digitally using TXARES-HF on hf radio only.  No telnet.
URL:https://aresofmocotx.org/event/ares-monday-hf-net-9/
LOCATION:ARES Monday HF Net\, 3.873 MHz\, United States
CATEGORIES:ARES Net
END:VEVENT
BEGIN:VEVENT
DTSTART;TZID=America/Chicago:20240226T200000
DTEND;TZID=America/Chicago:20240226T203000
DTSTAMP:20260425T102056
CREATED:20240202T150314Z
LAST-MODIFIED:20240404T201905Z
UID:1183-1708977600-1708979400@aresofmocotx.org
SUMMARY:ARES Monday VHF Net
DESCRIPTION:VHF Net at 2000\, (8:00pm)\, on 147.140 MHz/136.5 (tone) Repeater)
URL:https://aresofmocotx.org/event/ares-monday-vhf-net-9/
LOCATION:ARES Monday VHF Net\, 147.14 MHz +/136.5(tone) Repeater\, Conroe\, United States
CATEGORIES:ARES Net
END:VEVENT
BEGIN:VEVENT
DTSTART;TZID=America/Chicago:20240227T200000
DTEND;TZID=America/Chicago:20240227T203000
DTSTAMP:20260425T102056
CREATED:20240202T150746Z
LAST-MODIFIED:20240404T202150Z
UID:1236-1709064000-1709065800@aresofmocotx.org
SUMMARY:ARES Tuesday Net
DESCRIPTION:Emergency Exercise Net starting at 2000 (8:00pm). We encourage all to please participate so that you are practiced in the net.  \nThose able to do so\, we encourage all to participate in BBS Packet\, Vara HF\, and Winlink (Telnet).   \nSend your digital check ins prior to the net. \n\nPhone –  147.020 MHz + /136.5(tone) Repeater\n\nDigital BBS Packet – 145.030 MHz Simplex\n\nDigital Vara HF  – Center Freq: 3.58850 MHz\n\nDigital Winlink (Telnet) – Send your Winlink (Telnet) check in message to “MCA-NET”
URL:https://aresofmocotx.org/event/ares-tuesday-net-9/
LOCATION:ARES Tuesday Net Repeater WA5AIR 146.920 (-) 203.5\, 146.920 MHz (-) 203.5(tone) Repeater\, Conroe\, TX\, United States
CATEGORIES:ARES Net
END:VEVENT
BEGIN:VEVENT
DTSTART;TZID=America/Chicago:20240304T193000
DTEND;TZID=America/Chicago:20240304T200000
DTSTAMP:20260425T102056
CREATED:20240202T150015Z
LAST-MODIFIED:20240404T201604Z
UID:1131-1709580600-1709582400@aresofmocotx.org
SUMMARY:ARES Monday HF Net
DESCRIPTION:ARES HF Net on 3.873 MHz starting at 1930 (7:30pm).  When checking in\, we are in District 1.  You can also check in digitally using TXARES-HF on hf radio only.  No telnet.
URL:https://aresofmocotx.org/event/ares-monday-hf-net-10/
LOCATION:ARES Monday HF Net\, 3.873 MHz\, United States
CATEGORIES:ARES Net
END:VEVENT
BEGIN:VEVENT
DTSTART;TZID=America/Chicago:20240304T200000
DTEND;TZID=America/Chicago:20240304T203000
DTSTAMP:20260425T102056
CREATED:20240202T150314Z
LAST-MODIFIED:20240404T201905Z
UID:1184-1709582400-1709584200@aresofmocotx.org
SUMMARY:ARES Monday VHF Net
DESCRIPTION:VHF Net at 2000\, (8:00pm)\, on 147.140 MHz/136.5 (tone) Repeater)
URL:https://aresofmocotx.org/event/ares-monday-vhf-net-10/
LOCATION:ARES Monday VHF Net\, 147.14 MHz +/136.5(tone) Repeater\, Conroe\, United States
CATEGORIES:ARES Net
END:VEVENT
BEGIN:VEVENT
DTSTART;TZID=America/Chicago:20240305T200000
DTEND;TZID=America/Chicago:20240305T203000
DTSTAMP:20260425T102056
CREATED:20240202T150747Z
LAST-MODIFIED:20240404T202150Z
UID:1237-1709668800-1709670600@aresofmocotx.org
SUMMARY:ARES Tuesday Net
DESCRIPTION:Emergency Exercise Net starting at 2000 (8:00pm). We encourage all to please participate so that you are practiced in the net.  \nThose able to do so\, we encourage all to participate in BBS Packet\, Vara HF\, and Winlink (Telnet).   \nSend your digital check ins prior to the net. \n\nPhone –  147.020 MHz + /136.5(tone) Repeater\n\nDigital BBS Packet – 145.030 MHz Simplex\n\nDigital Vara HF  – Center Freq: 3.58850 MHz\n\nDigital Winlink (Telnet) – Send your Winlink (Telnet) check in message to “MCA-NET”
URL:https://aresofmocotx.org/event/ares-tuesday-net-10/
LOCATION:ARES Tuesday Net Repeater WA5AIR 146.920 (-) 203.5\, 146.920 MHz (-) 203.5(tone) Repeater\, Conroe\, TX\, United States
CATEGORIES:ARES Net
END:VEVENT
BEGIN:VEVENT
DTSTART;TZID=America/Chicago:20240311T193000
DTEND;TZID=America/Chicago:20240311T200000
DTSTAMP:20260425T102056
CREATED:20240202T150029Z
LAST-MODIFIED:20240404T201619Z
UID:1132-1710185400-1710187200@aresofmocotx.org
SUMMARY:ARES Monday HF Net
DESCRIPTION:ARES HF Net on 3.873 MHz starting at 1930 (7:30pm).  When checking in\, we are in District 1.  You can also check in digitally using TXARES-HF on hf radio only.  No telnet.
URL:https://aresofmocotx.org/event/ares-monday-hf-net-11/
LOCATION:ARES Monday HF Net\, 3.873 MHz\, United States
CATEGORIES:ARES Net
END:VEVENT
BEGIN:VEVENT
DTSTART;TZID=America/Chicago:20240311T200000
DTEND;TZID=America/Chicago:20240311T203000
DTSTAMP:20260425T102056
CREATED:20240202T150314Z
LAST-MODIFIED:20240404T201905Z
UID:1185-1710187200-1710189000@aresofmocotx.org
SUMMARY:ARES Monday VHF Net
DESCRIPTION:VHF Net at 2000\, (8:00pm)\, on 147.140 MHz/136.5 (tone) Repeater)
URL:https://aresofmocotx.org/event/ares-monday-vhf-net-11/
LOCATION:ARES Monday VHF Net\, 147.14 MHz +/136.5(tone) Repeater\, Conroe\, United States
CATEGORIES:ARES Net
END:VEVENT
BEGIN:VEVENT
DTSTART;TZID=America/Chicago:20240312T200000
DTEND;TZID=America/Chicago:20240312T203000
DTSTAMP:20260425T102056
CREATED:20240202T150806Z
LAST-MODIFIED:20240404T202205Z
UID:1238-1710273600-1710275400@aresofmocotx.org
SUMMARY:ARES Tuesday Net
DESCRIPTION:Emergency Exercise Net starting at 2000 (8:00pm). We encourage all to please participate so that you are practiced in the net.  \nThose able to do so\, we encourage all to participate in BBS Packet\, Vara HF\, and Winlink (Telnet).   \nSend your digital check ins prior to the net. \n\nPhone –  147.020 MHz + /136.5(tone) Repeater\n\nDigital BBS Packet – 145.030 MHz Simplex\n\nDigital Vara HF  – Center Freq: 3.58850 MHz\n\nDigital Winlink (Telnet) – Send your Winlink (Telnet) check in message to “MCA-NET”
URL:https://aresofmocotx.org/event/ares-tuesday-net-11/
LOCATION:ARES Tuesday Net Repeater WA5AIR 146.920 (-) 203.5\, 146.920 MHz (-) 203.5(tone) Repeater\, Conroe\, TX\, United States
CATEGORIES:ARES Net
END:VEVENT
BEGIN:VEVENT
DTSTART;TZID=America/Chicago:20240314T183000
DTEND;TZID=America/Chicago:20240314T203000
DTSTAMP:20260425T102056
CREATED:20240202T145926Z
LAST-MODIFIED:20240404T201517Z
UID:1112-1710441000-1710448200@aresofmocotx.org
SUMMARY:ARES Meeting
DESCRIPTION:Training at 1830(6:30pm)  \nTopic: VHF Portable/Mobile set-up; \nRegular Meeting at 1930 (7:30pm) In Person Meeting Primary – Partnership Assignments
URL:https://aresofmocotx.org/event/ares-meeting-2/
LOCATION:The Woodlands Emergency Training Center\, 16135 IH 45 South\, The Woodlands\, 77385\, United States
CATEGORIES:ARES Meeting
END:VEVENT
BEGIN:VEVENT
DTSTART;TZID=America/Chicago:20240318T193000
DTEND;TZID=America/Chicago:20240318T200000
DTSTAMP:20260425T102056
CREATED:20240202T150029Z
LAST-MODIFIED:20240404T201619Z
UID:1133-1710790200-1710792000@aresofmocotx.org
SUMMARY:ARES Monday HF Net
DESCRIPTION:ARES HF Net on 3.873 MHz starting at 1930 (7:30pm).  When checking in\, we are in District 1.  You can also check in digitally using TXARES-HF on hf radio only.  No telnet.
URL:https://aresofmocotx.org/event/ares-monday-hf-net-12/
LOCATION:ARES Monday HF Net\, 3.873 MHz\, United States
CATEGORIES:ARES Net
END:VEVENT
BEGIN:VEVENT
DTSTART;TZID=America/Chicago:20240318T200000
DTEND;TZID=America/Chicago:20240318T203000
DTSTAMP:20260425T102056
CREATED:20240202T150314Z
LAST-MODIFIED:20240404T201905Z
UID:1186-1710792000-1710793800@aresofmocotx.org
SUMMARY:ARES Monday VHF Net
DESCRIPTION:VHF Net at 2000\, (8:00pm)\, on 147.140 MHz/136.5 (tone) Repeater)
URL:https://aresofmocotx.org/event/ares-monday-vhf-net-12/
LOCATION:ARES Monday VHF Net\, 147.14 MHz +/136.5(tone) Repeater\, Conroe\, United States
CATEGORIES:ARES Net
END:VEVENT
BEGIN:VEVENT
DTSTART;TZID=America/Chicago:20240319T200000
DTEND;TZID=America/Chicago:20240319T203000
DTSTAMP:20260425T102056
CREATED:20240202T150807Z
LAST-MODIFIED:20240404T202205Z
UID:1239-1710878400-1710880200@aresofmocotx.org
SUMMARY:ARES Tuesday Net
DESCRIPTION:Emergency Exercise Net starting at 2000 (8:00pm). We encourage all to please participate so that you are practiced in the net.  \nThose able to do so\, we encourage all to participate in BBS Packet\, Vara HF\, and Winlink (Telnet).   \nSend your digital check ins prior to the net. \n\nPhone –  147.020 MHz + /136.5(tone) Repeater\n\nDigital BBS Packet – 145.030 MHz Simplex\n\nDigital Vara HF  – Center Freq: 3.58850 MHz\n\nDigital Winlink (Telnet) – Send your Winlink (Telnet) check in message to “MCA-NET”
URL:https://aresofmocotx.org/event/ares-tuesday-net-12/
LOCATION:ARES Tuesday Net Repeater WA5AIR 146.920 (-) 203.5\, 146.920 MHz (-) 203.5(tone) Repeater\, Conroe\, TX\, United States
CATEGORIES:ARES Net
END:VEVENT
BEGIN:VEVENT
DTSTART;TZID=America/Chicago:20240325T193000
DTEND;TZID=America/Chicago:20240325T200000
DTSTAMP:20260425T102056
CREATED:20240202T150029Z
LAST-MODIFIED:20240404T201619Z
UID:1134-1711395000-1711396800@aresofmocotx.org
SUMMARY:ARES Monday HF Net
DESCRIPTION:ARES HF Net on 3.873 MHz starting at 1930 (7:30pm).  When checking in\, we are in District 1.  You can also check in digitally using TXARES-HF on hf radio only.  No telnet.
URL:https://aresofmocotx.org/event/ares-monday-hf-net-13/
LOCATION:ARES Monday HF Net\, 3.873 MHz\, United States
CATEGORIES:ARES Net
END:VEVENT
BEGIN:VEVENT
DTSTART;TZID=America/Chicago:20240325T200000
DTEND;TZID=America/Chicago:20240325T203000
DTSTAMP:20260425T102056
CREATED:20240202T150314Z
LAST-MODIFIED:20240404T201905Z
UID:1187-1711396800-1711398600@aresofmocotx.org
SUMMARY:ARES Monday VHF Net
DESCRIPTION:VHF Net at 2000\, (8:00pm)\, on 147.140 MHz/136.5 (tone) Repeater)
URL:https://aresofmocotx.org/event/ares-monday-vhf-net-13/
LOCATION:ARES Monday VHF Net\, 147.14 MHz +/136.5(tone) Repeater\, Conroe\, United States
CATEGORIES:ARES Net
END:VEVENT
BEGIN:VEVENT
DTSTART;TZID=America/Chicago:20240326T200000
DTEND;TZID=America/Chicago:20240326T203000
DTSTAMP:20260425T102056
CREATED:20240202T150807Z
LAST-MODIFIED:20240404T202205Z
UID:1240-1711483200-1711485000@aresofmocotx.org
SUMMARY:ARES Tuesday Net
DESCRIPTION:Emergency Exercise Net starting at 2000 (8:00pm). We encourage all to please participate so that you are practiced in the net.  \nThose able to do so\, we encourage all to participate in BBS Packet\, Vara HF\, and Winlink (Telnet).   \nSend your digital check ins prior to the net. \n\nPhone –  147.020 MHz + /136.5(tone) Repeater\n\nDigital BBS Packet – 145.030 MHz Simplex\n\nDigital Vara HF  – Center Freq: 3.58850 MHz\n\nDigital Winlink (Telnet) – Send your Winlink (Telnet) check in message to “MCA-NET”
URL:https://aresofmocotx.org/event/ares-tuesday-net-13/
LOCATION:ARES Tuesday Net Repeater WA5AIR 146.920 (-) 203.5\, 146.920 MHz (-) 203.5(tone) Repeater\, Conroe\, TX\, United States
CATEGORIES:ARES Net
END:VEVENT
BEGIN:VEVENT
DTSTART;TZID=America/Chicago:20240328T183000
DTEND;TZID=America/Chicago:20240328T203000
DTSTAMP:20260425T102056
CREATED:20240202T161023Z
LAST-MODIFIED:20240202T161049Z
UID:1493-1711650600-1711657800@aresofmocotx.org
SUMMARY:SKYWARN Training
DESCRIPTION:SKYWARN Program Training Link\nRegistration Link
URL:https://aresofmocotx.org/event/skywarn-training/
LOCATION:Lone Star Convention Center\, 9055 Airport Rd\, Conroe\, TX\, 77303\, United States
END:VEVENT
BEGIN:VEVENT
DTSTART;TZID=America/Chicago:20240401T193000
DTEND;TZID=America/Chicago:20240401T200000
DTSTAMP:20260425T102056
CREATED:20240202T150029Z
LAST-MODIFIED:20240404T201619Z
UID:1135-1711999800-1712001600@aresofmocotx.org
SUMMARY:ARES Monday HF Net
DESCRIPTION:ARES HF Net on 3.873 MHz starting at 1930 (7:30pm).  When checking in\, we are in District 1.  You can also check in digitally using TXARES-HF on hf radio only.  No telnet.
URL:https://aresofmocotx.org/event/ares-monday-hf-net-14/
LOCATION:ARES Monday HF Net\, 3.873 MHz\, United States
CATEGORIES:ARES Net
END:VEVENT
BEGIN:VEVENT
DTSTART;TZID=America/Chicago:20240401T200000
DTEND;TZID=America/Chicago:20240401T203000
DTSTAMP:20260425T102056
CREATED:20240202T150329Z
LAST-MODIFIED:20240404T201920Z
UID:1188-1712001600-1712003400@aresofmocotx.org
SUMMARY:ARES Monday VHF Net
DESCRIPTION:VHF Net at 2000\, (8:00pm)\, on 147.140 MHz/136.5 (tone) Repeater)
URL:https://aresofmocotx.org/event/ares-monday-vhf-net-14/
LOCATION:ARES Monday VHF Net\, 147.14 MHz +/136.5(tone) Repeater\, Conroe\, United States
CATEGORIES:ARES Net
END:VEVENT
BEGIN:VEVENT
DTSTART;TZID=America/Chicago:20240402T200000
DTEND;TZID=America/Chicago:20240402T203000
DTSTAMP:20260425T102056
CREATED:20240202T150807Z
LAST-MODIFIED:20240404T202205Z
UID:1241-1712088000-1712089800@aresofmocotx.org
SUMMARY:ARES Tuesday Net
DESCRIPTION:Emergency Exercise Net starting at 2000 (8:00pm). We encourage all to please participate so that you are practiced in the net.  \nThose able to do so\, we encourage all to participate in BBS Packet\, Vara HF\, and Winlink (Telnet).   \nSend your digital check ins prior to the net. \n\nPhone –  146.920 MHz – /203.5 (tone) Repeater\n\nDigital BBS Packet – 145.030 MHz Simplex\n\nDigital Vara HF  – Center Freq: 3.58850 MHz\n\nDigital Winlink (Telnet) – Send your Winlink (Telnet) check in message to “MCA-NET”
URL:https://aresofmocotx.org/event/ares-tuesday-net-14/
LOCATION:ARES Tuesday Net Repeater WA5AIR 146.920 (-) 203.5\, 146.920 MHz (-) 203.5(tone) Repeater\, Conroe\, TX\, United States
CATEGORIES:ARES Net
END:VEVENT
BEGIN:VEVENT
DTSTART;TZID=America/Chicago:20240408T193000
DTEND;TZID=America/Chicago:20240408T200000
DTSTAMP:20260425T102056
CREATED:20240202T150029Z
LAST-MODIFIED:20240404T201620Z
UID:1136-1712604600-1712606400@aresofmocotx.org
SUMMARY:ARES Monday HF Net
DESCRIPTION:ARES HF Net on 3.873 MHz starting at 1930 (7:30pm).  When checking in\, we are in District 1.  You can also check in digitally using TXARES-HF on hf radio only.  No telnet.
URL:https://aresofmocotx.org/event/ares-monday-hf-net-15/
LOCATION:ARES Monday HF Net\, 3.873 MHz\, United States
CATEGORIES:ARES Net
END:VEVENT
BEGIN:VEVENT
DTSTART;TZID=America/Chicago:20240408T200000
DTEND;TZID=America/Chicago:20240408T203000
DTSTAMP:20260425T102056
CREATED:20240202T150329Z
LAST-MODIFIED:20240404T201920Z
UID:1189-1712606400-1712608200@aresofmocotx.org
SUMMARY:ARES Monday VHF Net
DESCRIPTION:VHF Net at 2000\, (8:00pm)\, on 147.140 MHz/136.5 (tone) Repeater)
URL:https://aresofmocotx.org/event/ares-monday-vhf-net-15/
LOCATION:ARES Monday VHF Net\, 147.14 MHz +/136.5(tone) Repeater\, Conroe\, United States
CATEGORIES:ARES Net
END:VEVENT
BEGIN:VEVENT
DTSTART;TZID=America/Chicago:20240409T200000
DTEND;TZID=America/Chicago:20240409T203000
DTSTAMP:20260425T102056
CREATED:20240202T150807Z
LAST-MODIFIED:20240404T202205Z
UID:1242-1712692800-1712694600@aresofmocotx.org
SUMMARY:ARES Tuesday Net
DESCRIPTION:Emergency Exercise Net starting at 2000 (8:00pm). We encourage all to please participate so that you are practiced in the net.  \nThose able to do so\, we encourage all to participate in BBS Packet\, Vara HF\, and Winlink (Telnet).   \nSend your digital check ins prior to the net. \n\nPhone –  146.920 MHz – /203.5(tone) Repeater\n\nDigital BBS Packet – 145.030 MHz Simplex\n\nDigital Vara HF  – Center Freq: 3.58850 MHz\n\nDigital Winlink (Telnet) – Send your Winlink (Telnet) check in message to “MCA-NET”
URL:https://aresofmocotx.org/event/ares-tuesday-net-15/
LOCATION:ARES Tuesday Net Repeater WA5AIR 146.920 (-) 203.5\, 146.920 MHz (-) 203.5(tone) Repeater\, Conroe\, TX\, United States
CATEGORIES:ARES Net
END:VEVENT
BEGIN:VEVENT
DTSTART;TZID=America/Chicago:20240411T180000
DTEND;TZID=America/Chicago:20240411T203000
DTSTAMP:20260425T102056
CREATED:20240202T145926Z
LAST-MODIFIED:20240404T201517Z
UID:1113-1712858400-1712867400@aresofmocotx.org
SUMMARY:ARES Meeting
DESCRIPTION:Ham Radio Operator License Exam Testing. Starts at 1800 HRS (6:00 PM). \nRegular Meeting at 1930 (7:30 PM). Discuss upcoming Deployment Plan Exercise.
URL:https://aresofmocotx.org/event/ares-meeting-3/
LOCATION:The Woodlands Emergency Training Center\, 16135 IH 45 South\, The Woodlands\, 77385\, United States
CATEGORIES:ARES Meeting
END:VEVENT
BEGIN:VEVENT
DTSTART;TZID=America/Chicago:20240415T193000
DTEND;TZID=America/Chicago:20240415T200000
DTSTAMP:20260425T102056
CREATED:20240202T150044Z
LAST-MODIFIED:20240404T201634Z
UID:1137-1713209400-1713211200@aresofmocotx.org
SUMMARY:ARES Monday HF Net
DESCRIPTION:ARES HF Net on 3.873 MHz starting at 1930 (7:30pm).  When checking in\, we are in District 1.  You can also check in digitally using TXARES-HF on hf radio only.  No telnet.
URL:https://aresofmocotx.org/event/ares-monday-hf-net-16/
LOCATION:ARES Monday HF Net\, 3.873 MHz\, United States
CATEGORIES:ARES Net
END:VEVENT
BEGIN:VEVENT
DTSTART;TZID=America/Chicago:20240415T200000
DTEND;TZID=America/Chicago:20240415T203000
DTSTAMP:20260425T102056
CREATED:20240202T150329Z
LAST-MODIFIED:20240404T201920Z
UID:1190-1713211200-1713213000@aresofmocotx.org
SUMMARY:ARES Monday VHF Net
DESCRIPTION:VHF Net at 2000\, (8:00pm)\, on 147.140 MHz/136.5 (tone) Repeater)
URL:https://aresofmocotx.org/event/ares-monday-vhf-net-16/
LOCATION:ARES Monday VHF Net\, 147.14 MHz +/136.5(tone) Repeater\, Conroe\, United States
CATEGORIES:ARES Net
END:VEVENT
BEGIN:VEVENT
DTSTART;TZID=America/Chicago:20240416T200000
DTEND;TZID=America/Chicago:20240416T203000
DTSTAMP:20260425T102056
CREATED:20240202T150821Z
LAST-MODIFIED:20240404T202220Z
UID:1243-1713297600-1713299400@aresofmocotx.org
SUMMARY:ARES Tuesday Net
DESCRIPTION:Emergency Exercise Net starting at 2000 (8:00pm). We encourage all to please participate so that you are practiced in the net.  \nThose able to do so\, we encourage all to participate in BBS Packet\, Vara HF\, and Winlink (Telnet).   \nSend your digital check ins prior to the net. \n\nPhone –  146.920 MHz -0.6MHZ /203.5 (tone) Repeater\n\nDigital BBS Packet – 145.030 MHz Simplex\n\nDigital Vara HF  – Center Freq: 3.58850 MHz\n\nDigital Winlink (Telnet) – Send your Winlink (Telnet) check in message to “MCA-NET”
URL:https://aresofmocotx.org/event/ares-tuesday-net-16/
LOCATION:ARES Tuesday Net Repeater WA5AIR 146.920 (-) 203.5\, 146.920 MHz (-) 203.5(tone) Repeater\, Conroe\, TX\, United States
CATEGORIES:ARES Net
END:VEVENT
BEGIN:VEVENT
DTSTART;TZID=America/Chicago:20240420T080000
DTEND;TZID=America/Chicago:20240420T100000
DTSTAMP:20260425T102056
CREATED:20240327T222330Z
LAST-MODIFIED:20240418T154345Z
UID:1606-1713600000-1713607200@aresofmocotx.org
SUMMARY:ARES Montgomery County Deployment Plan Exercise
DESCRIPTION:Members will report to their assigned grid square to test their equipment and participate in a Deployment Plan net. \n\nAll ARES of MoCo Texas members:\n\nWe are having a radio exercise on Saturday 20 April 2024.\n\nThis will begin at 9 AM this Saturday Morning until just before 11 AM\n\nPlease visit the website and sign in.\n\nGo to the “Members” button on the top of the page.\n\nScroll Down and find the Montgomery County Grid Map and below this the table with your call sign.\n\nLocate your grid square.\n\nPlease identify 2-4 locations in your grid to perform the exercise.\n\nLocations are suggested to be parking lots/garages 50 or more feet from buildings and forest trees.\n\nWrite down the address\, cross streets and very importantly your GPS coordinates / location at each site.\n\nSend if possible ahead of time to deployment@aresofmocotx.org
URL:https://aresofmocotx.org/event/ares-montgomery-county-deployment-plan-exercise/
END:VEVENT
BEGIN:VEVENT
DTSTART;TZID=America/Chicago:20240422T193000
DTEND;TZID=America/Chicago:20240422T200000
DTSTAMP:20260425T102056
CREATED:20240202T150044Z
LAST-MODIFIED:20240404T201634Z
UID:1138-1713814200-1713816000@aresofmocotx.org
SUMMARY:ARES Monday HF Net
DESCRIPTION:ARES HF Net on 3.873 MHz starting at 1930 (7:30pm).  When checking in\, we are in District 1.  You can also check in digitally using TXARES-HF on hf radio only.  No telnet.
URL:https://aresofmocotx.org/event/ares-monday-hf-net-17/
LOCATION:ARES Monday HF Net\, 3.873 MHz\, United States
CATEGORIES:ARES Net
END:VEVENT
BEGIN:VEVENT
DTSTART;TZID=America/Chicago:20240422T200000
DTEND;TZID=America/Chicago:20240422T203000
DTSTAMP:20260425T102056
CREATED:20240202T150329Z
LAST-MODIFIED:20240404T201920Z
UID:1191-1713816000-1713817800@aresofmocotx.org
SUMMARY:ARES Monday VHF Net
DESCRIPTION:VHF Net at 2000\, (8:00pm)\, on 147.140 MHz/136.5 (tone) Repeater)
URL:https://aresofmocotx.org/event/ares-monday-vhf-net-17/
LOCATION:ARES Monday VHF Net\, 147.14 MHz +/136.5(tone) Repeater\, Conroe\, United States
CATEGORIES:ARES Net
END:VEVENT
END:VCALENDAR