BEGIN:VCALENDAR
VERSION:2.0
PRODID:-//ARES - ECPv6.15.20//NONSGML v1.0//EN
CALSCALE:GREGORIAN
METHOD:PUBLISH
X-ORIGINAL-URL:https://aresofmocotx.org
X-WR-CALDESC:Events for ARES
REFRESH-INTERVAL;VALUE=DURATION:PT1H
X-Robots-Tag:noindex
X-PUBLISHED-TTL:PT1H
BEGIN:VTIMEZONE
TZID:America/Chicago
BEGIN:DAYLIGHT
TZOFFSETFROM:-0600
TZOFFSETTO:-0500
TZNAME:CDT
DTSTART:20250309T080000
END:DAYLIGHT
BEGIN:STANDARD
TZOFFSETFROM:-0500
TZOFFSETTO:-0600
TZNAME:CST
DTSTART:20251102T070000
END:STANDARD
BEGIN:DAYLIGHT
TZOFFSETFROM:-0600
TZOFFSETTO:-0500
TZNAME:CDT
DTSTART:20260308T080000
END:DAYLIGHT
BEGIN:STANDARD
TZOFFSETFROM:-0500
TZOFFSETTO:-0600
TZNAME:CST
DTSTART:20261101T070000
END:STANDARD
BEGIN:DAYLIGHT
TZOFFSETFROM:-0600
TZOFFSETTO:-0500
TZNAME:CDT
DTSTART:20270314T080000
END:DAYLIGHT
BEGIN:STANDARD
TZOFFSETFROM:-0500
TZOFFSETTO:-0600
TZNAME:CST
DTSTART:20271107T070000
END:STANDARD
END:VTIMEZONE
BEGIN:VEVENT
DTSTART;TZID=America/Chicago:20261102T200000
DTEND;TZID=America/Chicago:20261102T203000
DTSTAMP:20260424T073305
CREATED:20251231T201547Z
LAST-MODIFIED:20251231T212235Z
UID:5732-1793649600-1793651400@aresofmocotx.org
SUMMARY:ARES Monday VHF Net
DESCRIPTION:VHF Net at 2000\, (8:00pm)\, on 147.140 MHz/136.5 (tone) Repeater)
URL:https://aresofmocotx.org/event/ares-monday-vhf-net-149/
LOCATION:ARES Monday VHF Net\, 147.14 MHz +/136.5(tone) Repeater\, Conroe\, United States
CATEGORIES:ARES Net
END:VEVENT
BEGIN:VEVENT
DTSTART;TZID=America/Chicago:20261103T200000
DTEND;TZID=America/Chicago:20261103T203000
DTSTAMP:20260424T073305
CREATED:20251231T202808Z
LAST-MODIFIED:20251231T213735Z
UID:5790-1793736000-1793737800@aresofmocotx.org
SUMMARY:ARES Tuesday Net
DESCRIPTION:Emergency Exercise Net starting at 2000 (8:00pm). We encourage all to please participate so that you are practiced in the net.  \nThose able to do so\, we encourage all to participate in BBS Packet\, Vara HF\, VARA FM\, Winlink Packet and Winlink Telnet.   \nSend your digital check ins prior to the voice net. \n\nPhone –  146.920 MHz – /203.5 (tone) Repeater\n\nDigital BBS Packet – 145.030 MHz Simplex – Send Bulletin to ALL connect to WA5EOC-1 v CONROE\n\nDigital Vara HF P2P  – Center Freq: 3.58850 MHz Send to N5KWN\n\nDigital Winlink VARA HF\, VARA FM\, Winlink Packet\, Winlink Telnet – Send to MCA-NET
URL:https://aresofmocotx.org/event/ares-tuesday-net-149/
CATEGORIES:ARES Net
END:VEVENT
BEGIN:VEVENT
DTSTART;TZID=America/Chicago:20261109T193000
DTEND;TZID=America/Chicago:20261109T200000
DTSTAMP:20260424T073305
CREATED:20251231T201048Z
LAST-MODIFIED:20251231T211950Z
UID:5647-1794252600-1794254400@aresofmocotx.org
SUMMARY:ARES Monday HF Net
DESCRIPTION:ARES HF Net on 3.873 MHz or 7.285 MHz  starting at 1930 (7:30pm).  When checking in\, we are in District 1.  Send WinLink check-ins. no later than the end of the voice net. Please send your message to TXARES-HF and AA5AF our digital ASEC\, with the following information: Digital mode used (Pactor\, VARA\, VARA FM or Packet) Callsign of WinLink RMS gateway used Frequency used.
URL:https://aresofmocotx.org/event/ares-monday-hf-net-150/
LOCATION:ARES Monday HF Net\, 3.873 MHz\, United States
CATEGORIES:ARES Net
END:VEVENT
BEGIN:VEVENT
DTSTART;TZID=America/Chicago:20261109T200000
DTEND;TZID=America/Chicago:20261109T203000
DTSTAMP:20260424T073305
CREATED:20251231T201547Z
LAST-MODIFIED:20251231T212235Z
UID:5733-1794254400-1794256200@aresofmocotx.org
SUMMARY:ARES Monday VHF Net
DESCRIPTION:VHF Net at 2000\, (8:00pm)\, on 147.140 MHz/136.5 (tone) Repeater)
URL:https://aresofmocotx.org/event/ares-monday-vhf-net-150/
LOCATION:ARES Monday VHF Net\, 147.14 MHz +/136.5(tone) Repeater\, Conroe\, United States
CATEGORIES:ARES Net
END:VEVENT
BEGIN:VEVENT
DTSTART;TZID=America/Chicago:20261110T200000
DTEND;TZID=America/Chicago:20261110T203000
DTSTAMP:20260424T073305
CREATED:20251231T202825Z
LAST-MODIFIED:20251231T213750Z
UID:5791-1794340800-1794342600@aresofmocotx.org
SUMMARY:ARES Tuesday Net
DESCRIPTION:Emergency Exercise Net starting at 2000 (8:00pm). We encourage all to please participate so that you are practiced in the net.  \nThose able to do so\, we encourage all to participate in BBS Packet\, Vara HF\, VARA FM\, Winlink Packet and Winlink Telnet.   \nSend your digital check ins prior to the voice net. \n\nPhone –  146.920 MHz – /203.5 (tone) Repeater\n\nDigital BBS Packet – 145.030 MHz Simplex – Send Bulletin to ALL connect to WA5EOC-1 v CONROE\n\nDigital Vara HF P2P  – Center Freq: 3.58850 MHz Send to N5KWN\n\nDigital Winlink VARA HF\, VARA FM\, Winlink Packet\, Winlink Telnet – Send to MCA-NET
URL:https://aresofmocotx.org/event/ares-tuesday-net-150/
CATEGORIES:ARES Net
END:VEVENT
BEGIN:VEVENT
DTSTART;TZID=America/Chicago:20261112T183000
DTEND;TZID=America/Chicago:20261112T193000
DTSTAMP:20260424T073305
CREATED:20251231T214949Z
LAST-MODIFIED:20251231T214949Z
UID:5963-1794508200-1794511800@aresofmocotx.org
SUMMARY:ARES Meeting Training
DESCRIPTION:Training at 1830 (6:30pm) Topic To Be announced
URL:https://aresofmocotx.org/event/ares-meeting-training-11/
LOCATION:The Woodlands Emergency Training Center\, 16135 IH 45 South\, The Woodlands\, 77385\, United States
CATEGORIES:ARES Training
END:VEVENT
BEGIN:VEVENT
DTSTART;TZID=America/Chicago:20261112T193000
DTEND;TZID=America/Chicago:20261112T210000
DTSTAMP:20260424T073305
CREATED:20251231T195157Z
LAST-MODIFIED:20251231T214904Z
UID:5563-1794511800-1794517200@aresofmocotx.org
SUMMARY:ARES Meeting
DESCRIPTION:Meeting at 1930 (7:30pm) In Person Meeting
URL:https://aresofmocotx.org/event/ares-meeting-36/
LOCATION:The Woodlands Emergency Training Center\, 16135 IH 45 South\, The Woodlands\, 77385\, United States
CATEGORIES:ARES Meeting
END:VEVENT
BEGIN:VEVENT
DTSTART;TZID=America/Chicago:20261116T193000
DTEND;TZID=America/Chicago:20261116T200000
DTSTAMP:20260424T073305
CREATED:20251231T201048Z
LAST-MODIFIED:20251231T211950Z
UID:5648-1794857400-1794859200@aresofmocotx.org
SUMMARY:ARES Monday HF Net
DESCRIPTION:ARES HF Net on 3.873 MHz or 7.285 MHz  starting at 1930 (7:30pm).  When checking in\, we are in District 1.  Send WinLink check-ins. no later than the end of the voice net. Please send your message to TXARES-HF and AA5AF our digital ASEC\, with the following information: Digital mode used (Pactor\, VARA\, VARA FM or Packet) Callsign of WinLink RMS gateway used Frequency used.
URL:https://aresofmocotx.org/event/ares-monday-hf-net-151/
LOCATION:ARES Monday HF Net\, 3.873 MHz\, United States
CATEGORIES:ARES Net
END:VEVENT
BEGIN:VEVENT
DTSTART;TZID=America/Chicago:20261116T200000
DTEND;TZID=America/Chicago:20261116T203000
DTSTAMP:20260424T073305
CREATED:20251231T201602Z
LAST-MODIFIED:20251231T212236Z
UID:5734-1794859200-1794861000@aresofmocotx.org
SUMMARY:ARES Monday VHF Net
DESCRIPTION:VHF Net at 2000\, (8:00pm)\, on 147.140 MHz/136.5 (tone) Repeater)
URL:https://aresofmocotx.org/event/ares-monday-vhf-net-151/
LOCATION:ARES Monday VHF Net\, 147.14 MHz +/136.5(tone) Repeater\, Conroe\, United States
CATEGORIES:ARES Net
END:VEVENT
BEGIN:VEVENT
DTSTART;TZID=America/Chicago:20261117T200000
DTEND;TZID=America/Chicago:20261117T203000
DTSTAMP:20260424T073305
CREATED:20251231T202826Z
LAST-MODIFIED:20251231T213751Z
UID:5792-1794945600-1794947400@aresofmocotx.org
SUMMARY:ARES Tuesday Net
DESCRIPTION:Emergency Exercise Net starting at 2000 (8:00pm). We encourage all to please participate so that you are practiced in the net.  \nThose able to do so\, we encourage all to participate in BBS Packet\, Vara HF\, VARA FM\, Winlink Packet and Winlink Telnet.   \nSend your digital check ins prior to the voice net. \n\nPhone –  146.920 MHz – /203.5 (tone) Repeater\n\nDigital BBS Packet – 145.030 MHz Simplex – Send Bulletin to ALL connect to WA5EOC-1 v CONROE\n\nDigital Vara HF P2P  – Center Freq: 3.58850 MHz Send to N5KWN\n\nDigital Winlink VARA HF\, VARA FM\, Winlink Packet\, Winlink Telnet – Send to MCA-NET
URL:https://aresofmocotx.org/event/ares-tuesday-net-151/
CATEGORIES:ARES Net
END:VEVENT
BEGIN:VEVENT
DTSTART;TZID=America/Chicago:20261123T193000
DTEND;TZID=America/Chicago:20261123T200000
DTSTAMP:20260424T073305
CREATED:20251231T201048Z
LAST-MODIFIED:20251231T211950Z
UID:5649-1795462200-1795464000@aresofmocotx.org
SUMMARY:ARES Monday HF Net
DESCRIPTION:ARES HF Net on 3.873 MHz or 7.285 MHz  starting at 1930 (7:30pm).  When checking in\, we are in District 1.  Send WinLink check-ins. no later than the end of the voice net. Please send your message to TXARES-HF and AA5AF our digital ASEC\, with the following information: Digital mode used (Pactor\, VARA\, VARA FM or Packet) Callsign of WinLink RMS gateway used Frequency used.
URL:https://aresofmocotx.org/event/ares-monday-hf-net-152/
LOCATION:ARES Monday HF Net\, 3.873 MHz\, United States
CATEGORIES:ARES Net
END:VEVENT
BEGIN:VEVENT
DTSTART;TZID=America/Chicago:20261123T200000
DTEND;TZID=America/Chicago:20261123T203000
DTSTAMP:20260424T073305
CREATED:20251231T201602Z
LAST-MODIFIED:20251231T212236Z
UID:5735-1795464000-1795465800@aresofmocotx.org
SUMMARY:ARES Monday VHF Net
DESCRIPTION:VHF Net at 2000\, (8:00pm)\, on 147.140 MHz/136.5 (tone) Repeater)
URL:https://aresofmocotx.org/event/ares-monday-vhf-net-152/
LOCATION:ARES Monday VHF Net\, 147.14 MHz +/136.5(tone) Repeater\, Conroe\, United States
CATEGORIES:ARES Net
END:VEVENT
BEGIN:VEVENT
DTSTART;TZID=America/Chicago:20261124T200000
DTEND;TZID=America/Chicago:20261124T203000
DTSTAMP:20260424T073305
CREATED:20251231T202826Z
LAST-MODIFIED:20251231T213751Z
UID:5793-1795550400-1795552200@aresofmocotx.org
SUMMARY:ARES Tuesday Net
DESCRIPTION:Emergency Exercise Net starting at 2000 (8:00pm). We encourage all to please participate so that you are practiced in the net.  \nThose able to do so\, we encourage all to participate in BBS Packet\, Vara HF\, VARA FM\, Winlink Packet and Winlink Telnet.   \nSend your digital check ins prior to the voice net. \n\nPhone –  146.920 MHz – /203.5 (tone) Repeater\n\nDigital BBS Packet – 145.030 MHz Simplex – Send Bulletin to ALL connect to WA5EOC-1 v CONROE\n\nDigital Vara HF P2P  – Center Freq: 3.58850 MHz Send to N5KWN\n\nDigital Winlink VARA HF\, VARA FM\, Winlink Packet\, Winlink Telnet – Send to MCA-NET
URL:https://aresofmocotx.org/event/ares-tuesday-net-152/
CATEGORIES:ARES Net
END:VEVENT
BEGIN:VEVENT
DTSTART;TZID=America/Chicago:20261128T080000
DTEND;TZID=America/Chicago:20261128T093000
DTSTAMP:20260424T073305
CREATED:20251231T203601Z
LAST-MODIFIED:20251231T203601Z
UID:5808-1795852800-1795858200@aresofmocotx.org
SUMMARY:Ham Radio Operators Get Together Breakfast
DESCRIPTION:Ham Radio Operators Get Together Breakfast – 4th Saturday of each month.<br/Join other ham radio operators for breakfast at the Golden Corral. I-45 North East Feeder just north of HWY 105 Conroe\, TX.\nGet together around 8:00 AM. The Golden Corral does not open until 8:00 AM.  Good food\, great variety and lots of it. I will often just have coffee and conversation.
URL:https://aresofmocotx.org/event/ham-radio-operators-get-together-breakfast-27/
LOCATION:Ham Radio Operators Get Together Breakfast\, 1604 I-45\, Conroe\, TX\, 77301\, United States
CATEGORIES:ARES Meeting
END:VEVENT
BEGIN:VEVENT
DTSTART;TZID=America/Chicago:20261130T193000
DTEND;TZID=America/Chicago:20261130T200000
DTSTAMP:20260424T073305
CREATED:20251231T201048Z
LAST-MODIFIED:20251231T211950Z
UID:5650-1796067000-1796068800@aresofmocotx.org
SUMMARY:ARES Monday HF Net
DESCRIPTION:ARES HF Net on 3.873 MHz or 7.285 MHz  starting at 1930 (7:30pm).  When checking in\, we are in District 1.  Send WinLink check-ins. no later than the end of the voice net. Please send your message to TXARES-HF and AA5AF our digital ASEC\, with the following information: Digital mode used (Pactor\, VARA\, VARA FM or Packet) Callsign of WinLink RMS gateway used Frequency used.
URL:https://aresofmocotx.org/event/ares-monday-hf-net-153/
LOCATION:ARES Monday HF Net\, 3.873 MHz\, United States
CATEGORIES:ARES Net
END:VEVENT
BEGIN:VEVENT
DTSTART;TZID=America/Chicago:20261130T200000
DTEND;TZID=America/Chicago:20261130T203000
DTSTAMP:20260424T073305
CREATED:20251231T201602Z
LAST-MODIFIED:20251231T212250Z
UID:5736-1796068800-1796070600@aresofmocotx.org
SUMMARY:ARES Monday VHF Net
DESCRIPTION:VHF Net at 2000\, (8:00pm)\, on 147.140 MHz/136.5 (tone) Repeater)
URL:https://aresofmocotx.org/event/ares-monday-vhf-net-153/
LOCATION:ARES Monday VHF Net\, 147.14 MHz +/136.5(tone) Repeater\, Conroe\, United States
CATEGORIES:ARES Net
END:VEVENT
BEGIN:VEVENT
DTSTART;TZID=America/Chicago:20261201T200000
DTEND;TZID=America/Chicago:20261201T203000
DTSTAMP:20260424T073305
CREATED:20251231T202826Z
LAST-MODIFIED:20251231T213751Z
UID:5794-1796155200-1796157000@aresofmocotx.org
SUMMARY:ARES Tuesday Net
DESCRIPTION:Emergency Exercise Net starting at 2000 (8:00pm). We encourage all to please participate so that you are practiced in the net.  \nThose able to do so\, we encourage all to participate in BBS Packet\, Vara HF\, VARA FM\, Winlink Packet and Winlink Telnet.   \nSend your digital check ins prior to the voice net. \n\nPhone –  146.920 MHz – /203.5 (tone) Repeater\n\nDigital BBS Packet – 145.030 MHz Simplex – Send Bulletin to ALL connect to WA5EOC-1 v CONROE\n\nDigital Vara HF P2P  – Center Freq: 3.58850 MHz Send to N5KWN\n\nDigital Winlink VARA HF\, VARA FM\, Winlink Packet\, Winlink Telnet – Send to MCA-NET
URL:https://aresofmocotx.org/event/ares-tuesday-net-153/
CATEGORIES:ARES Net
END:VEVENT
BEGIN:VEVENT
DTSTART;TZID=America/Chicago:20261207T193000
DTEND;TZID=America/Chicago:20261207T200000
DTSTAMP:20260424T073305
CREATED:20251231T201048Z
LAST-MODIFIED:20251231T211951Z
UID:5651-1796671800-1796673600@aresofmocotx.org
SUMMARY:ARES Monday HF Net
DESCRIPTION:ARES HF Net on 3.873 MHz or 7.285 MHz  starting at 1930 (7:30pm).  When checking in\, we are in District 1.  Send WinLink check-ins. no later than the end of the voice net. Please send your message to TXARES-HF and AA5AF our digital ASEC\, with the following information: Digital mode used (Pactor\, VARA\, VARA FM or Packet) Callsign of WinLink RMS gateway used Frequency used.
URL:https://aresofmocotx.org/event/ares-monday-hf-net-154/
LOCATION:ARES Monday HF Net\, 3.873 MHz\, United States
CATEGORIES:ARES Net
END:VEVENT
BEGIN:VEVENT
DTSTART;TZID=America/Chicago:20261207T200000
DTEND;TZID=America/Chicago:20261207T203000
DTSTAMP:20260424T073305
CREATED:20251231T201602Z
LAST-MODIFIED:20251231T212251Z
UID:5737-1796673600-1796675400@aresofmocotx.org
SUMMARY:ARES Monday VHF Net
DESCRIPTION:VHF Net at 2000\, (8:00pm)\, on 147.140 MHz/136.5 (tone) Repeater)
URL:https://aresofmocotx.org/event/ares-monday-vhf-net-154/
LOCATION:ARES Monday VHF Net\, 147.14 MHz +/136.5(tone) Repeater\, Conroe\, United States
CATEGORIES:ARES Net
END:VEVENT
BEGIN:VEVENT
DTSTART;TZID=America/Chicago:20261208T200000
DTEND;TZID=America/Chicago:20261208T203000
DTSTAMP:20260424T073305
CREATED:20251231T202826Z
LAST-MODIFIED:20251231T213751Z
UID:5795-1796760000-1796761800@aresofmocotx.org
SUMMARY:ARES Tuesday Net
DESCRIPTION:Emergency Exercise Net starting at 2000 (8:00pm). We encourage all to please participate so that you are practiced in the net.  \nThose able to do so\, we encourage all to participate in BBS Packet\, Vara HF\, VARA FM\, Winlink Packet and Winlink Telnet.   \nSend your digital check ins prior to the voice net. \n\nPhone –  146.920 MHz – /203.5 (tone) Repeater\n\nDigital BBS Packet – 145.030 MHz Simplex – Send Bulletin to ALL connect to WA5EOC-1 v CONROE\n\nDigital Vara HF P2P  – Center Freq: 3.58850 MHz Send to N5KWN\n\nDigital Winlink VARA HF\, VARA FM\, Winlink Packet\, Winlink Telnet – Send to MCA-NET
URL:https://aresofmocotx.org/event/ares-tuesday-net-154/
CATEGORIES:ARES Net
END:VEVENT
BEGIN:VEVENT
DTSTART;TZID=America/Chicago:20261210T183000
DTEND;TZID=America/Chicago:20261210T193000
DTSTAMP:20260424T073305
CREATED:20251231T214950Z
LAST-MODIFIED:20251231T214950Z
UID:5964-1796927400-1796931000@aresofmocotx.org
SUMMARY:ARES Meeting Training
DESCRIPTION:Training at 1830 (6:30pm) Topic To Be announced
URL:https://aresofmocotx.org/event/ares-meeting-training-12/
LOCATION:The Woodlands Emergency Training Center\, 16135 IH 45 South\, The Woodlands\, 77385\, United States
CATEGORIES:ARES Training
END:VEVENT
BEGIN:VEVENT
DTSTART;TZID=America/Chicago:20261210T193000
DTEND;TZID=America/Chicago:20261210T210000
DTSTAMP:20260424T073305
CREATED:20251231T195157Z
LAST-MODIFIED:20251231T214904Z
UID:5564-1796931000-1796936400@aresofmocotx.org
SUMMARY:ARES Meeting
DESCRIPTION:Meeting at 1930 (7:30pm) In Person Meeting
URL:https://aresofmocotx.org/event/ares-meeting-37/
LOCATION:The Woodlands Emergency Training Center\, 16135 IH 45 South\, The Woodlands\, 77385\, United States
CATEGORIES:ARES Meeting
END:VEVENT
BEGIN:VEVENT
DTSTART;TZID=America/Chicago:20261214T193000
DTEND;TZID=America/Chicago:20261214T200000
DTSTAMP:20260424T073305
CREATED:20251231T201117Z
LAST-MODIFIED:20251231T212005Z
UID:5652-1797276600-1797278400@aresofmocotx.org
SUMMARY:ARES Monday HF Net
DESCRIPTION:ARES HF Net on 3.873 MHz or 7.285 MHz  starting at 1930 (7:30pm).  When checking in\, we are in District 1.  Send WinLink check-ins. no later than the end of the voice net. Please send your message to TXARES-HF and AA5AF our digital ASEC\, with the following information: Digital mode used (Pactor\, VARA\, VARA FM or Packet) Callsign of WinLink RMS gateway used Frequency used.
URL:https://aresofmocotx.org/event/ares-monday-hf-net-155/
LOCATION:ARES Monday HF Net\, 3.873 MHz\, United States
CATEGORIES:ARES Net
END:VEVENT
BEGIN:VEVENT
DTSTART;TZID=America/Chicago:20261214T200000
DTEND;TZID=America/Chicago:20261214T203000
DTSTAMP:20260424T073305
CREATED:20251231T201602Z
LAST-MODIFIED:20251231T212251Z
UID:5738-1797278400-1797280200@aresofmocotx.org
SUMMARY:ARES Monday VHF Net
DESCRIPTION:VHF Net at 2000\, (8:00pm)\, on 147.140 MHz/136.5 (tone) Repeater)
URL:https://aresofmocotx.org/event/ares-monday-vhf-net-155/
LOCATION:ARES Monday VHF Net\, 147.14 MHz +/136.5(tone) Repeater\, Conroe\, United States
CATEGORIES:ARES Net
END:VEVENT
BEGIN:VEVENT
DTSTART;TZID=America/Chicago:20261215T200000
DTEND;TZID=America/Chicago:20261215T203000
DTSTAMP:20260424T073305
CREATED:20251231T213951Z
LAST-MODIFIED:20251231T213951Z
UID:5935-1797364800-1797366600@aresofmocotx.org
SUMMARY:ARES Tuesday Net
DESCRIPTION:Emergency Exercise Net starting at 2000 (8:00pm). We encourage all to please participate so that you are practiced in the net.  \nThose able to do so\, we encourage all to participate in BBS Packet\, Vara HF\, VARA FM\, Winlink Packet and Winlink Telnet.   \nSend your digital check ins prior to the voice net. \n\nPhone –  146.920 MHz – /203.5 (tone) Repeater\n\nDigital BBS Packet – 145.030 MHz Simplex – Send Bulletin to ALL connect to WA5EOC-1 v CONROE\n\nDigital Vara HF P2P  – Center Freq: 3.58850 MHz Send to N5KWN\n\nDigital Winlink VARA HF\, VARA FM\, Winlink Packet\, Winlink Telnet – Send to MCA-NET
URL:https://aresofmocotx.org/event/ares-tuesday-net-155/
CATEGORIES:ARES Net
END:VEVENT
BEGIN:VEVENT
DTSTART;TZID=America/Chicago:20261221T193000
DTEND;TZID=America/Chicago:20261221T200000
DTSTAMP:20260424T073305
CREATED:20251231T201117Z
LAST-MODIFIED:20251231T212006Z
UID:5653-1797881400-1797883200@aresofmocotx.org
SUMMARY:ARES Monday HF Net
DESCRIPTION:ARES HF Net on 3.873 MHz or 7.285 MHz  starting at 1930 (7:30pm).  When checking in\, we are in District 1.  Send WinLink check-ins. no later than the end of the voice net. Please send your message to TXARES-HF and AA5AF our digital ASEC\, with the following information: Digital mode used (Pactor\, VARA\, VARA FM or Packet) Callsign of WinLink RMS gateway used Frequency used.
URL:https://aresofmocotx.org/event/ares-monday-hf-net-156/
LOCATION:ARES Monday HF Net\, 3.873 MHz\, United States
CATEGORIES:ARES Net
END:VEVENT
BEGIN:VEVENT
DTSTART;TZID=America/Chicago:20261221T200000
DTEND;TZID=America/Chicago:20261221T203000
DTSTAMP:20260424T073305
CREATED:20251231T201616Z
LAST-MODIFIED:20251231T212251Z
UID:5739-1797883200-1797885000@aresofmocotx.org
SUMMARY:ARES Monday VHF Net
DESCRIPTION:VHF Net at 2000\, (8:00pm)\, on 147.140 MHz/136.5 (tone) Repeater)
URL:https://aresofmocotx.org/event/ares-monday-vhf-net-156/
LOCATION:ARES Monday VHF Net\, 147.14 MHz +/136.5(tone) Repeater\, Conroe\, United States
CATEGORIES:ARES Net
END:VEVENT
BEGIN:VEVENT
DTSTART;TZID=America/Chicago:20261222T200000
DTEND;TZID=America/Chicago:20261222T203000
DTSTAMP:20260424T073305
CREATED:20251231T213952Z
LAST-MODIFIED:20251231T213952Z
UID:5936-1797969600-1797971400@aresofmocotx.org
SUMMARY:ARES Tuesday Net
DESCRIPTION:Emergency Exercise Net starting at 2000 (8:00pm). We encourage all to please participate so that you are practiced in the net.  \nThose able to do so\, we encourage all to participate in BBS Packet\, Vara HF\, VARA FM\, Winlink Packet and Winlink Telnet.   \nSend your digital check ins prior to the voice net. \n\nPhone –  146.920 MHz – /203.5 (tone) Repeater\n\nDigital BBS Packet – 145.030 MHz Simplex – Send Bulletin to ALL connect to WA5EOC-1 v CONROE\n\nDigital Vara HF P2P  – Center Freq: 3.58850 MHz Send to N5KWN\n\nDigital Winlink VARA HF\, VARA FM\, Winlink Packet\, Winlink Telnet – Send to MCA-NET
URL:https://aresofmocotx.org/event/ares-tuesday-net-156/
CATEGORIES:ARES Net
END:VEVENT
BEGIN:VEVENT
DTSTART;TZID=America/Chicago:20261226T080000
DTEND;TZID=America/Chicago:20261226T093000
DTSTAMP:20260424T073305
CREATED:20251231T203602Z
LAST-MODIFIED:20251231T203602Z
UID:5809-1798272000-1798277400@aresofmocotx.org
SUMMARY:Ham Radio Operators Get Together Breakfast
DESCRIPTION:Ham Radio Operators Get Together Breakfast – 4th Saturday of each month.<br/Join other ham radio operators for breakfast at the Golden Corral. I-45 North East Feeder just north of HWY 105 Conroe\, TX.\nGet together around 8:00 AM. The Golden Corral does not open until 8:00 AM.  Good food\, great variety and lots of it. I will often just have coffee and conversation.
URL:https://aresofmocotx.org/event/ham-radio-operators-get-together-breakfast-28/
LOCATION:Ham Radio Operators Get Together Breakfast\, 1604 I-45\, Conroe\, TX\, 77301\, United States
CATEGORIES:ARES Meeting
END:VEVENT
BEGIN:VEVENT
DTSTART;TZID=America/Chicago:20261228T193000
DTEND;TZID=America/Chicago:20261228T200000
DTSTAMP:20260424T073305
CREATED:20251231T201117Z
LAST-MODIFIED:20251231T212006Z
UID:5654-1798486200-1798488000@aresofmocotx.org
SUMMARY:ARES Monday HF Net
DESCRIPTION:ARES HF Net on 3.873 MHz or 7.285 MHz  starting at 1930 (7:30pm).  When checking in\, we are in District 1.  Send WinLink check-ins. no later than the end of the voice net. Please send your message to TXARES-HF and AA5AF our digital ASEC\, with the following information: Digital mode used (Pactor\, VARA\, VARA FM or Packet) Callsign of WinLink RMS gateway used Frequency used.
URL:https://aresofmocotx.org/event/ares-monday-hf-net-157/
LOCATION:ARES Monday HF Net\, 3.873 MHz\, United States
CATEGORIES:ARES Net
END:VEVENT
END:VCALENDAR