BEGIN:VCALENDAR
VERSION:2.0
PRODID:-//ARES - ECPv6.15.20//NONSGML v1.0//EN
CALSCALE:GREGORIAN
METHOD:PUBLISH
X-WR-CALNAME:ARES
X-ORIGINAL-URL:https://aresofmocotx.org
X-WR-CALDESC:Events for ARES
REFRESH-INTERVAL;VALUE=DURATION:PT1H
X-Robots-Tag:noindex
X-PUBLISHED-TTL:PT1H
BEGIN:VTIMEZONE
TZID:America/Chicago
BEGIN:DAYLIGHT
TZOFFSETFROM:-0600
TZOFFSETTO:-0500
TZNAME:CDT
DTSTART:20240310T080000
END:DAYLIGHT
BEGIN:STANDARD
TZOFFSETFROM:-0500
TZOFFSETTO:-0600
TZNAME:CST
DTSTART:20241103T070000
END:STANDARD
BEGIN:DAYLIGHT
TZOFFSETFROM:-0600
TZOFFSETTO:-0500
TZNAME:CDT
DTSTART:20250309T080000
END:DAYLIGHT
BEGIN:STANDARD
TZOFFSETFROM:-0500
TZOFFSETTO:-0600
TZNAME:CST
DTSTART:20251102T070000
END:STANDARD
BEGIN:DAYLIGHT
TZOFFSETFROM:-0600
TZOFFSETTO:-0500
TZNAME:CDT
DTSTART:20260308T080000
END:DAYLIGHT
BEGIN:STANDARD
TZOFFSETFROM:-0500
TZOFFSETTO:-0600
TZNAME:CST
DTSTART:20261101T070000
END:STANDARD
END:VTIMEZONE
BEGIN:VEVENT
DTSTART;TZID=America/Chicago:20250616T193000
DTEND;TZID=America/Chicago:20250616T200000
DTSTAMP:20260424T111248
CREATED:20241231T211254Z
LAST-MODIFIED:20250105T204625Z
UID:2989-1750102200-1750104000@aresofmocotx.org
SUMMARY:ARES Monday HF Net
DESCRIPTION:ARES HF Net on 3.873 MHz starting at 1930 (7:30pm).  When checking in\, we are in District 1.  You can also check in digitally using TXARES-HF on hf radio only.  No telnet.
URL:https://aresofmocotx.org/event/ares-monday-hf-net-77/
LOCATION:ARES Monday HF Net\, 3.873 MHz\, United States
CATEGORIES:ARES Net
END:VEVENT
BEGIN:VEVENT
DTSTART;TZID=America/Chicago:20250612T193000
DTEND;TZID=America/Chicago:20250612T210000
DTSTAMP:20260424T111248
CREATED:20241231T210940Z
LAST-MODIFIED:20250105T204222Z
UID:2945-1749756600-1749762000@aresofmocotx.org
SUMMARY:ARES Meeting
DESCRIPTION:Meeting at 1930 (7:30pm) In Person Meeting
URL:https://aresofmocotx.org/event/ares-meeting-19/
LOCATION:The Woodlands Emergency Training Center\, 16135 IH 45 South\, The Woodlands\, 77385\, United States
CATEGORIES:ARES Meeting
END:VEVENT
BEGIN:VEVENT
DTSTART;TZID=America/Chicago:20250610T200000
DTEND;TZID=America/Chicago:20250610T203000
DTSTAMP:20260424T111248
CREATED:20241231T222102Z
LAST-MODIFIED:20250105T205247Z
UID:3078-1749585600-1749587400@aresofmocotx.org
SUMMARY:ARES Tuesday Net
DESCRIPTION:Emergency Exercise Net starting at 2000 (8:00pm). We encourage all to please participate so that you are practiced in the net.  \nThose able to do so\, we encourage all to participate in BBS Packet\, Vara HF\, and Winlink (Telnet).   \nSend your digital check ins prior to the net. \n\nPhone –  146.920 MHz – /203.5 (tone) Repeater\n\nDigital BBS Packet – 145.030 MHz Simplex\n\nDigital Vara HF  – Center Freq: 3.58850 MHz\n\nDigital Winlink (Telnet) – Send your Winlink (Telnet) check in message to “MCA-NET”
URL:https://aresofmocotx.org/event/ares-tuesday-net-76/
CATEGORIES:ARES Net
END:VEVENT
BEGIN:VEVENT
DTSTART;TZID=America/Chicago:20250609T200000
DTEND;TZID=America/Chicago:20250609T203000
DTSTAMP:20260424T111248
CREATED:20241231T212039Z
LAST-MODIFIED:20250105T204924Z
UID:3040-1749499200-1749501000@aresofmocotx.org
SUMMARY:ARES Monday VHF Net
DESCRIPTION:VHF Net at 2000\, (8:00pm)\, on 147.140 MHz/136.5 (tone) Repeater)
URL:https://aresofmocotx.org/event/ares-monday-vhf-net-76/
LOCATION:ARES Monday VHF Net\, 147.14 MHz +/136.5(tone) Repeater\, Conroe\, United States
CATEGORIES:ARES Net
END:VEVENT
BEGIN:VEVENT
DTSTART;TZID=America/Chicago:20250609T193000
DTEND;TZID=America/Chicago:20250609T200000
DTSTAMP:20260424T111248
CREATED:20241231T211254Z
LAST-MODIFIED:20250105T204624Z
UID:2988-1749497400-1749499200@aresofmocotx.org
SUMMARY:ARES Monday HF Net
DESCRIPTION:ARES HF Net on 3.873 MHz starting at 1930 (7:30pm).  When checking in\, we are in District 1.  You can also check in digitally using TXARES-HF on hf radio only.  No telnet.
URL:https://aresofmocotx.org/event/ares-monday-hf-net-76/
LOCATION:ARES Monday HF Net\, 3.873 MHz\, United States
CATEGORIES:ARES Net
END:VEVENT
BEGIN:VEVENT
DTSTART;TZID=America/Chicago:20250603T200000
DTEND;TZID=America/Chicago:20250603T203000
DTSTAMP:20260424T111248
CREATED:20241231T222102Z
LAST-MODIFIED:20250105T205247Z
UID:3077-1748980800-1748982600@aresofmocotx.org
SUMMARY:ARES Tuesday Net
DESCRIPTION:Emergency Exercise Net starting at 2000 (8:00pm). We encourage all to please participate so that you are practiced in the net.  \nThose able to do so\, we encourage all to participate in BBS Packet\, Vara HF\, and Winlink (Telnet).   \nSend your digital check ins prior to the net. \n\nPhone –  146.920 MHz – /203.5 (tone) Repeater\n\nDigital BBS Packet – 145.030 MHz Simplex\n\nDigital Vara HF  – Center Freq: 3.58850 MHz\n\nDigital Winlink (Telnet) – Send your Winlink (Telnet) check in message to “MCA-NET”
URL:https://aresofmocotx.org/event/ares-tuesday-net-75/
CATEGORIES:ARES Net
END:VEVENT
BEGIN:VEVENT
DTSTART;TZID=America/Chicago:20250602T200000
DTEND;TZID=America/Chicago:20250602T203000
DTSTAMP:20260424T111248
CREATED:20241231T212003Z
LAST-MODIFIED:20250105T204910Z
UID:3039-1748894400-1748896200@aresofmocotx.org
SUMMARY:ARES Monday VHF Net
DESCRIPTION:VHF Net at 2000\, (8:00pm)\, on 147.140 MHz/136.5 (tone) Repeater)
URL:https://aresofmocotx.org/event/ares-monday-vhf-net-75/
LOCATION:ARES Monday VHF Net\, 147.14 MHz +/136.5(tone) Repeater\, Conroe\, United States
CATEGORIES:ARES Net
END:VEVENT
BEGIN:VEVENT
DTSTART;TZID=America/Chicago:20250602T193000
DTEND;TZID=America/Chicago:20250602T200000
DTSTAMP:20260424T111248
CREATED:20241231T211253Z
LAST-MODIFIED:20250105T204624Z
UID:2987-1748892600-1748894400@aresofmocotx.org
SUMMARY:ARES Monday HF Net
DESCRIPTION:ARES HF Net on 3.873 MHz starting at 1930 (7:30pm).  When checking in\, we are in District 1.  You can also check in digitally using TXARES-HF on hf radio only.  No telnet.
URL:https://aresofmocotx.org/event/ares-monday-hf-net-75/
LOCATION:ARES Monday HF Net\, 3.873 MHz\, United States
CATEGORIES:ARES Net
END:VEVENT
BEGIN:VEVENT
DTSTART;TZID=America/Chicago:20250527T200000
DTEND;TZID=America/Chicago:20250527T203000
DTSTAMP:20260424T111248
CREATED:20241231T222101Z
LAST-MODIFIED:20250105T205247Z
UID:3076-1748376000-1748377800@aresofmocotx.org
SUMMARY:ARES Tuesday Net
DESCRIPTION:Emergency Exercise Net starting at 2000 (8:00pm). We encourage all to please participate so that you are practiced in the net.  \nThose able to do so\, we encourage all to participate in BBS Packet\, Vara HF\, and Winlink (Telnet).   \nSend your digital check ins prior to the net. \n\nPhone –  146.920 MHz – /203.5 (tone) Repeater\n\nDigital BBS Packet – 145.030 MHz Simplex\n\nDigital Vara HF  – Center Freq: 3.58850 MHz\n\nDigital Winlink (Telnet) – Send your Winlink (Telnet) check in message to “MCA-NET”
URL:https://aresofmocotx.org/event/ares-tuesday-net-74/
CATEGORIES:ARES Net
END:VEVENT
BEGIN:VEVENT
DTSTART;TZID=America/Chicago:20250526T200000
DTEND;TZID=America/Chicago:20250526T203000
DTSTAMP:20260424T111248
CREATED:20241231T212002Z
LAST-MODIFIED:20250105T204910Z
UID:3038-1748289600-1748291400@aresofmocotx.org
SUMMARY:ARES Monday VHF Net
DESCRIPTION:VHF Net at 2000\, (8:00pm)\, on 147.140 MHz/136.5 (tone) Repeater)
URL:https://aresofmocotx.org/event/ares-monday-vhf-net-74/
LOCATION:ARES Monday VHF Net\, 147.14 MHz +/136.5(tone) Repeater\, Conroe\, United States
CATEGORIES:ARES Net
END:VEVENT
BEGIN:VEVENT
DTSTART;TZID=America/Chicago:20250526T193000
DTEND;TZID=America/Chicago:20250526T200000
DTSTAMP:20260424T111248
CREATED:20241231T211252Z
LAST-MODIFIED:20250105T204624Z
UID:2986-1748287800-1748289600@aresofmocotx.org
SUMMARY:ARES Monday HF Net
DESCRIPTION:ARES HF Net on 3.873 MHz starting at 1930 (7:30pm).  When checking in\, we are in District 1.  You can also check in digitally using TXARES-HF on hf radio only.  No telnet.
URL:https://aresofmocotx.org/event/ares-monday-hf-net-74/
LOCATION:ARES Monday HF Net\, 3.873 MHz\, United States
CATEGORIES:ARES Net
END:VEVENT
BEGIN:VEVENT
DTSTART;TZID=America/Chicago:20250524T080000
DTEND;TZID=America/Chicago:20250524T093000
DTSTAMP:20260424T111248
CREATED:20241231T211053Z
LAST-MODIFIED:20250319T124205Z
UID:2957-1748073600-1748079000@aresofmocotx.org
SUMMARY:Ham Radio Operators Get Together Breakfast
DESCRIPTION:Ham Radio Operators Get Together Breakfast – 4th Saturday of each month.\nJoin other ham radio operators for breakfast at the Golden Corral. I-45 North East Feeder just north of HWY 105 Conroe\, TX.\nGet together around 8:00 AM. The Golden Corral does not open until 8:00 AM. Good food\, great variety and lots of it. I will often just have coffee and conversation.
URL:https://aresofmocotx.org/event/ham-radio-operators-get-together-breakfast-9/
LOCATION:Ham Radio Operators Get Together Breakfast\, 1604 I-45\, Conroe\, TX\, 77301\, United States
CATEGORIES:ARES Meeting
END:VEVENT
BEGIN:VEVENT
DTSTART;TZID=America/Chicago:20250520T200000
DTEND;TZID=America/Chicago:20250520T203000
DTSTAMP:20260424T111248
CREATED:20241231T222101Z
LAST-MODIFIED:20250105T205246Z
UID:3075-1747771200-1747773000@aresofmocotx.org
SUMMARY:ARES Tuesday Net
DESCRIPTION:Emergency Exercise Net starting at 2000 (8:00pm). We encourage all to please participate so that you are practiced in the net.  \nThose able to do so\, we encourage all to participate in BBS Packet\, Vara HF\, and Winlink (Telnet).   \nSend your digital check ins prior to the net. \n\nPhone –  146.920 MHz – /203.5 (tone) Repeater\n\nDigital BBS Packet – 145.030 MHz Simplex\n\nDigital Vara HF  – Center Freq: 3.58850 MHz\n\nDigital Winlink (Telnet) – Send your Winlink (Telnet) check in message to “MCA-NET”
URL:https://aresofmocotx.org/event/ares-tuesday-net-73/
CATEGORIES:ARES Net
END:VEVENT
BEGIN:VEVENT
DTSTART;TZID=America/Chicago:20250519T200000
DTEND;TZID=America/Chicago:20250519T203000
DTSTAMP:20260424T111248
CREATED:20241231T212001Z
LAST-MODIFIED:20250105T204910Z
UID:3037-1747684800-1747686600@aresofmocotx.org
SUMMARY:ARES Monday VHF Net
DESCRIPTION:VHF Net at 2000\, (8:00pm)\, on 147.140 MHz/136.5 (tone) Repeater)
URL:https://aresofmocotx.org/event/ares-monday-vhf-net-73/
LOCATION:ARES Monday VHF Net\, 147.14 MHz +/136.5(tone) Repeater\, Conroe\, United States
CATEGORIES:ARES Net
END:VEVENT
BEGIN:VEVENT
DTSTART;TZID=America/Chicago:20250519T193000
DTEND;TZID=America/Chicago:20250519T200000
DTSTAMP:20260424T111248
CREATED:20241231T211251Z
LAST-MODIFIED:20250105T204624Z
UID:2985-1747683000-1747684800@aresofmocotx.org
SUMMARY:ARES Monday HF Net
DESCRIPTION:ARES HF Net on 3.873 MHz starting at 1930 (7:30pm).  When checking in\, we are in District 1.  You can also check in digitally using TXARES-HF on hf radio only.  No telnet.
URL:https://aresofmocotx.org/event/ares-monday-hf-net-73/
LOCATION:ARES Monday HF Net\, 3.873 MHz\, United States
CATEGORIES:ARES Net
END:VEVENT
BEGIN:VEVENT
DTSTART;TZID=America/Chicago:20250513T200000
DTEND;TZID=America/Chicago:20250513T203000
DTSTAMP:20260424T111248
CREATED:20241231T222047Z
LAST-MODIFIED:20250105T205232Z
UID:3074-1747166400-1747168200@aresofmocotx.org
SUMMARY:ARES Tuesday Net
DESCRIPTION:Emergency Exercise Net starting at 2000 (8:00pm). We encourage all to please participate so that you are practiced in the net.  \nThose able to do so\, we encourage all to participate in BBS Packet\, Vara HF\, and Winlink (Telnet).   \nSend your digital check ins prior to the net. \n\nPhone –  146.920 MHz – /203.5 (tone) Repeater\n\nDigital BBS Packet – 145.030 MHz Simplex\n\nDigital Vara HF  – Center Freq: 3.58850 MHz\n\nDigital Winlink (Telnet) – Send your Winlink (Telnet) check in message to “MCA-NET”
URL:https://aresofmocotx.org/event/ares-tuesday-net-72/
CATEGORIES:ARES Net
END:VEVENT
BEGIN:VEVENT
DTSTART;TZID=America/Chicago:20250512T200000
DTEND;TZID=America/Chicago:20250512T203000
DTSTAMP:20260424T111248
CREATED:20241231T212000Z
LAST-MODIFIED:20250105T204910Z
UID:3036-1747080000-1747081800@aresofmocotx.org
SUMMARY:ARES Monday VHF Net
DESCRIPTION:VHF Net at 2000\, (8:00pm)\, on 147.140 MHz/136.5 (tone) Repeater)
URL:https://aresofmocotx.org/event/ares-monday-vhf-net-72/
LOCATION:ARES Monday VHF Net\, 147.14 MHz +/136.5(tone) Repeater\, Conroe\, United States
CATEGORIES:ARES Net
END:VEVENT
BEGIN:VEVENT
DTSTART;TZID=America/Chicago:20250512T193000
DTEND;TZID=America/Chicago:20250512T200000
DTSTAMP:20260424T111248
CREATED:20241231T211239Z
LAST-MODIFIED:20250105T204610Z
UID:2984-1747078200-1747080000@aresofmocotx.org
SUMMARY:ARES Monday HF Net
DESCRIPTION:ARES HF Net on 3.873 MHz starting at 1930 (7:30pm).  When checking in\, we are in District 1.  You can also check in digitally using TXARES-HF on hf radio only.  No telnet.
URL:https://aresofmocotx.org/event/ares-monday-hf-net-72/
LOCATION:ARES Monday HF Net\, 3.873 MHz\, United States
CATEGORIES:ARES Net
END:VEVENT
BEGIN:VEVENT
DTSTART;TZID=America/Chicago:20250508T193000
DTEND;TZID=America/Chicago:20250508T210000
DTSTAMP:20260424T111248
CREATED:20241231T210938Z
LAST-MODIFIED:20250105T204222Z
UID:2944-1746732600-1746738000@aresofmocotx.org
SUMMARY:ARES Meeting
DESCRIPTION:Meeting at 1930 (7:30pm) In Person Meeting
URL:https://aresofmocotx.org/event/ares-meeting-18/
LOCATION:The Woodlands Emergency Training Center\, 16135 IH 45 South\, The Woodlands\, 77385\, United States
CATEGORIES:ARES Meeting
END:VEVENT
BEGIN:VEVENT
DTSTART;TZID=America/Chicago:20250506T200000
DTEND;TZID=America/Chicago:20250506T203000
DTSTAMP:20260424T111248
CREATED:20241231T222047Z
LAST-MODIFIED:20250105T205231Z
UID:3073-1746561600-1746563400@aresofmocotx.org
SUMMARY:ARES Tuesday Net
DESCRIPTION:Emergency Exercise Net starting at 2000 (8:00pm). We encourage all to please participate so that you are practiced in the net.  \nThose able to do so\, we encourage all to participate in BBS Packet\, Vara HF\, and Winlink (Telnet).   \nSend your digital check ins prior to the net. \n\nPhone –  146.920 MHz – /203.5 (tone) Repeater\n\nDigital BBS Packet – 145.030 MHz Simplex\n\nDigital Vara HF  – Center Freq: 3.58850 MHz\n\nDigital Winlink (Telnet) – Send your Winlink (Telnet) check in message to “MCA-NET”
URL:https://aresofmocotx.org/event/ares-tuesday-net-71/
CATEGORIES:ARES Net
END:VEVENT
BEGIN:VEVENT
DTSTART;TZID=America/Chicago:20250505T200000
DTEND;TZID=America/Chicago:20250505T203000
DTSTAMP:20260424T111248
CREATED:20241231T211959Z
LAST-MODIFIED:20250105T204909Z
UID:3035-1746475200-1746477000@aresofmocotx.org
SUMMARY:ARES Monday VHF Net
DESCRIPTION:VHF Net at 2000\, (8:00pm)\, on 147.140 MHz/136.5 (tone) Repeater)
URL:https://aresofmocotx.org/event/ares-monday-vhf-net-71/
LOCATION:ARES Monday VHF Net\, 147.14 MHz +/136.5(tone) Repeater\, Conroe\, United States
CATEGORIES:ARES Net
END:VEVENT
BEGIN:VEVENT
DTSTART;TZID=America/Chicago:20250505T193000
DTEND;TZID=America/Chicago:20250505T200000
DTSTAMP:20260424T111248
CREATED:20241231T211238Z
LAST-MODIFIED:20250105T204610Z
UID:2983-1746473400-1746475200@aresofmocotx.org
SUMMARY:ARES Monday HF Net
DESCRIPTION:ARES HF Net on 3.873 MHz starting at 1930 (7:30pm).  When checking in\, we are in District 1.  You can also check in digitally using TXARES-HF on hf radio only.  No telnet.
URL:https://aresofmocotx.org/event/ares-monday-hf-net-71/
LOCATION:ARES Monday HF Net\, 3.873 MHz\, United States
CATEGORIES:ARES Net
END:VEVENT
BEGIN:VEVENT
DTSTART;TZID=America/Chicago:20250429T200000
DTEND;TZID=America/Chicago:20250429T203000
DTSTAMP:20260424T111248
CREATED:20241231T222046Z
LAST-MODIFIED:20250105T205231Z
UID:3072-1745956800-1745958600@aresofmocotx.org
SUMMARY:ARES Tuesday Net
DESCRIPTION:Emergency Exercise Net starting at 2000 (8:00pm). We encourage all to please participate so that you are practiced in the net.  \nThose able to do so\, we encourage all to participate in BBS Packet\, Vara HF\, and Winlink (Telnet).   \nSend your digital check ins prior to the net. \n\nPhone –  146.920 MHz – /203.5 (tone) Repeater\n\nDigital BBS Packet – 145.030 MHz Simplex\n\nDigital Vara HF  – Center Freq: 3.58850 MHz\n\nDigital Winlink (Telnet) – Send your Winlink (Telnet) check in message to “MCA-NET”
URL:https://aresofmocotx.org/event/ares-tuesday-net-70/
CATEGORIES:ARES Net
END:VEVENT
BEGIN:VEVENT
DTSTART;TZID=America/Chicago:20250428T200000
DTEND;TZID=America/Chicago:20250428T203000
DTSTAMP:20260424T111248
CREATED:20241231T211947Z
LAST-MODIFIED:20250105T204855Z
UID:3034-1745870400-1745872200@aresofmocotx.org
SUMMARY:ARES Monday VHF Net
DESCRIPTION:VHF Net at 2000\, (8:00pm)\, on 147.140 MHz/136.5 (tone) Repeater)
URL:https://aresofmocotx.org/event/ares-monday-vhf-net-70/
LOCATION:ARES Monday VHF Net\, 147.14 MHz +/136.5(tone) Repeater\, Conroe\, United States
CATEGORIES:ARES Net
END:VEVENT
BEGIN:VEVENT
DTSTART;TZID=America/Chicago:20250428T193000
DTEND;TZID=America/Chicago:20250428T200000
DTSTAMP:20260424T111248
CREATED:20241231T211238Z
LAST-MODIFIED:20250105T204610Z
UID:2982-1745868600-1745870400@aresofmocotx.org
SUMMARY:ARES Monday HF Net
DESCRIPTION:ARES HF Net on 3.873 MHz starting at 1930 (7:30pm).  When checking in\, we are in District 1.  You can also check in digitally using TXARES-HF on hf radio only.  No telnet.
URL:https://aresofmocotx.org/event/ares-monday-hf-net-70/
LOCATION:ARES Monday HF Net\, 3.873 MHz\, United States
CATEGORIES:ARES Net
END:VEVENT
BEGIN:VEVENT
DTSTART;TZID=America/Chicago:20250426T080000
DTEND;TZID=America/Chicago:20250426T093000
DTSTAMP:20260424T111248
CREATED:20241231T211048Z
LAST-MODIFIED:20250319T124130Z
UID:2956-1745654400-1745659800@aresofmocotx.org
SUMMARY:Ham Radio Operators Get Together Breakfast
DESCRIPTION:Ham Radio Operators Get Together Breakfast – 4th Saturday of each month.\nJoin other ham radio operators for breakfast at the Golden Corral. I-45 North East Feeder just north of HWY 105 Conroe\, TX.\nGet together around 8:00 AM. The Golden Corral does not open until 8:00 AM. Good food\, great variety and lots of it. I will often just have coffee and conversation.
URL:https://aresofmocotx.org/event/ham-radio-operators-get-together-breakfast-8/
LOCATION:Ham Radio Operators Get Together Breakfast\, 1604 I-45\, Conroe\, TX\, 77301\, United States
CATEGORIES:ARES Meeting
END:VEVENT
BEGIN:VEVENT
DTSTART;TZID=America/Chicago:20250422T200000
DTEND;TZID=America/Chicago:20250422T203000
DTSTAMP:20260424T111248
CREATED:20241231T222046Z
LAST-MODIFIED:20250105T205231Z
UID:3071-1745352000-1745353800@aresofmocotx.org
SUMMARY:ARES Tuesday Net
DESCRIPTION:Emergency Exercise Net starting at 2000 (8:00pm). We encourage all to please participate so that you are practiced in the net.  \nThose able to do so\, we encourage all to participate in BBS Packet\, Vara HF\, and Winlink (Telnet).   \nSend your digital check ins prior to the net. \n\nPhone –  146.920 MHz – /203.5 (tone) Repeater\n\nDigital BBS Packet – 145.030 MHz Simplex\n\nDigital Vara HF  – Center Freq: 3.58850 MHz\n\nDigital Winlink (Telnet) – Send your Winlink (Telnet) check in message to “MCA-NET”
URL:https://aresofmocotx.org/event/ares-tuesday-net-69/
CATEGORIES:ARES Net
END:VEVENT
BEGIN:VEVENT
DTSTART;TZID=America/Chicago:20250421T200000
DTEND;TZID=America/Chicago:20250421T203000
DTSTAMP:20260424T111248
CREATED:20241231T211946Z
LAST-MODIFIED:20250105T204855Z
UID:3033-1745265600-1745267400@aresofmocotx.org
SUMMARY:ARES Monday VHF Net
DESCRIPTION:VHF Net at 2000\, (8:00pm)\, on 147.140 MHz/136.5 (tone) Repeater)
URL:https://aresofmocotx.org/event/ares-monday-vhf-net-69/
LOCATION:ARES Monday VHF Net\, 147.14 MHz +/136.5(tone) Repeater\, Conroe\, United States
CATEGORIES:ARES Net
END:VEVENT
BEGIN:VEVENT
DTSTART;TZID=America/Chicago:20250421T193000
DTEND;TZID=America/Chicago:20250421T200000
DTSTAMP:20260424T111248
CREATED:20241231T211237Z
LAST-MODIFIED:20250105T204610Z
UID:2981-1745263800-1745265600@aresofmocotx.org
SUMMARY:ARES Monday HF Net
DESCRIPTION:ARES HF Net on 3.873 MHz starting at 1930 (7:30pm).  When checking in\, we are in District 1.  You can also check in digitally using TXARES-HF on hf radio only.  No telnet.
URL:https://aresofmocotx.org/event/ares-monday-hf-net-69/
LOCATION:ARES Monday HF Net\, 3.873 MHz\, United States
CATEGORIES:ARES Net
END:VEVENT
BEGIN:VEVENT
DTSTART;TZID=America/Chicago:20250415T200000
DTEND;TZID=America/Chicago:20250415T203000
DTSTAMP:20260424T111248
CREATED:20241231T222046Z
LAST-MODIFIED:20250105T205231Z
UID:3070-1744747200-1744749000@aresofmocotx.org
SUMMARY:ARES Tuesday Net
DESCRIPTION:Emergency Exercise Net starting at 2000 (8:00pm). We encourage all to please participate so that you are practiced in the net.  \nThose able to do so\, we encourage all to participate in BBS Packet\, Vara HF\, and Winlink (Telnet).   \nSend your digital check ins prior to the net. \n\nPhone –  146.920 MHz – /203.5 (tone) Repeater\n\nDigital BBS Packet – 145.030 MHz Simplex\n\nDigital Vara HF  – Center Freq: 3.58850 MHz\n\nDigital Winlink (Telnet) – Send your Winlink (Telnet) check in message to “MCA-NET”
URL:https://aresofmocotx.org/event/ares-tuesday-net-68/
CATEGORIES:ARES Net
END:VEVENT
END:VCALENDAR