BEGIN:VCALENDAR
VERSION:2.0
PRODID:-//ARES - ECPv6.15.20//NONSGML v1.0//EN
CALSCALE:GREGORIAN
METHOD:PUBLISH
X-ORIGINAL-URL:https://aresofmocotx.org
X-WR-CALDESC:Events for ARES
REFRESH-INTERVAL;VALUE=DURATION:PT1H
X-Robots-Tag:noindex
X-PUBLISHED-TTL:PT1H
BEGIN:VTIMEZONE
TZID:America/Chicago
BEGIN:DAYLIGHT
TZOFFSETFROM:-0600
TZOFFSETTO:-0500
TZNAME:CDT
DTSTART:20250309T080000
END:DAYLIGHT
BEGIN:STANDARD
TZOFFSETFROM:-0500
TZOFFSETTO:-0600
TZNAME:CST
DTSTART:20251102T070000
END:STANDARD
BEGIN:DAYLIGHT
TZOFFSETFROM:-0600
TZOFFSETTO:-0500
TZNAME:CDT
DTSTART:20260308T080000
END:DAYLIGHT
BEGIN:STANDARD
TZOFFSETFROM:-0500
TZOFFSETTO:-0600
TZNAME:CST
DTSTART:20261101T070000
END:STANDARD
BEGIN:DAYLIGHT
TZOFFSETFROM:-0600
TZOFFSETTO:-0500
TZNAME:CDT
DTSTART:20270314T080000
END:DAYLIGHT
BEGIN:STANDARD
TZOFFSETFROM:-0500
TZOFFSETTO:-0600
TZNAME:CST
DTSTART:20271107T070000
END:STANDARD
END:VTIMEZONE
BEGIN:VEVENT
DTSTART;TZID=America/Chicago:20260413T193000
DTEND;TZID=America/Chicago:20260413T200000
DTSTAMP:20260423T191009
CREATED:20251231T200435Z
LAST-MODIFIED:20251231T211820Z
UID:5586-1776108600-1776110400@aresofmocotx.org
SUMMARY:ARES Monday HF Net
DESCRIPTION:ARES HF Net on 3.873 MHz or 7.285 MHz  starting at 1930 (7:30pm).  When checking in\, we are in District 1.  Send WinLink check-ins. no later than the end of the voice net. Please send your message to TXARES-HF and AA5AF our digital ASEC\, with the following information: Digital mode used (Pactor\, VARA\, VARA FM or Packet) Callsign of WinLink RMS gateway used Frequency used.
URL:https://aresofmocotx.org/event/ares-monday-hf-net-120/
LOCATION:ARES Monday HF Net\, 3.873 MHz\, United States
CATEGORIES:ARES Net
END:VEVENT
BEGIN:VEVENT
DTSTART;TZID=America/Chicago:20260413T200000
DTEND;TZID=America/Chicago:20260413T203000
DTSTAMP:20260423T191009
CREATED:20251231T201153Z
LAST-MODIFIED:20251231T212106Z
UID:5669-1776110400-1776112200@aresofmocotx.org
SUMMARY:ARES Monday VHF Net
DESCRIPTION:VHF Net at 2000\, (8:00pm)\, on 147.140 MHz/136.5 (tone) Repeater)
URL:https://aresofmocotx.org/event/ares-monday-vhf-net-120/
LOCATION:ARES Monday VHF Net\, 147.14 MHz +/136.5(tone) Repeater\, Conroe\, United States
CATEGORIES:ARES Net
END:VEVENT
BEGIN:VEVENT
DTSTART;TZID=America/Chicago:20260414T200000
DTEND;TZID=America/Chicago:20260414T203000
DTSTAMP:20260423T191009
CREATED:20251231T202512Z
LAST-MODIFIED:20251231T213435Z
UID:5761-1776196800-1776198600@aresofmocotx.org
SUMMARY:ARES Tuesday Net
DESCRIPTION:Emergency Exercise Net starting at 2000 (8:00pm). We encourage all to please participate so that you are practiced in the net.  \nThose able to do so\, we encourage all to participate in BBS Packet\, Vara HF\, VARA FM\, Winlink Packet and Winlink Telnet.   \nSend your digital check ins prior to the voice net. \n\nPhone –  146.920 MHz – /203.5 (tone) Repeater\n\nDigital BBS Packet – 145.030 MHz Simplex – Send Bulletin to ALL connect to WA5EOC-1 v CONROE\n\nDigital Vara HF P2P  – Center Freq: 3.58850 MHz Send to N5KWN\n\nDigital Winlink VARA HF\, VARA FM\, Winlink Packet\, Winlink Telnet – Send to MCA-NET
URL:https://aresofmocotx.org/event/ares-tuesday-net-120/
CATEGORIES:ARES Net
END:VEVENT
BEGIN:VEVENT
DTSTART;TZID=America/Chicago:20260420T193000
DTEND;TZID=America/Chicago:20260420T200000
DTSTAMP:20260423T191009
CREATED:20251231T200435Z
LAST-MODIFIED:20251231T211820Z
UID:5587-1776713400-1776715200@aresofmocotx.org
SUMMARY:ARES Monday HF Net
DESCRIPTION:ARES HF Net on 3.873 MHz or 7.285 MHz  starting at 1930 (7:30pm).  When checking in\, we are in District 1.  Send WinLink check-ins. no later than the end of the voice net. Please send your message to TXARES-HF and AA5AF our digital ASEC\, with the following information: Digital mode used (Pactor\, VARA\, VARA FM or Packet) Callsign of WinLink RMS gateway used Frequency used.
URL:https://aresofmocotx.org/event/ares-monday-hf-net-121/
LOCATION:ARES Monday HF Net\, 3.873 MHz\, United States
CATEGORIES:ARES Net
END:VEVENT
BEGIN:VEVENT
DTSTART;TZID=America/Chicago:20260420T200000
DTEND;TZID=America/Chicago:20260420T203000
DTSTAMP:20260423T191009
CREATED:20251231T201153Z
LAST-MODIFIED:20251231T212106Z
UID:5670-1776715200-1776717000@aresofmocotx.org
SUMMARY:ARES Monday VHF Net
DESCRIPTION:VHF Net at 2000\, (8:00pm)\, on 147.140 MHz/136.5 (tone) Repeater)
URL:https://aresofmocotx.org/event/ares-monday-vhf-net-121/
LOCATION:ARES Monday VHF Net\, 147.14 MHz +/136.5(tone) Repeater\, Conroe\, United States
CATEGORIES:ARES Net
END:VEVENT
BEGIN:VEVENT
DTSTART;TZID=America/Chicago:20260421T200000
DTEND;TZID=America/Chicago:20260421T203000
DTSTAMP:20260423T191009
CREATED:20251231T202512Z
LAST-MODIFIED:20251231T213435Z
UID:5762-1776801600-1776803400@aresofmocotx.org
SUMMARY:ARES Tuesday Net
DESCRIPTION:Emergency Exercise Net starting at 2000 (8:00pm). We encourage all to please participate so that you are practiced in the net.  \nThose able to do so\, we encourage all to participate in BBS Packet\, Vara HF\, VARA FM\, Winlink Packet and Winlink Telnet.   \nSend your digital check ins prior to the voice net. \n\nPhone –  146.920 MHz – /203.5 (tone) Repeater\n\nDigital BBS Packet – 145.030 MHz Simplex – Send Bulletin to ALL connect to WA5EOC-1 v CONROE\n\nDigital Vara HF P2P  – Center Freq: 3.58850 MHz Send to N5KWN\n\nDigital Winlink VARA HF\, VARA FM\, Winlink Packet\, Winlink Telnet – Send to MCA-NET
URL:https://aresofmocotx.org/event/ares-tuesday-net-121/
CATEGORIES:ARES Net
END:VEVENT
BEGIN:VEVENT
DTSTART;TZID=America/Chicago:20260425T080000
DTEND;TZID=America/Chicago:20260425T093000
DTSTAMP:20260423T191009
CREATED:20251231T203544Z
LAST-MODIFIED:20251231T203544Z
UID:5801-1777104000-1777109400@aresofmocotx.org
SUMMARY:Ham Radio Operators Get Together Breakfast
DESCRIPTION:Ham Radio Operators Get Together Breakfast – 4th Saturday of each month.<br/Join other ham radio operators for breakfast at the Golden Corral. I-45 North East Feeder just north of HWY 105 Conroe\, TX.\nGet together around 8:00 AM. The Golden Corral does not open until 8:00 AM.  Good food\, great variety and lots of it. I will often just have coffee and conversation.
URL:https://aresofmocotx.org/event/ham-radio-operators-get-together-breakfast-20/
LOCATION:Ham Radio Operators Get Together Breakfast\, 1604 I-45\, Conroe\, TX\, 77301\, United States
CATEGORIES:ARES Meeting
END:VEVENT
BEGIN:VEVENT
DTSTART;TZID=America/Chicago:20260427T193000
DTEND;TZID=America/Chicago:20260427T200000
DTSTAMP:20260423T191009
CREATED:20251231T200435Z
LAST-MODIFIED:20251231T211820Z
UID:5588-1777318200-1777320000@aresofmocotx.org
SUMMARY:ARES Monday HF Net
DESCRIPTION:ARES HF Net on 3.873 MHz or 7.285 MHz  starting at 1930 (7:30pm).  When checking in\, we are in District 1.  Send WinLink check-ins. no later than the end of the voice net. Please send your message to TXARES-HF and AA5AF our digital ASEC\, with the following information: Digital mode used (Pactor\, VARA\, VARA FM or Packet) Callsign of WinLink RMS gateway used Frequency used.
URL:https://aresofmocotx.org/event/ares-monday-hf-net-122/
LOCATION:ARES Monday HF Net\, 3.873 MHz\, United States
CATEGORIES:ARES Net
END:VEVENT
BEGIN:VEVENT
DTSTART;TZID=America/Chicago:20260427T200000
DTEND;TZID=America/Chicago:20260427T203000
DTSTAMP:20260423T191009
CREATED:20251231T201153Z
LAST-MODIFIED:20251231T212106Z
UID:5671-1777320000-1777321800@aresofmocotx.org
SUMMARY:ARES Monday VHF Net
DESCRIPTION:VHF Net at 2000\, (8:00pm)\, on 147.140 MHz/136.5 (tone) Repeater)
URL:https://aresofmocotx.org/event/ares-monday-vhf-net-122/
LOCATION:ARES Monday VHF Net\, 147.14 MHz +/136.5(tone) Repeater\, Conroe\, United States
CATEGORIES:ARES Net
END:VEVENT
BEGIN:VEVENT
DTSTART;TZID=America/Chicago:20260428T200000
DTEND;TZID=America/Chicago:20260428T203000
DTSTAMP:20260423T191009
CREATED:20251231T202512Z
LAST-MODIFIED:20251231T213435Z
UID:5763-1777406400-1777408200@aresofmocotx.org
SUMMARY:ARES Tuesday Net
DESCRIPTION:Emergency Exercise Net starting at 2000 (8:00pm). We encourage all to please participate so that you are practiced in the net.  \nThose able to do so\, we encourage all to participate in BBS Packet\, Vara HF\, VARA FM\, Winlink Packet and Winlink Telnet.   \nSend your digital check ins prior to the voice net. \n\nPhone –  146.920 MHz – /203.5 (tone) Repeater\n\nDigital BBS Packet – 145.030 MHz Simplex – Send Bulletin to ALL connect to WA5EOC-1 v CONROE\n\nDigital Vara HF P2P  – Center Freq: 3.58850 MHz Send to N5KWN\n\nDigital Winlink VARA HF\, VARA FM\, Winlink Packet\, Winlink Telnet – Send to MCA-NET
URL:https://aresofmocotx.org/event/ares-tuesday-net-122/
CATEGORIES:ARES Net
END:VEVENT
BEGIN:VEVENT
DTSTART;TZID=America/Chicago:20260504T193000
DTEND;TZID=America/Chicago:20260504T200000
DTSTAMP:20260423T191009
CREATED:20251231T200435Z
LAST-MODIFIED:20251231T211821Z
UID:5589-1777923000-1777924800@aresofmocotx.org
SUMMARY:ARES Monday HF Net
DESCRIPTION:ARES HF Net on 3.873 MHz or 7.285 MHz  starting at 1930 (7:30pm).  When checking in\, we are in District 1.  Send WinLink check-ins. no later than the end of the voice net. Please send your message to TXARES-HF and AA5AF our digital ASEC\, with the following information: Digital mode used (Pactor\, VARA\, VARA FM or Packet) Callsign of WinLink RMS gateway used Frequency used.
URL:https://aresofmocotx.org/event/ares-monday-hf-net-123/
LOCATION:ARES Monday HF Net\, 3.873 MHz\, United States
CATEGORIES:ARES Net
END:VEVENT
BEGIN:VEVENT
DTSTART;TZID=America/Chicago:20260504T200000
DTEND;TZID=America/Chicago:20260504T203000
DTSTAMP:20260423T191009
CREATED:20251231T201207Z
LAST-MODIFIED:20251231T212120Z
UID:5672-1777924800-1777926600@aresofmocotx.org
SUMMARY:ARES Monday VHF Net
DESCRIPTION:VHF Net at 2000\, (8:00pm)\, on 147.140 MHz/136.5 (tone) Repeater)
URL:https://aresofmocotx.org/event/ares-monday-vhf-net-123/
LOCATION:ARES Monday VHF Net\, 147.14 MHz +/136.5(tone) Repeater\, Conroe\, United States
CATEGORIES:ARES Net
END:VEVENT
BEGIN:VEVENT
DTSTART;TZID=America/Chicago:20260505T200000
DTEND;TZID=America/Chicago:20260505T203000
DTSTAMP:20260423T191009
CREATED:20251231T202512Z
LAST-MODIFIED:20251231T213435Z
UID:5764-1778011200-1778013000@aresofmocotx.org
SUMMARY:ARES Tuesday Net
DESCRIPTION:Emergency Exercise Net starting at 2000 (8:00pm). We encourage all to please participate so that you are practiced in the net.  \nThose able to do so\, we encourage all to participate in BBS Packet\, Vara HF\, VARA FM\, Winlink Packet and Winlink Telnet.   \nSend your digital check ins prior to the voice net. \n\nPhone –  146.920 MHz – /203.5 (tone) Repeater\n\nDigital BBS Packet – 145.030 MHz Simplex – Send Bulletin to ALL connect to WA5EOC-1 v CONROE\n\nDigital Vara HF P2P  – Center Freq: 3.58850 MHz Send to N5KWN\n\nDigital Winlink VARA HF\, VARA FM\, Winlink Packet\, Winlink Telnet – Send to MCA-NET
URL:https://aresofmocotx.org/event/ares-tuesday-net-123/
CATEGORIES:ARES Net
END:VEVENT
BEGIN:VEVENT
DTSTART;TZID=America/Chicago:20260511T193000
DTEND;TZID=America/Chicago:20260511T200000
DTSTAMP:20260423T191009
CREATED:20251231T200435Z
LAST-MODIFIED:20251231T211821Z
UID:5590-1778527800-1778529600@aresofmocotx.org
SUMMARY:ARES Monday HF Net
DESCRIPTION:ARES HF Net on 3.873 MHz or 7.285 MHz  starting at 1930 (7:30pm).  When checking in\, we are in District 1.  Send WinLink check-ins. no later than the end of the voice net. Please send your message to TXARES-HF and AA5AF our digital ASEC\, with the following information: Digital mode used (Pactor\, VARA\, VARA FM or Packet) Callsign of WinLink RMS gateway used Frequency used.
URL:https://aresofmocotx.org/event/ares-monday-hf-net-124/
LOCATION:ARES Monday HF Net\, 3.873 MHz\, United States
CATEGORIES:ARES Net
END:VEVENT
BEGIN:VEVENT
DTSTART;TZID=America/Chicago:20260511T200000
DTEND;TZID=America/Chicago:20260511T203000
DTSTAMP:20260423T191009
CREATED:20251231T201208Z
LAST-MODIFIED:20251231T212120Z
UID:5673-1778529600-1778531400@aresofmocotx.org
SUMMARY:ARES Monday VHF Net
DESCRIPTION:VHF Net at 2000\, (8:00pm)\, on 147.140 MHz/136.5 (tone) Repeater)
URL:https://aresofmocotx.org/event/ares-monday-vhf-net-124/
LOCATION:ARES Monday VHF Net\, 147.14 MHz +/136.5(tone) Repeater\, Conroe\, United States
CATEGORIES:ARES Net
END:VEVENT
BEGIN:VEVENT
DTSTART;TZID=America/Chicago:20260512T200000
DTEND;TZID=America/Chicago:20260512T203000
DTSTAMP:20260423T191009
CREATED:20251231T202513Z
LAST-MODIFIED:20251231T213435Z
UID:5765-1778616000-1778617800@aresofmocotx.org
SUMMARY:ARES Tuesday Net
DESCRIPTION:Emergency Exercise Net starting at 2000 (8:00pm). We encourage all to please participate so that you are practiced in the net.  \nThose able to do so\, we encourage all to participate in BBS Packet\, Vara HF\, VARA FM\, Winlink Packet and Winlink Telnet.   \nSend your digital check ins prior to the voice net. \n\nPhone –  146.920 MHz – /203.5 (tone) Repeater\n\nDigital BBS Packet – 145.030 MHz Simplex – Send Bulletin to ALL connect to WA5EOC-1 v CONROE\n\nDigital Vara HF P2P  – Center Freq: 3.58850 MHz Send to N5KWN\n\nDigital Winlink VARA HF\, VARA FM\, Winlink Packet\, Winlink Telnet – Send to MCA-NET
URL:https://aresofmocotx.org/event/ares-tuesday-net-124/
CATEGORIES:ARES Net
END:VEVENT
BEGIN:VEVENT
DTSTART;TZID=America/Chicago:20260514T183000
DTEND;TZID=America/Chicago:20260514T193000
DTSTAMP:20260423T191009
CREATED:20251231T214920Z
LAST-MODIFIED:20251231T214920Z
UID:5957-1778783400-1778787000@aresofmocotx.org
SUMMARY:ARES Meeting Training
DESCRIPTION:Training at 1830 (6:30pm) Topic To Be announced
URL:https://aresofmocotx.org/event/ares-meeting-training-5/
LOCATION:The Woodlands Emergency Training Center\, 16135 IH 45 South\, The Woodlands\, 77385\, United States
CATEGORIES:ARES Training
END:VEVENT
BEGIN:VEVENT
DTSTART;TZID=America/Chicago:20260514T193000
DTEND;TZID=America/Chicago:20260514T210000
DTSTAMP:20260423T191009
CREATED:20251231T195156Z
LAST-MODIFIED:20251231T214849Z
UID:5557-1778787000-1778792400@aresofmocotx.org
SUMMARY:ARES Meeting
DESCRIPTION:Meeting at 1930 (7:30pm) In Person Meeting
URL:https://aresofmocotx.org/event/ares-meeting-30/
LOCATION:The Woodlands Emergency Training Center\, 16135 IH 45 South\, The Woodlands\, 77385\, United States
CATEGORIES:ARES Meeting
END:VEVENT
BEGIN:VEVENT
DTSTART;TZID=America/Chicago:20260516T100000
DTEND;TZID=America/Chicago:20260516T140000
DTSTAMP:20260423T191009
CREATED:20250813T201412Z
LAST-MODIFIED:20260420T221309Z
UID:5165-1778925600-1778940000@aresofmocotx.org
SUMMARY:1488 CERT 2026 Emergency Preparedness Fair
DESCRIPTION:Each year\, beginning in 2010\, the East 1488 CERT has sponsored an Emergency Preparedness Fair near the beginning of Hurricane Season.  At booths residents receive information to help them prepare for disasters and emergencies and learn about the CERT program.  First responders and CERT members give demonstrations with additional preparedness information.  First responders are also available to answer questions and residents can tour emergency vehicles \n  \nWest Woodlands Home Depot\nOn 1488 at Egypt Rd\n\n6119 FM 1488\, Magnolia\, TX 77354
URL:https://aresofmocotx.org/event/1488-cert-2026-emergency-preparedness-fair/
LOCATION:East 1488 CERT Preparedness Fair\, 6119 FM 1488\, Magnolia\, TX\, 77354
END:VEVENT
BEGIN:VEVENT
DTSTART;TZID=America/Chicago:20260518T193000
DTEND;TZID=America/Chicago:20260518T200000
DTSTAMP:20260423T191009
CREATED:20251231T200450Z
LAST-MODIFIED:20251231T211835Z
UID:5591-1779132600-1779134400@aresofmocotx.org
SUMMARY:ARES Monday HF Net
DESCRIPTION:ARES HF Net on 3.873 MHz or 7.285 MHz  starting at 1930 (7:30pm).  When checking in\, we are in District 1.  Send WinLink check-ins. no later than the end of the voice net. Please send your message to TXARES-HF and AA5AF our digital ASEC\, with the following information: Digital mode used (Pactor\, VARA\, VARA FM or Packet) Callsign of WinLink RMS gateway used Frequency used.
URL:https://aresofmocotx.org/event/ares-monday-hf-net-125/
LOCATION:ARES Monday HF Net\, 3.873 MHz\, United States
CATEGORIES:ARES Net
END:VEVENT
BEGIN:VEVENT
DTSTART;TZID=America/Chicago:20260518T200000
DTEND;TZID=America/Chicago:20260518T203000
DTSTAMP:20260423T191009
CREATED:20251231T201208Z
LAST-MODIFIED:20251231T212120Z
UID:5674-1779134400-1779136200@aresofmocotx.org
SUMMARY:ARES Monday VHF Net
DESCRIPTION:VHF Net at 2000\, (8:00pm)\, on 147.140 MHz/136.5 (tone) Repeater)
URL:https://aresofmocotx.org/event/ares-monday-vhf-net-125/
LOCATION:ARES Monday VHF Net\, 147.14 MHz +/136.5(tone) Repeater\, Conroe\, United States
CATEGORIES:ARES Net
END:VEVENT
BEGIN:VEVENT
DTSTART;TZID=America/Chicago:20260519T200000
DTEND;TZID=America/Chicago:20260519T203000
DTSTAMP:20260423T191009
CREATED:20251231T202703Z
LAST-MODIFIED:20251231T213450Z
UID:5766-1779220800-1779222600@aresofmocotx.org
SUMMARY:ARES Tuesday Net
DESCRIPTION:Emergency Exercise Net starting at 2000 (8:00pm). We encourage all to please participate so that you are practiced in the net.  \nThose able to do so\, we encourage all to participate in BBS Packet\, Vara HF\, VARA FM\, Winlink Packet and Winlink Telnet.   \nSend your digital check ins prior to the voice net. \n\nPhone –  146.920 MHz – /203.5 (tone) Repeater\n\nDigital BBS Packet – 145.030 MHz Simplex – Send Bulletin to ALL connect to WA5EOC-1 v CONROE\n\nDigital Vara HF P2P  – Center Freq: 3.58850 MHz Send to N5KWN\n\nDigital Winlink VARA HF\, VARA FM\, Winlink Packet\, Winlink Telnet – Send to MCA-NET
URL:https://aresofmocotx.org/event/ares-tuesday-net-125/
CATEGORIES:ARES Net
END:VEVENT
BEGIN:VEVENT
DTSTART;TZID=America/Chicago:20260523T080000
DTEND;TZID=America/Chicago:20260523T093000
DTSTAMP:20260423T191009
CREATED:20251231T203546Z
LAST-MODIFIED:20251231T203546Z
UID:5802-1779523200-1779528600@aresofmocotx.org
SUMMARY:Ham Radio Operators Get Together Breakfast
DESCRIPTION:Ham Radio Operators Get Together Breakfast – 4th Saturday of each month.<br/Join other ham radio operators for breakfast at the Golden Corral. I-45 North East Feeder just north of HWY 105 Conroe\, TX.\nGet together around 8:00 AM. The Golden Corral does not open until 8:00 AM.  Good food\, great variety and lots of it. I will often just have coffee and conversation.
URL:https://aresofmocotx.org/event/ham-radio-operators-get-together-breakfast-21/
LOCATION:Ham Radio Operators Get Together Breakfast\, 1604 I-45\, Conroe\, TX\, 77301\, United States
CATEGORIES:ARES Meeting
END:VEVENT
BEGIN:VEVENT
DTSTART;TZID=America/Chicago:20260525T193000
DTEND;TZID=America/Chicago:20260525T200000
DTSTAMP:20260423T191009
CREATED:20251231T200450Z
LAST-MODIFIED:20251231T211835Z
UID:5592-1779737400-1779739200@aresofmocotx.org
SUMMARY:ARES Monday HF Net
DESCRIPTION:ARES HF Net on 3.873 MHz or 7.285 MHz  starting at 1930 (7:30pm).  When checking in\, we are in District 1.  Send WinLink check-ins. no later than the end of the voice net. Please send your message to TXARES-HF and AA5AF our digital ASEC\, with the following information: Digital mode used (Pactor\, VARA\, VARA FM or Packet) Callsign of WinLink RMS gateway used Frequency used.
URL:https://aresofmocotx.org/event/ares-monday-hf-net-126/
LOCATION:ARES Monday HF Net\, 3.873 MHz\, United States
CATEGORIES:ARES Net
END:VEVENT
BEGIN:VEVENT
DTSTART;TZID=America/Chicago:20260525T200000
DTEND;TZID=America/Chicago:20260525T203000
DTSTAMP:20260423T191009
CREATED:20251231T201208Z
LAST-MODIFIED:20251231T212120Z
UID:5675-1779739200-1779741000@aresofmocotx.org
SUMMARY:ARES Monday VHF Net
DESCRIPTION:VHF Net at 2000\, (8:00pm)\, on 147.140 MHz/136.5 (tone) Repeater)
URL:https://aresofmocotx.org/event/ares-monday-vhf-net-126/
LOCATION:ARES Monday VHF Net\, 147.14 MHz +/136.5(tone) Repeater\, Conroe\, United States
CATEGORIES:ARES Net
END:VEVENT
BEGIN:VEVENT
DTSTART;TZID=America/Chicago:20260526T200000
DTEND;TZID=America/Chicago:20260526T203000
DTSTAMP:20260423T191009
CREATED:20251231T202704Z
LAST-MODIFIED:20251231T213450Z
UID:5767-1779825600-1779827400@aresofmocotx.org
SUMMARY:ARES Tuesday Net
DESCRIPTION:Emergency Exercise Net starting at 2000 (8:00pm). We encourage all to please participate so that you are practiced in the net.  \nThose able to do so\, we encourage all to participate in BBS Packet\, Vara HF\, VARA FM\, Winlink Packet and Winlink Telnet.   \nSend your digital check ins prior to the voice net. \n\nPhone –  146.920 MHz – /203.5 (tone) Repeater\n\nDigital BBS Packet – 145.030 MHz Simplex – Send Bulletin to ALL connect to WA5EOC-1 v CONROE\n\nDigital Vara HF P2P  – Center Freq: 3.58850 MHz Send to N5KWN\n\nDigital Winlink VARA HF\, VARA FM\, Winlink Packet\, Winlink Telnet – Send to MCA-NET
URL:https://aresofmocotx.org/event/ares-tuesday-net-126/
CATEGORIES:ARES Net
END:VEVENT
BEGIN:VEVENT
DTSTART;TZID=America/Chicago:20260601T193000
DTEND;TZID=America/Chicago:20260601T200000
DTSTAMP:20260423T191009
CREATED:20251231T200451Z
LAST-MODIFIED:20251231T211835Z
UID:5593-1780342200-1780344000@aresofmocotx.org
SUMMARY:ARES Monday HF Net
DESCRIPTION:ARES HF Net on 3.873 MHz or 7.285 MHz  starting at 1930 (7:30pm).  When checking in\, we are in District 1.  Send WinLink check-ins. no later than the end of the voice net. Please send your message to TXARES-HF and AA5AF our digital ASEC\, with the following information: Digital mode used (Pactor\, VARA\, VARA FM or Packet) Callsign of WinLink RMS gateway used Frequency used.
URL:https://aresofmocotx.org/event/ares-monday-hf-net-127/
LOCATION:ARES Monday HF Net\, 3.873 MHz\, United States
CATEGORIES:ARES Net
END:VEVENT
BEGIN:VEVENT
DTSTART;TZID=America/Chicago:20260601T200000
DTEND;TZID=America/Chicago:20260601T203000
DTSTAMP:20260423T191009
CREATED:20251231T201208Z
LAST-MODIFIED:20251231T212121Z
UID:5676-1780344000-1780345800@aresofmocotx.org
SUMMARY:ARES Monday VHF Net
DESCRIPTION:VHF Net at 2000\, (8:00pm)\, on 147.140 MHz/136.5 (tone) Repeater)
URL:https://aresofmocotx.org/event/ares-monday-vhf-net-127/
LOCATION:ARES Monday VHF Net\, 147.14 MHz +/136.5(tone) Repeater\, Conroe\, United States
CATEGORIES:ARES Net
END:VEVENT
BEGIN:VEVENT
DTSTART;TZID=America/Chicago:20260602T200000
DTEND;TZID=America/Chicago:20260602T203000
DTSTAMP:20260423T191009
CREATED:20251231T202704Z
LAST-MODIFIED:20251231T213450Z
UID:5768-1780430400-1780432200@aresofmocotx.org
SUMMARY:ARES Tuesday Net
DESCRIPTION:Emergency Exercise Net starting at 2000 (8:00pm). We encourage all to please participate so that you are practiced in the net.  \nThose able to do so\, we encourage all to participate in BBS Packet\, Vara HF\, VARA FM\, Winlink Packet and Winlink Telnet.   \nSend your digital check ins prior to the voice net. \n\nPhone –  146.920 MHz – /203.5 (tone) Repeater\n\nDigital BBS Packet – 145.030 MHz Simplex – Send Bulletin to ALL connect to WA5EOC-1 v CONROE\n\nDigital Vara HF P2P  – Center Freq: 3.58850 MHz Send to N5KWN\n\nDigital Winlink VARA HF\, VARA FM\, Winlink Packet\, Winlink Telnet – Send to MCA-NET
URL:https://aresofmocotx.org/event/ares-tuesday-net-127/
CATEGORIES:ARES Net
END:VEVENT
BEGIN:VEVENT
DTSTART;TZID=America/Chicago:20260608T193000
DTEND;TZID=America/Chicago:20260608T200000
DTSTAMP:20260423T191009
CREATED:20251231T200451Z
LAST-MODIFIED:20251231T211835Z
UID:5594-1780947000-1780948800@aresofmocotx.org
SUMMARY:ARES Monday HF Net
DESCRIPTION:ARES HF Net on 3.873 MHz or 7.285 MHz  starting at 1930 (7:30pm).  When checking in\, we are in District 1.  Send WinLink check-ins. no later than the end of the voice net. Please send your message to TXARES-HF and AA5AF our digital ASEC\, with the following information: Digital mode used (Pactor\, VARA\, VARA FM or Packet) Callsign of WinLink RMS gateway used Frequency used.
URL:https://aresofmocotx.org/event/ares-monday-hf-net-128/
LOCATION:ARES Monday HF Net\, 3.873 MHz\, United States
CATEGORIES:ARES Net
END:VEVENT
END:VCALENDAR