BEGIN:VCALENDAR
VERSION:2.0
PRODID:-//ARES - ECPv6.15.20//NONSGML v1.0//EN
CALSCALE:GREGORIAN
METHOD:PUBLISH
X-ORIGINAL-URL:https://aresofmocotx.org
X-WR-CALDESC:Events for ARES
REFRESH-INTERVAL;VALUE=DURATION:PT1H
X-Robots-Tag:noindex
X-PUBLISHED-TTL:PT1H
BEGIN:VTIMEZONE
TZID:America/Chicago
BEGIN:DAYLIGHT
TZOFFSETFROM:-0600
TZOFFSETTO:-0500
TZNAME:CDT
DTSTART:20230312T080000
END:DAYLIGHT
BEGIN:STANDARD
TZOFFSETFROM:-0500
TZOFFSETTO:-0600
TZNAME:CST
DTSTART:20231105T070000
END:STANDARD
BEGIN:DAYLIGHT
TZOFFSETFROM:-0600
TZOFFSETTO:-0500
TZNAME:CDT
DTSTART:20240310T080000
END:DAYLIGHT
BEGIN:STANDARD
TZOFFSETFROM:-0500
TZOFFSETTO:-0600
TZNAME:CST
DTSTART:20241103T070000
END:STANDARD
BEGIN:DAYLIGHT
TZOFFSETFROM:-0600
TZOFFSETTO:-0500
TZNAME:CDT
DTSTART:20250309T080000
END:DAYLIGHT
BEGIN:STANDARD
TZOFFSETFROM:-0500
TZOFFSETTO:-0600
TZNAME:CST
DTSTART:20251102T070000
END:STANDARD
BEGIN:DAYLIGHT
TZOFFSETFROM:-0600
TZOFFSETTO:-0500
TZNAME:CDT
DTSTART:20260308T080000
END:DAYLIGHT
BEGIN:STANDARD
TZOFFSETFROM:-0500
TZOFFSETTO:-0600
TZNAME:CST
DTSTART:20261101T070000
END:STANDARD
END:VTIMEZONE
BEGIN:VEVENT
DTSTART;TZID=America/Chicago:20241111T200000
DTEND;TZID=America/Chicago:20241111T203000
DTSTAMP:20260425T103903
CREATED:20240202T150459Z
LAST-MODIFIED:20240404T202050Z
UID:1220-1731355200-1731357000@aresofmocotx.org
SUMMARY:ARES Monday VHF Net
DESCRIPTION:VHF Net at 2000\, (8:00pm)\, on 147.140 MHz/136.5 (tone) Repeater)
URL:https://aresofmocotx.org/event/ares-monday-vhf-net-46/
LOCATION:ARES Monday VHF Net\, 147.14 MHz +/136.5(tone) Repeater\, Conroe\, United States
CATEGORIES:ARES Net
END:VEVENT
BEGIN:VEVENT
DTSTART;TZID=America/Chicago:20241112T200000
DTEND;TZID=America/Chicago:20241112T203000
DTSTAMP:20260425T103903
CREATED:20240202T150951Z
LAST-MODIFIED:20240924T202759Z
UID:1273-1731441600-1731443400@aresofmocotx.org
SUMMARY:ARES Tuesday Net
DESCRIPTION:Emergency Exercise Net starting at 2000 (8:00pm). We encourage all to please participate so that you are practiced in the net. \nThose able to do so\, we encourage all to participate in BBS Packet\, Vara HF\, and Winlink (Telnet). \nSend your digital check ins prior to the net. \n\nPhone – 146.920 MHz – /203.5 (tone) Repeater\nBkup –  147.140 MHz + /136.5 (tone) Repeater\nDigital BBS Packet – 145.030 MHz Simplex\nDigital Vara HF – Center Freq: 3.58850 MHz\nDigital Winlink (Telnet) – Send your Winlink (Telnet) check in message to “MCA-NET”
URL:https://aresofmocotx.org/event/ares-tuesday-net-46/
LOCATION:ARES Tuesday Net Repeater WA5AIR 146.920 (-) 203.5\, 146.920 MHz (-) 203.5(tone) Repeater\, Conroe\, TX\, United States
CATEGORIES:ARES Net
END:VEVENT
BEGIN:VEVENT
DTSTART;TZID=America/Chicago:20241114T193000
DTEND;TZID=America/Chicago:20241114T203000
DTSTAMP:20260425T103903
CREATED:20240202T145944Z
LAST-MODIFIED:20240919T133844Z
UID:1120-1731612600-1731616200@aresofmocotx.org
SUMMARY:ARES Meeting
DESCRIPTION:Regular Meeting at 1930 (7:30pm) In Person Meeting
URL:https://aresofmocotx.org/event/ares-meeting-10/
LOCATION:The Woodlands Emergency Training Center\, 16135 IH 45 South\, The Woodlands\, 77385\, United States
CATEGORIES:ARES Meeting
END:VEVENT
BEGIN:VEVENT
DTSTART;TZID=America/Chicago:20241118T193000
DTEND;TZID=America/Chicago:20241118T200000
DTSTAMP:20260425T103903
CREATED:20240202T150214Z
LAST-MODIFIED:20240404T201805Z
UID:1168-1731958200-1731960000@aresofmocotx.org
SUMMARY:ARES Monday HF Net
DESCRIPTION:ARES HF Net on 3.873 MHz starting at 1930 (7:30pm).  When checking in\, we are in District 1.  You can also check in digitally using TXARES-HF on hf radio only.  No telnet.
URL:https://aresofmocotx.org/event/ares-monday-hf-net-47/
LOCATION:ARES Monday HF Net\, 3.873 MHz\, United States
CATEGORIES:ARES Net
END:VEVENT
BEGIN:VEVENT
DTSTART;TZID=America/Chicago:20241118T200000
DTEND;TZID=America/Chicago:20241118T203000
DTSTAMP:20260425T103903
CREATED:20240202T150459Z
LAST-MODIFIED:20240404T202050Z
UID:1221-1731960000-1731961800@aresofmocotx.org
SUMMARY:ARES Monday VHF Net
DESCRIPTION:VHF Net at 2000\, (8:00pm)\, on 147.140 MHz/136.5 (tone) Repeater)
URL:https://aresofmocotx.org/event/ares-monday-vhf-net-47/
LOCATION:ARES Monday VHF Net\, 147.14 MHz +/136.5(tone) Repeater\, Conroe\, United States
CATEGORIES:ARES Net
END:VEVENT
BEGIN:VEVENT
DTSTART;TZID=America/Chicago:20241119T200000
DTEND;TZID=America/Chicago:20241119T203000
DTSTAMP:20260425T103903
CREATED:20240202T150952Z
LAST-MODIFIED:20241118T211833Z
UID:1274-1732046400-1732048200@aresofmocotx.org
SUMMARY:ARES Tuesday Net
DESCRIPTION:Emergency Exercise Net starting at 2000 (8:00pm). We encourage all to please participate so that you are practiced in the net. \nThose able to do so\, we encourage all to participate in BBS Packet\, Vara HF\, and Winlink (Telnet). \nSend your digital check ins prior to the net. \n\nPhone –  146.920 MHz – /203.5 (tone) Repeater\nDigital BBS Packet – 145.030 MHz Simplex\nDigital Vara HF – Center Freq: 3.58850 MHz\nDigital Winlink (Telnet) – Send your Winlink (Telnet) check in message to “MCA-NET”
URL:https://aresofmocotx.org/event/ares-tuesday-net-47/
LOCATION:ARES Tuesday Net  Repeater 442.175 (+) 103.5\, 442.175 (+) 103.5\, Conroe\, TX\, United States
CATEGORIES:ARES Net
END:VEVENT
BEGIN:VEVENT
DTSTART;TZID=America/Chicago:20241123T080000
DTEND;TZID=America/Chicago:20241123T093000
DTSTAMP:20260425T103903
CREATED:20240814T134229Z
LAST-MODIFIED:20241117T150539Z
UID:2210-1732348800-1732354200@aresofmocotx.org
SUMMARY:Ham Radio Operators Get Together Breakfast
DESCRIPTION:Ham Radio Operators Get Together Breakfast – 4th Saturday of each month. \nJoin other ham radio operators for breakfast at the Golden Corral. I-45 North East Feeder just north of HWY 105 Conroe\, TX.\nGet together around 8:00 AM. The Golden Corral does not open until 8:00 AM.  Good food\, great variety and lots of it. I will often just have coffee and conversation.
URL:https://aresofmocotx.org/event/ham-radio-operators-get-together-breakfast-4/
LOCATION:Ham Radio Operators Get Together Breakfast\, 1604 I-45\, Conroe\, TX\, 77301\, United States
END:VEVENT
BEGIN:VEVENT
DTSTART;TZID=America/Chicago:20241125T193000
DTEND;TZID=America/Chicago:20241125T200000
DTSTAMP:20260425T103903
CREATED:20240202T150215Z
LAST-MODIFIED:20240404T201805Z
UID:1169-1732563000-1732564800@aresofmocotx.org
SUMMARY:ARES Monday HF Net
DESCRIPTION:ARES HF Net on 3.873 MHz starting at 1930 (7:30pm).  When checking in\, we are in District 1.  You can also check in digitally using TXARES-HF on hf radio only.  No telnet.
URL:https://aresofmocotx.org/event/ares-monday-hf-net-48/
LOCATION:ARES Monday HF Net\, 3.873 MHz\, United States
CATEGORIES:ARES Net
END:VEVENT
BEGIN:VEVENT
DTSTART;TZID=America/Chicago:20241125T200000
DTEND;TZID=America/Chicago:20241125T203000
DTSTAMP:20260425T103903
CREATED:20240202T150459Z
LAST-MODIFIED:20240404T202050Z
UID:1222-1732564800-1732566600@aresofmocotx.org
SUMMARY:ARES Monday VHF Net
DESCRIPTION:VHF Net at 2000\, (8:00pm)\, on 147.140 MHz/136.5 (tone) Repeater)
URL:https://aresofmocotx.org/event/ares-monday-vhf-net-48/
LOCATION:ARES Monday VHF Net\, 147.14 MHz +/136.5(tone) Repeater\, Conroe\, United States
CATEGORIES:ARES Net
END:VEVENT
BEGIN:VEVENT
DTSTART;TZID=America/Chicago:20241126T200000
DTEND;TZID=America/Chicago:20241126T203000
DTSTAMP:20260425T103903
CREATED:20240202T150952Z
LAST-MODIFIED:20240924T202851Z
UID:1275-1732651200-1732653000@aresofmocotx.org
SUMMARY:ARES Tuesday Net
DESCRIPTION:Emergency Exercise Net starting at 2000 (8:00pm). We encourage all to please participate so that you are practiced in the net. \nThose able to do so\, we encourage all to participate in BBS Packet\, Vara HF\, and Winlink (Telnet). \nSend your digital check ins prior to the net. \n\nPhone – 146.920 MHz – /203.5 (tone) Repeater\nBkup –  147.140 MHz + /136.5 (tone) Repeater\nDigital BBS Packet – 145.030 MHz Simplex\nDigital Vara HF – Center Freq: 3.58850 MHz\nDigital Winlink (Telnet) – Send your Winlink (Telnet) check in message to “MCA-NET”
URL:https://aresofmocotx.org/event/ares-tuesday-net-48/
LOCATION:ARES Tuesday Net Repeater WA5AIR 146.920 (-) 203.5\, 146.920 MHz (-) 203.5(tone) Repeater\, Conroe\, TX\, United States
CATEGORIES:ARES Net
END:VEVENT
BEGIN:VEVENT
DTSTART;TZID=America/Chicago:20241202T193000
DTEND;TZID=America/Chicago:20241202T200000
DTSTAMP:20260425T103903
CREATED:20240202T150215Z
LAST-MODIFIED:20240404T201805Z
UID:1170-1733167800-1733169600@aresofmocotx.org
SUMMARY:ARES Monday HF Net
DESCRIPTION:ARES HF Net on 3.873 MHz starting at 1930 (7:30pm).  When checking in\, we are in District 1.  You can also check in digitally using TXARES-HF on hf radio only.  No telnet.
URL:https://aresofmocotx.org/event/ares-monday-hf-net-49/
LOCATION:ARES Monday HF Net\, 3.873 MHz\, United States
CATEGORIES:ARES Net
END:VEVENT
BEGIN:VEVENT
DTSTART;TZID=America/Chicago:20241202T200000
DTEND;TZID=America/Chicago:20241202T203000
DTSTAMP:20260425T103903
CREATED:20240202T150514Z
LAST-MODIFIED:20240404T202105Z
UID:1223-1733169600-1733171400@aresofmocotx.org
SUMMARY:ARES Monday VHF Net
DESCRIPTION:VHF Net at 2000\, (8:00pm)\, on 147.140 MHz/136.5 (tone) Repeater)
URL:https://aresofmocotx.org/event/ares-monday-vhf-net-49/
LOCATION:ARES Monday VHF Net\, 147.14 MHz +/136.5(tone) Repeater\, Conroe\, United States
CATEGORIES:ARES Net
END:VEVENT
BEGIN:VEVENT
DTSTART;TZID=America/Chicago:20241203T200000
DTEND;TZID=America/Chicago:20241203T203000
DTSTAMP:20260425T103903
CREATED:20240202T150952Z
LAST-MODIFIED:20240924T203004Z
UID:1276-1733256000-1733257800@aresofmocotx.org
SUMMARY:ARES Tuesday Net
DESCRIPTION:Emergency Exercise Net starting at 2000 (8:00pm). We encourage all to please participate so that you are practiced in the net. \nThose able to do so\, we encourage all to participate in BBS Packet\, Vara HF\, and Winlink (Telnet). \nSend your digital check ins prior to the net. \n\nPhone – 146.920 MHz – /203.5 (tone) Repeater\nBkup –  147.140 MHz + /136.5 (tone) Repeater\nDigital BBS Packet – 145.030 MHz Simplex\nDigital Vara HF – Center Freq: 3.58850 MHz\nDigital Winlink (Telnet) – Send your Winlink (Telnet) check in message to “MCA-NET”
URL:https://aresofmocotx.org/event/ares-tuesday-net-49/
LOCATION:ARES Tuesday Net Repeater WA5AIR 146.920 (-) 203.5\, 146.920 MHz (-) 203.5(tone) Repeater\, Conroe\, TX\, United States
CATEGORIES:ARES Net
END:VEVENT
BEGIN:VEVENT
DTSTART;TZID=America/Chicago:20241209T193000
DTEND;TZID=America/Chicago:20241209T200000
DTSTAMP:20260425T103903
CREATED:20240202T150215Z
LAST-MODIFIED:20240404T201805Z
UID:1171-1733772600-1733774400@aresofmocotx.org
SUMMARY:ARES Monday HF Net
DESCRIPTION:ARES HF Net on 3.873 MHz starting at 1930 (7:30pm).  When checking in\, we are in District 1.  You can also check in digitally using TXARES-HF on hf radio only.  No telnet.
URL:https://aresofmocotx.org/event/ares-monday-hf-net-50/
LOCATION:ARES Monday HF Net\, 3.873 MHz\, United States
CATEGORIES:ARES Net
END:VEVENT
BEGIN:VEVENT
DTSTART;TZID=America/Chicago:20241209T200000
DTEND;TZID=America/Chicago:20241209T203000
DTSTAMP:20260425T103903
CREATED:20240202T150514Z
LAST-MODIFIED:20240404T202105Z
UID:1224-1733774400-1733776200@aresofmocotx.org
SUMMARY:ARES Monday VHF Net
DESCRIPTION:VHF Net at 2000\, (8:00pm)\, on 147.140 MHz/136.5 (tone) Repeater)
URL:https://aresofmocotx.org/event/ares-monday-vhf-net-50/
LOCATION:ARES Monday VHF Net\, 147.14 MHz +/136.5(tone) Repeater\, Conroe\, United States
CATEGORIES:ARES Net
END:VEVENT
BEGIN:VEVENT
DTSTART;TZID=America/Chicago:20241210T200000
DTEND;TZID=America/Chicago:20241210T203000
DTSTAMP:20260425T103903
CREATED:20240202T150952Z
LAST-MODIFIED:20240924T203048Z
UID:1277-1733860800-1733862600@aresofmocotx.org
SUMMARY:ARES Tuesday Net
DESCRIPTION:Emergency Exercise Net starting at 2000 (8:00pm). We encourage all to please participate so that you are practiced in the net. \nThose able to do so\, we encourage all to participate in BBS Packet\, Vara HF\, and Winlink (Telnet). \nSend your digital check ins prior to the net. \n\nPhone – 146.920 MHz – /203.5 (tone) Repeater\nBkup –  147.140 MHz + /136.5 (tone) Repeater\nDigital BBS Packet – 145.030 MHz Simplex\nDigital Vara HF – Center Freq: 3.58850 MHz\nDigital Winlink (Telnet) – Send your Winlink (Telnet) check in message to “MCA-NET”
URL:https://aresofmocotx.org/event/ares-tuesday-net-50/
LOCATION:ARES Tuesday Net Repeater WA5AIR 146.920 (-) 203.5\, 146.920 MHz (-) 203.5(tone) Repeater\, Conroe\, TX\, United States
CATEGORIES:ARES Net
END:VEVENT
BEGIN:VEVENT
DTSTART;TZID=America/Chicago:20241212T193000
DTEND;TZID=America/Chicago:20241212T203000
DTSTAMP:20260425T103903
CREATED:20240202T145944Z
LAST-MODIFIED:20241208T134707Z
UID:1121-1734031800-1734035400@aresofmocotx.org
SUMMARY:ARES Meeting - CANCELLED
DESCRIPTION:Merry Christmas / Happy Holidays
URL:https://aresofmocotx.org/event/ares-meeting-11/
LOCATION:The Woodlands Emergency Training Center\, 16135 IH 45 South\, The Woodlands\, 77385\, United States
CATEGORIES:ARES Meeting
END:VEVENT
BEGIN:VEVENT
DTSTART;TZID=America/Chicago:20241216T193000
DTEND;TZID=America/Chicago:20241216T200000
DTSTAMP:20260425T103903
CREATED:20240202T150229Z
LAST-MODIFIED:20240404T201820Z
UID:1172-1734377400-1734379200@aresofmocotx.org
SUMMARY:ARES Monday HF Net
DESCRIPTION:ARES HF Net on 3.873 MHz starting at 1930 (7:30pm).  When checking in\, we are in District 1.  You can also check in digitally using TXARES-HF on hf radio only.  No telnet.
URL:https://aresofmocotx.org/event/ares-monday-hf-net-51/
LOCATION:ARES Monday HF Net\, 3.873 MHz\, United States
CATEGORIES:ARES Net
END:VEVENT
BEGIN:VEVENT
DTSTART;TZID=America/Chicago:20241216T200000
DTEND;TZID=America/Chicago:20241216T203000
DTSTAMP:20260425T103903
CREATED:20240202T150514Z
LAST-MODIFIED:20240404T202105Z
UID:1225-1734379200-1734381000@aresofmocotx.org
SUMMARY:ARES Monday VHF Net
DESCRIPTION:VHF Net at 2000\, (8:00pm)\, on 147.140 MHz/136.5 (tone) Repeater)
URL:https://aresofmocotx.org/event/ares-monday-vhf-net-51/
LOCATION:ARES Monday VHF Net\, 147.14 MHz +/136.5(tone) Repeater\, Conroe\, United States
CATEGORIES:ARES Net
END:VEVENT
BEGIN:VEVENT
DTSTART;TZID=America/Chicago:20241217T200000
DTEND;TZID=America/Chicago:20241217T203000
DTSTAMP:20260425T103903
CREATED:20240202T151006Z
LAST-MODIFIED:20241118T212035Z
UID:1278-1734465600-1734467400@aresofmocotx.org
SUMMARY:ARES Tuesday Net
DESCRIPTION:Emergency Exercise Net starting at 2000 (8:00pm). We encourage all to please participate so that you are practiced in the net. \nThose able to do so\, we encourage all to participate in BBS Packet\, Vara HF\, and Winlink (Telnet). \nSend your digital check ins prior to the net. \n\nPhone –  146.920 MHz – /203.5 (tone) Repeater\nDigital BBS Packet – 145.030 MHz Simplex\nDigital Vara HF – Center Freq: 3.58850 MHz\nDigital Winlink (Telnet) – Send your Winlink (Telnet) check in message to “MCA-NET”
URL:https://aresofmocotx.org/event/ares-tuesday-net-51/
LOCATION:ARES Tuesday Net Repeater WA5AIR 146.920 (-) 203.5\, 146.920 MHz (-) 203.5(tone) Repeater\, Conroe\, TX\, United States
CATEGORIES:ARES Net
END:VEVENT
BEGIN:VEVENT
DTSTART;TZID=America/Chicago:20241223T193000
DTEND;TZID=America/Chicago:20241223T200000
DTSTAMP:20260425T103903
CREATED:20240202T150229Z
LAST-MODIFIED:20240404T201820Z
UID:1173-1734982200-1734984000@aresofmocotx.org
SUMMARY:ARES Monday HF Net
DESCRIPTION:ARES HF Net on 3.873 MHz starting at 1930 (7:30pm).  When checking in\, we are in District 1.  You can also check in digitally using TXARES-HF on hf radio only.  No telnet.
URL:https://aresofmocotx.org/event/ares-monday-hf-net-52/
LOCATION:ARES Monday HF Net\, 3.873 MHz\, United States
CATEGORIES:ARES Net
END:VEVENT
BEGIN:VEVENT
DTSTART;TZID=America/Chicago:20241223T200000
DTEND;TZID=America/Chicago:20241223T203000
DTSTAMP:20260425T103903
CREATED:20240202T150514Z
LAST-MODIFIED:20240404T202105Z
UID:1226-1734984000-1734985800@aresofmocotx.org
SUMMARY:ARES Monday VHF Net
DESCRIPTION:VHF Net at 2000\, (8:00pm)\, on 147.140 MHz/136.5 (tone) Repeater)
URL:https://aresofmocotx.org/event/ares-monday-vhf-net-52/
LOCATION:ARES Monday VHF Net\, 147.14 MHz +/136.5(tone) Repeater\, Conroe\, United States
CATEGORIES:ARES Net
END:VEVENT
BEGIN:VEVENT
DTSTART;TZID=America/Chicago:20241224T200000
DTEND;TZID=America/Chicago:20241224T203000
DTSTAMP:20260425T103903
CREATED:20240202T151007Z
LAST-MODIFIED:20241129T014556Z
UID:1279-1735070400-1735072200@aresofmocotx.org
SUMMARY:ARES Tuesday Net - NO NET
DESCRIPTION:There is NO NET on Christmas Eve.  Merry Christmas! \nEmergency Exercise Net starting at 2000 (8:00pm). We encourage all to please participate so that you are practiced in the net. \nThose able to do so\, we encourage all to participate in BBS Packet\, Vara HF\, and Winlink (Telnet). \nSend your digital check ins prior to the net. \n\nPhone – 146.920 MHz – /203.5 (tone) Repeater\nBkup –  147.140 MHz + /136.5 (tone) Repeater\nDigital BBS Packet – 145.030 MHz Simplex\nDigital Vara HF – Center Freq: 3.58850 MHz\nDigital Winlink (Telnet) – Send your Winlink (Telnet) check in message to “MCA-NET”
URL:https://aresofmocotx.org/event/ares-tuesday-net-52/
LOCATION:ARES Tuesday Net Repeater WA5AIR 146.920 (-) 203.5\, 146.920 MHz (-) 203.5(tone) Repeater\, Conroe\, TX\, United States
CATEGORIES:ARES Net
END:VEVENT
BEGIN:VEVENT
DTSTART;TZID=America/Chicago:20241228T080000
DTEND;TZID=America/Chicago:20241228T093000
DTSTAMP:20260425T103903
CREATED:20240814T134333Z
LAST-MODIFIED:20241117T150213Z
UID:2212-1735372800-1735378200@aresofmocotx.org
SUMMARY:Ham Radio Operators Get Together Breakfast
DESCRIPTION:Ham Radio Operators Get Together Breakfast – 4th Saturday of each month. \nJoin other ham radio operators for breakfast at the Golden Corral. I-45 North East Feeder just north of HWY 105 Conroe\, TX.\nGet together around 8:00 AM. The Golden Corral does not open until 8:00 AM.  Good food\, great variety and lots of it. I will often just have coffee and conversation.
URL:https://aresofmocotx.org/event/ham-radio-operators-get-together-breakfast-5/
LOCATION:Ham Radio Operators Get Together Breakfast\, 1604 I-45\, Conroe\, TX\, 77301\, United States
END:VEVENT
BEGIN:VEVENT
DTSTART;TZID=America/Chicago:20241230T193000
DTEND;TZID=America/Chicago:20241230T200000
DTSTAMP:20260425T103903
CREATED:20240202T150229Z
LAST-MODIFIED:20240404T201820Z
UID:1174-1735587000-1735588800@aresofmocotx.org
SUMMARY:ARES Monday HF Net
DESCRIPTION:ARES HF Net on 3.873 MHz starting at 1930 (7:30pm).  When checking in\, we are in District 1.  You can also check in digitally using TXARES-HF on hf radio only.  No telnet.
URL:https://aresofmocotx.org/event/ares-monday-hf-net-53/
LOCATION:ARES Monday HF Net\, 3.873 MHz\, United States
CATEGORIES:ARES Net
END:VEVENT
BEGIN:VEVENT
DTSTART;TZID=America/Chicago:20241230T200000
DTEND;TZID=America/Chicago:20241230T203000
DTSTAMP:20260425T103903
CREATED:20240202T150515Z
LAST-MODIFIED:20240404T202106Z
UID:1227-1735588800-1735590600@aresofmocotx.org
SUMMARY:ARES Monday VHF Net
DESCRIPTION:VHF Net at 2000\, (8:00pm)\, on 147.140 MHz/136.5 (tone) Repeater)
URL:https://aresofmocotx.org/event/ares-monday-vhf-net-53/
LOCATION:ARES Monday VHF Net\, 147.14 MHz +/136.5(tone) Repeater\, Conroe\, United States
CATEGORIES:ARES Net
END:VEVENT
BEGIN:VEVENT
DTSTART;TZID=America/Chicago:20241231T200000
DTEND;TZID=America/Chicago:20241231T203000
DTSTAMP:20260425T103903
CREATED:20240202T151007Z
LAST-MODIFIED:20241230T212523Z
UID:1280-1735675200-1735677000@aresofmocotx.org
SUMMARY:ARES Tuesday Net - Join Roger KE5STR Net Control to wish everyone a Happy New Year!
DESCRIPTION:Join Roger KE5STR Net Control to wish everyone a Happy New Year! \nEmergency Exercise Net starting at 2000 (8:00pm). We encourage all to please participate so that you are practiced in the net. \nThose able to do so\, we encourage all to participate in BBS Packet\, Vara HF\, and Winlink (Telnet). \nSend your digital check ins prior to the net. \n\nPhone – 146.920 MHz – /203.5 (tone) Repeater\nBkup –  147.140 MHz + /136.5 (tone) Repeater\nDigital BBS Packet – 145.030 MHz Simplex\nDigital Vara HF – Center Freq: 3.58850 MHz\nDigital Winlink (Telnet) – Send your Winlink (Telnet) check in message to “MCA-NET”
URL:https://aresofmocotx.org/event/ares-tuesday-net-53/
LOCATION:ARES Tuesday Net Repeater WA5AIR 146.920 (-) 203.5\, 146.920 MHz (-) 203.5(tone) Repeater\, Conroe\, TX\, United States
CATEGORIES:ARES Net
END:VEVENT
BEGIN:VEVENT
DTSTART;TZID=America/Chicago:20250106T193000
DTEND;TZID=America/Chicago:20250106T200000
DTSTAMP:20260425T103903
CREATED:20241231T211159Z
LAST-MODIFIED:20250105T204536Z
UID:2966-1736191800-1736193600@aresofmocotx.org
SUMMARY:ARES Monday HF Net
DESCRIPTION:ARES HF Net on 3.873 MHz starting at 1930 (7:30pm).  When checking in\, we are in District 1.  You can also check in digitally using TXARES-HF on hf radio only.  No telnet.
URL:https://aresofmocotx.org/event/ares-monday-hf-net-54/
LOCATION:ARES Monday HF Net\, 3.873 MHz\, United States
CATEGORIES:ARES Net
END:VEVENT
BEGIN:VEVENT
DTSTART;TZID=America/Chicago:20250106T200000
DTEND;TZID=America/Chicago:20250106T203000
DTSTAMP:20260425T103903
CREATED:20241231T211836Z
LAST-MODIFIED:20250105T205053Z
UID:3018-1736193600-1736195400@aresofmocotx.org
SUMMARY:ARES Monday VHF Net
DESCRIPTION:VHF Net at 2000\, (8:00pm)\, on 147.140 MHz/136.5 (tone) Repeater)
URL:https://aresofmocotx.org/event/ares-monday-vhf-net-54/
LOCATION:ARES Monday VHF Net\, 147.14 MHz +/136.5(tone) Repeater\, Conroe\, United States
CATEGORIES:ARES Net
END:VEVENT
BEGIN:VEVENT
DTSTART;TZID=America/Chicago:20250107T200000
DTEND;TZID=America/Chicago:20250107T203000
DTSTAMP:20260425T103903
CREATED:20241231T222012Z
LAST-MODIFIED:20250105T205159Z
UID:3056-1736280000-1736281800@aresofmocotx.org
SUMMARY:ARES Tuesday Net
DESCRIPTION:Emergency Exercise Net starting at 2000 (8:00pm). We encourage all to please participate so that you are practiced in the net.  \nThose able to do so\, we encourage all to participate in BBS Packet\, Vara HF\, and Winlink (Telnet).   \nSend your digital check ins prior to the net. \n\nPhone –  146.920 MHz – /203.5 (tone) Repeater\n\nDigital BBS Packet – 145.030 MHz Simplex\n\nDigital Vara HF  – Center Freq: 3.58850 MHz\n\nDigital Winlink (Telnet) – Send your Winlink (Telnet) check in message to “MCA-NET”
URL:https://aresofmocotx.org/event/ares-tuesday-net-54/
CATEGORIES:ARES Net
END:VEVENT
END:VCALENDAR