BEGIN:VCALENDAR
VERSION:2.0
PRODID:-//ARES - ECPv6.15.20//NONSGML v1.0//EN
CALSCALE:GREGORIAN
METHOD:PUBLISH
X-WR-CALNAME:ARES
X-ORIGINAL-URL:https://aresofmocotx.org
X-WR-CALDESC:Events for ARES
REFRESH-INTERVAL;VALUE=DURATION:PT1H
X-Robots-Tag:noindex
X-PUBLISHED-TTL:PT1H
BEGIN:VTIMEZONE
TZID:America/Chicago
BEGIN:DAYLIGHT
TZOFFSETFROM:-0600
TZOFFSETTO:-0500
TZNAME:CDT
DTSTART:20240310T080000
END:DAYLIGHT
BEGIN:STANDARD
TZOFFSETFROM:-0500
TZOFFSETTO:-0600
TZNAME:CST
DTSTART:20241103T070000
END:STANDARD
BEGIN:DAYLIGHT
TZOFFSETFROM:-0600
TZOFFSETTO:-0500
TZNAME:CDT
DTSTART:20250309T080000
END:DAYLIGHT
BEGIN:STANDARD
TZOFFSETFROM:-0500
TZOFFSETTO:-0600
TZNAME:CST
DTSTART:20251102T070000
END:STANDARD
BEGIN:DAYLIGHT
TZOFFSETFROM:-0600
TZOFFSETTO:-0500
TZNAME:CDT
DTSTART:20260308T080000
END:DAYLIGHT
BEGIN:STANDARD
TZOFFSETFROM:-0500
TZOFFSETTO:-0600
TZNAME:CST
DTSTART:20261101T070000
END:STANDARD
END:VTIMEZONE
BEGIN:VEVENT
DTSTART;TZID=America/Chicago:20250217T200000
DTEND;TZID=America/Chicago:20250217T203000
DTSTAMP:20260425T085851
CREATED:20241231T211855Z
LAST-MODIFIED:20250105T204824Z
UID:3024-1739822400-1739824200@aresofmocotx.org
SUMMARY:ARES Monday VHF Net
DESCRIPTION:VHF Net at 2000\, (8:00pm)\, on 147.140 MHz/136.5 (tone) Repeater)
URL:https://aresofmocotx.org/event/ares-monday-vhf-net-60/
LOCATION:ARES Monday VHF Net\, 147.14 MHz +/136.5(tone) Repeater\, Conroe\, United States
CATEGORIES:ARES Net
END:VEVENT
BEGIN:VEVENT
DTSTART;TZID=America/Chicago:20250218T200000
DTEND;TZID=America/Chicago:20250218T203000
DTSTAMP:20260425T085851
CREATED:20241231T222018Z
LAST-MODIFIED:20250105T205201Z
UID:3062-1739908800-1739910600@aresofmocotx.org
SUMMARY:ARES Tuesday Net
DESCRIPTION:Emergency Exercise Net starting at 2000 (8:00pm). We encourage all to please participate so that you are practiced in the net.  \nThose able to do so\, we encourage all to participate in BBS Packet\, Vara HF\, and Winlink (Telnet).   \nSend your digital check ins prior to the net. \n\nPhone –  146.920 MHz – /203.5 (tone) Repeater\n\nDigital BBS Packet – 145.030 MHz Simplex\n\nDigital Vara HF  – Center Freq: 3.58850 MHz\n\nDigital Winlink (Telnet) – Send your Winlink (Telnet) check in message to “MCA-NET”
URL:https://aresofmocotx.org/event/ares-tuesday-net-60/
CATEGORIES:ARES Net
END:VEVENT
BEGIN:VEVENT
DTSTART;TZID=America/Chicago:20250222T080000
DTEND;TZID=America/Chicago:20250222T093000
DTSTAMP:20260425T085851
CREATED:20241231T211048Z
LAST-MODIFIED:20250319T124716Z
UID:2954-1740211200-1740216600@aresofmocotx.org
SUMMARY:Ham Radio Operators Get Together Breakfast
DESCRIPTION:Ham Radio Operators Get Together Breakfast – 4th Saturday of each month.\nJoin other ham radio operators for breakfast at the Golden Corral. I-45 North East Feeder just north of HWY 105 Conroe\, TX.\nGet together around 8:00 AM. The Golden Corral does not open until 8:00 AM. Good food\, great variety and lots of it. I will often just have coffee and conversation.
URL:https://aresofmocotx.org/event/ham-radio-operators-get-together-breakfast-6/
LOCATION:Ham Radio Operators Get Together Breakfast\, 1604 I-45\, Conroe\, TX\, 77301\, United States
CATEGORIES:ARES Meeting
END:VEVENT
BEGIN:VEVENT
DTSTART;TZID=America/Chicago:20250224T193000
DTEND;TZID=America/Chicago:20250224T200000
DTSTAMP:20260425T085851
CREATED:20241231T211210Z
LAST-MODIFIED:20250105T204539Z
UID:2973-1740425400-1740427200@aresofmocotx.org
SUMMARY:ARES Monday HF Net
DESCRIPTION:ARES HF Net on 3.873 MHz starting at 1930 (7:30pm).  When checking in\, we are in District 1.  You can also check in digitally using TXARES-HF on hf radio only.  No telnet.
URL:https://aresofmocotx.org/event/ares-monday-hf-net-61/
LOCATION:ARES Monday HF Net\, 3.873 MHz\, United States
CATEGORIES:ARES Net
END:VEVENT
BEGIN:VEVENT
DTSTART;TZID=America/Chicago:20250224T200000
DTEND;TZID=America/Chicago:20250224T203000
DTSTAMP:20260425T085851
CREATED:20241231T211922Z
LAST-MODIFIED:20250105T204838Z
UID:3025-1740427200-1740429000@aresofmocotx.org
SUMMARY:ARES Monday VHF Net
DESCRIPTION:VHF Net at 2000\, (8:00pm)\, on 147.140 MHz/136.5 (tone) Repeater)
URL:https://aresofmocotx.org/event/ares-monday-vhf-net-61/
LOCATION:ARES Monday VHF Net\, 147.14 MHz +/136.5(tone) Repeater\, Conroe\, United States
CATEGORIES:ARES Net
END:VEVENT
BEGIN:VEVENT
DTSTART;TZID=America/Chicago:20250225T200000
DTEND;TZID=America/Chicago:20250225T203000
DTSTAMP:20260425T085851
CREATED:20241231T222018Z
LAST-MODIFIED:20250105T205201Z
UID:3063-1740513600-1740515400@aresofmocotx.org
SUMMARY:ARES Tuesday Net
DESCRIPTION:Emergency Exercise Net starting at 2000 (8:00pm). We encourage all to please participate so that you are practiced in the net.  \nThose able to do so\, we encourage all to participate in BBS Packet\, Vara HF\, and Winlink (Telnet).   \nSend your digital check ins prior to the net. \n\nPhone –  146.920 MHz – /203.5 (tone) Repeater\n\nDigital BBS Packet – 145.030 MHz Simplex\n\nDigital Vara HF  – Center Freq: 3.58850 MHz\n\nDigital Winlink (Telnet) – Send your Winlink (Telnet) check in message to “MCA-NET”
URL:https://aresofmocotx.org/event/ares-tuesday-net-61/
CATEGORIES:ARES Net
END:VEVENT
BEGIN:VEVENT
DTSTART;TZID=America/Chicago:20250303T193000
DTEND;TZID=America/Chicago:20250303T200000
DTSTAMP:20260425T085851
CREATED:20241231T211211Z
LAST-MODIFIED:20250105T204539Z
UID:2974-1741030200-1741032000@aresofmocotx.org
SUMMARY:ARES Monday HF Net
DESCRIPTION:ARES HF Net on 3.873 MHz starting at 1930 (7:30pm).  When checking in\, we are in District 1.  You can also check in digitally using TXARES-HF on hf radio only.  No telnet.
URL:https://aresofmocotx.org/event/ares-monday-hf-net-62/
LOCATION:ARES Monday HF Net\, 3.873 MHz\, United States
CATEGORIES:ARES Net
END:VEVENT
BEGIN:VEVENT
DTSTART;TZID=America/Chicago:20250303T200000
DTEND;TZID=America/Chicago:20250303T203000
DTSTAMP:20260425T085851
CREATED:20241231T211928Z
LAST-MODIFIED:20250105T204839Z
UID:3026-1741032000-1741033800@aresofmocotx.org
SUMMARY:ARES Monday VHF Net
DESCRIPTION:VHF Net at 2000\, (8:00pm)\, on 147.140 MHz/136.5 (tone) Repeater)
URL:https://aresofmocotx.org/event/ares-monday-vhf-net-62/
LOCATION:ARES Monday VHF Net\, 147.14 MHz +/136.5(tone) Repeater\, Conroe\, United States
CATEGORIES:ARES Net
END:VEVENT
BEGIN:VEVENT
DTSTART;TZID=America/Chicago:20250304T200000
DTEND;TZID=America/Chicago:20250304T203000
DTSTAMP:20260425T085851
CREATED:20241231T222018Z
LAST-MODIFIED:20250105T205201Z
UID:3064-1741118400-1741120200@aresofmocotx.org
SUMMARY:ARES Tuesday Net
DESCRIPTION:Emergency Exercise Net starting at 2000 (8:00pm). We encourage all to please participate so that you are practiced in the net.  \nThose able to do so\, we encourage all to participate in BBS Packet\, Vara HF\, and Winlink (Telnet).   \nSend your digital check ins prior to the net. \n\nPhone –  146.920 MHz – /203.5 (tone) Repeater\n\nDigital BBS Packet – 145.030 MHz Simplex\n\nDigital Vara HF  – Center Freq: 3.58850 MHz\n\nDigital Winlink (Telnet) – Send your Winlink (Telnet) check in message to “MCA-NET”
URL:https://aresofmocotx.org/event/ares-tuesday-net-62/
CATEGORIES:ARES Net
END:VEVENT
BEGIN:VEVENT
DTSTART;TZID=America/Chicago:20250310T193000
DTEND;TZID=America/Chicago:20250310T200000
DTSTAMP:20260425T085851
CREATED:20241231T211222Z
LAST-MODIFIED:20250105T204554Z
UID:2975-1741635000-1741636800@aresofmocotx.org
SUMMARY:ARES Monday HF Net
DESCRIPTION:ARES HF Net on 3.873 MHz starting at 1930 (7:30pm).  When checking in\, we are in District 1.  You can also check in digitally using TXARES-HF on hf radio only.  No telnet.
URL:https://aresofmocotx.org/event/ares-monday-hf-net-63/
LOCATION:ARES Monday HF Net\, 3.873 MHz\, United States
CATEGORIES:ARES Net
END:VEVENT
BEGIN:VEVENT
DTSTART;TZID=America/Chicago:20250310T200000
DTEND;TZID=America/Chicago:20250310T203000
DTSTAMP:20260425T085851
CREATED:20241231T211931Z
LAST-MODIFIED:20250105T204839Z
UID:3027-1741636800-1741638600@aresofmocotx.org
SUMMARY:ARES Monday VHF Net
DESCRIPTION:VHF Net at 2000\, (8:00pm)\, on 147.140 MHz/136.5 (tone) Repeater)
URL:https://aresofmocotx.org/event/ares-monday-vhf-net-63/
LOCATION:ARES Monday VHF Net\, 147.14 MHz +/136.5(tone) Repeater\, Conroe\, United States
CATEGORIES:ARES Net
END:VEVENT
BEGIN:VEVENT
DTSTART;TZID=America/Chicago:20250311T200000
DTEND;TZID=America/Chicago:20250311T203000
DTSTAMP:20260425T085851
CREATED:20241231T222031Z
LAST-MODIFIED:20250105T205216Z
UID:3065-1741723200-1741725000@aresofmocotx.org
SUMMARY:ARES Tuesday Net
DESCRIPTION:Emergency Exercise Net starting at 2000 (8:00pm). We encourage all to please participate so that you are practiced in the net.  \nThose able to do so\, we encourage all to participate in BBS Packet\, Vara HF\, and Winlink (Telnet).   \nSend your digital check ins prior to the net. \n\nPhone –  146.920 MHz – /203.5 (tone) Repeater\n\nDigital BBS Packet – 145.030 MHz Simplex\n\nDigital Vara HF  – Center Freq: 3.58850 MHz\n\nDigital Winlink (Telnet) – Send your Winlink (Telnet) check in message to “MCA-NET”
URL:https://aresofmocotx.org/event/ares-tuesday-net-63/
CATEGORIES:ARES Net
END:VEVENT
BEGIN:VEVENT
DTSTART;TZID=America/Chicago:20250313T183000
DTEND;TZID=America/Chicago:20250313T210000
DTSTAMP:20260425T085851
CREATED:20241231T210931Z
LAST-MODIFIED:20250309T135035Z
UID:2942-1741890600-1741899600@aresofmocotx.org
SUMMARY:ARES Meeting
DESCRIPTION:Training at 1830 (6:30 PM)\nPresentations by\nArt Shaddix – Antennas\nPeter Belbin – Traccar \nMeeting at 1930 (7:30 PM) In Person Meeting
URL:https://aresofmocotx.org/event/ares-meeting-16/
LOCATION:The Woodlands Emergency Training Center\, 16135 IH 45 South\, The Woodlands\, 77385\, United States
CATEGORIES:ARES Meeting
END:VEVENT
BEGIN:VEVENT
DTSTART;TZID=America/Chicago:20250317T193000
DTEND;TZID=America/Chicago:20250317T200000
DTSTAMP:20260425T085851
CREATED:20241231T211223Z
LAST-MODIFIED:20250105T204554Z
UID:2976-1742239800-1742241600@aresofmocotx.org
SUMMARY:ARES Monday HF Net
DESCRIPTION:ARES HF Net on 3.873 MHz starting at 1930 (7:30pm).  When checking in\, we are in District 1.  You can also check in digitally using TXARES-HF on hf radio only.  No telnet.
URL:https://aresofmocotx.org/event/ares-monday-hf-net-64/
LOCATION:ARES Monday HF Net\, 3.873 MHz\, United States
CATEGORIES:ARES Net
END:VEVENT
BEGIN:VEVENT
DTSTART;TZID=America/Chicago:20250317T200000
DTEND;TZID=America/Chicago:20250317T203000
DTSTAMP:20260425T085851
CREATED:20241231T211934Z
LAST-MODIFIED:20250105T204839Z
UID:3028-1742241600-1742243400@aresofmocotx.org
SUMMARY:ARES Monday VHF Net
DESCRIPTION:VHF Net at 2000\, (8:00pm)\, on 147.140 MHz/136.5 (tone) Repeater)
URL:https://aresofmocotx.org/event/ares-monday-vhf-net-64/
LOCATION:ARES Monday VHF Net\, 147.14 MHz +/136.5(tone) Repeater\, Conroe\, United States
CATEGORIES:ARES Net
END:VEVENT
BEGIN:VEVENT
DTSTART;TZID=America/Chicago:20250318T200000
DTEND;TZID=America/Chicago:20250318T203000
DTSTAMP:20260425T085851
CREATED:20241231T222031Z
LAST-MODIFIED:20250105T205216Z
UID:3066-1742328000-1742329800@aresofmocotx.org
SUMMARY:ARES Tuesday Net
DESCRIPTION:Emergency Exercise Net starting at 2000 (8:00pm). We encourage all to please participate so that you are practiced in the net.  \nThose able to do so\, we encourage all to participate in BBS Packet\, Vara HF\, and Winlink (Telnet).   \nSend your digital check ins prior to the net. \n\nPhone –  146.920 MHz – /203.5 (tone) Repeater\n\nDigital BBS Packet – 145.030 MHz Simplex\n\nDigital Vara HF  – Center Freq: 3.58850 MHz\n\nDigital Winlink (Telnet) – Send your Winlink (Telnet) check in message to “MCA-NET”
URL:https://aresofmocotx.org/event/ares-tuesday-net-64/
CATEGORIES:ARES Net
END:VEVENT
BEGIN:VEVENT
DTSTART;TZID=America/Chicago:20250322T080000
DTEND;TZID=America/Chicago:20250322T093000
DTSTAMP:20260425T085851
CREATED:20241231T211048Z
LAST-MODIFIED:20250319T124037Z
UID:2955-1742630400-1742635800@aresofmocotx.org
SUMMARY:Ham Radio Operators Get Together Breakfast
DESCRIPTION:Ham Radio Operators Get Together Breakfast – 4th Saturday of each month.\nJoin other ham radio operators for breakfast at the Golden Corral. I-45 North East Feeder just north of HWY 105 Conroe\, TX.\nGet together around 8:00 AM. The Golden Corral does not open until 8:00 AM. Good food\, great variety and lots of it. I will often just have coffee and conversation.
URL:https://aresofmocotx.org/event/ham-radio-operators-get-together-breakfast-7/
LOCATION:Ham Radio Operators Get Together Breakfast\, 1604 I-45\, Conroe\, TX\, 77301\, United States
CATEGORIES:ARES Meeting
END:VEVENT
BEGIN:VEVENT
DTSTART;TZID=America/Chicago:20250324T193000
DTEND;TZID=America/Chicago:20250324T200000
DTSTAMP:20260425T085851
CREATED:20241231T211224Z
LAST-MODIFIED:20250105T204555Z
UID:2977-1742844600-1742846400@aresofmocotx.org
SUMMARY:ARES Monday HF Net
DESCRIPTION:ARES HF Net on 3.873 MHz starting at 1930 (7:30pm).  When checking in\, we are in District 1.  You can also check in digitally using TXARES-HF on hf radio only.  No telnet.
URL:https://aresofmocotx.org/event/ares-monday-hf-net-65/
LOCATION:ARES Monday HF Net\, 3.873 MHz\, United States
CATEGORIES:ARES Net
END:VEVENT
BEGIN:VEVENT
DTSTART;TZID=America/Chicago:20250324T200000
DTEND;TZID=America/Chicago:20250324T203000
DTSTAMP:20260425T085851
CREATED:20241231T211935Z
LAST-MODIFIED:20250105T204840Z
UID:3029-1742846400-1742848200@aresofmocotx.org
SUMMARY:ARES Monday VHF Net
DESCRIPTION:VHF Net at 2000\, (8:00pm)\, on 147.140 MHz/136.5 (tone) Repeater)
URL:https://aresofmocotx.org/event/ares-monday-vhf-net-65/
LOCATION:ARES Monday VHF Net\, 147.14 MHz +/136.5(tone) Repeater\, Conroe\, United States
CATEGORIES:ARES Net
END:VEVENT
BEGIN:VEVENT
DTSTART;TZID=America/Chicago:20250325T200000
DTEND;TZID=America/Chicago:20250325T203000
DTSTAMP:20260425T085851
CREATED:20241231T222031Z
LAST-MODIFIED:20250105T205217Z
UID:3067-1742932800-1742934600@aresofmocotx.org
SUMMARY:ARES Tuesday Net
DESCRIPTION:Emergency Exercise Net starting at 2000 (8:00pm). We encourage all to please participate so that you are practiced in the net.  \nThose able to do so\, we encourage all to participate in BBS Packet\, Vara HF\, and Winlink (Telnet).   \nSend your digital check ins prior to the net. \n\nPhone –  146.920 MHz – /203.5 (tone) Repeater\n\nDigital BBS Packet – 145.030 MHz Simplex\n\nDigital Vara HF  – Center Freq: 3.58850 MHz\n\nDigital Winlink (Telnet) – Send your Winlink (Telnet) check in message to “MCA-NET”
URL:https://aresofmocotx.org/event/ares-tuesday-net-65/
CATEGORIES:ARES Net
END:VEVENT
BEGIN:VEVENT
DTSTART;TZID=America/Chicago:20250331T193000
DTEND;TZID=America/Chicago:20250331T200000
DTSTAMP:20260425T085851
CREATED:20241231T211224Z
LAST-MODIFIED:20250105T204555Z
UID:2978-1743449400-1743451200@aresofmocotx.org
SUMMARY:ARES Monday HF Net
DESCRIPTION:ARES HF Net on 3.873 MHz starting at 1930 (7:30pm).  When checking in\, we are in District 1.  You can also check in digitally using TXARES-HF on hf radio only.  No telnet.
URL:https://aresofmocotx.org/event/ares-monday-hf-net-66/
LOCATION:ARES Monday HF Net\, 3.873 MHz\, United States
CATEGORIES:ARES Net
END:VEVENT
BEGIN:VEVENT
DTSTART;TZID=America/Chicago:20250331T200000
DTEND;TZID=America/Chicago:20250331T203000
DTSTAMP:20260425T085851
CREATED:20241231T211944Z
LAST-MODIFIED:20250105T204853Z
UID:3030-1743451200-1743453000@aresofmocotx.org
SUMMARY:ARES Monday VHF Net
DESCRIPTION:VHF Net at 2000\, (8:00pm)\, on 147.140 MHz/136.5 (tone) Repeater)
URL:https://aresofmocotx.org/event/ares-monday-vhf-net-66/
LOCATION:ARES Monday VHF Net\, 147.14 MHz +/136.5(tone) Repeater\, Conroe\, United States
CATEGORIES:ARES Net
END:VEVENT
BEGIN:VEVENT
DTSTART;TZID=America/Chicago:20250401T200000
DTEND;TZID=America/Chicago:20250401T203000
DTSTAMP:20260425T085851
CREATED:20241231T222032Z
LAST-MODIFIED:20250105T205217Z
UID:3068-1743537600-1743539400@aresofmocotx.org
SUMMARY:ARES Tuesday Net
DESCRIPTION:Emergency Exercise Net starting at 2000 (8:00pm). We encourage all to please participate so that you are practiced in the net.  \nThose able to do so\, we encourage all to participate in BBS Packet\, Vara HF\, and Winlink (Telnet).   \nSend your digital check ins prior to the net. \n\nPhone –  146.920 MHz – /203.5 (tone) Repeater\n\nDigital BBS Packet – 145.030 MHz Simplex\n\nDigital Vara HF  – Center Freq: 3.58850 MHz\n\nDigital Winlink (Telnet) – Send your Winlink (Telnet) check in message to “MCA-NET”
URL:https://aresofmocotx.org/event/ares-tuesday-net-66/
CATEGORIES:ARES Net
END:VEVENT
BEGIN:VEVENT
DTSTART;TZID=America/Chicago:20250407T193000
DTEND;TZID=America/Chicago:20250407T200000
DTSTAMP:20260425T085851
CREATED:20241231T211225Z
LAST-MODIFIED:20250105T204555Z
UID:2979-1744054200-1744056000@aresofmocotx.org
SUMMARY:ARES Monday HF Net
DESCRIPTION:ARES HF Net on 3.873 MHz starting at 1930 (7:30pm).  When checking in\, we are in District 1.  You can also check in digitally using TXARES-HF on hf radio only.  No telnet.
URL:https://aresofmocotx.org/event/ares-monday-hf-net-67/
LOCATION:ARES Monday HF Net\, 3.873 MHz\, United States
CATEGORIES:ARES Net
END:VEVENT
BEGIN:VEVENT
DTSTART;TZID=America/Chicago:20250407T200000
DTEND;TZID=America/Chicago:20250407T203000
DTSTAMP:20260425T085851
CREATED:20241231T211945Z
LAST-MODIFIED:20250105T204854Z
UID:3031-1744056000-1744057800@aresofmocotx.org
SUMMARY:ARES Monday VHF Net
DESCRIPTION:VHF Net at 2000\, (8:00pm)\, on 147.140 MHz/136.5 (tone) Repeater)
URL:https://aresofmocotx.org/event/ares-monday-vhf-net-67/
LOCATION:ARES Monday VHF Net\, 147.14 MHz +/136.5(tone) Repeater\, Conroe\, United States
CATEGORIES:ARES Net
END:VEVENT
BEGIN:VEVENT
DTSTART;TZID=America/Chicago:20250408T200000
DTEND;TZID=America/Chicago:20250408T203000
DTSTAMP:20260425T085851
CREATED:20241231T222032Z
LAST-MODIFIED:20250105T205217Z
UID:3069-1744142400-1744144200@aresofmocotx.org
SUMMARY:ARES Tuesday Net
DESCRIPTION:Emergency Exercise Net starting at 2000 (8:00pm). We encourage all to please participate so that you are practiced in the net.  \nThose able to do so\, we encourage all to participate in BBS Packet\, Vara HF\, and Winlink (Telnet).   \nSend your digital check ins prior to the net. \n\nPhone –  146.920 MHz – /203.5 (tone) Repeater\n\nDigital BBS Packet – 145.030 MHz Simplex\n\nDigital Vara HF  – Center Freq: 3.58850 MHz\n\nDigital Winlink (Telnet) – Send your Winlink (Telnet) check in message to “MCA-NET”
URL:https://aresofmocotx.org/event/ares-tuesday-net-67/
CATEGORIES:ARES Net
END:VEVENT
BEGIN:VEVENT
DTSTART;TZID=America/Chicago:20250410T193000
DTEND;TZID=America/Chicago:20250410T210000
DTSTAMP:20260425T085851
CREATED:20241231T210932Z
LAST-MODIFIED:20250402T103827Z
UID:2943-1744313400-1744318800@aresofmocotx.org
SUMMARY:ARES Meeting
DESCRIPTION:ARES Trailer will be at the meeting. \nTrailer Signing 1830 (6:30 PM) If you helped with updating the trailer come and sign your name on the trailer. \n  \nMeeting at 1930 (7:30 PM) In Person Meeting
URL:https://aresofmocotx.org/event/ares-meeting-17/
LOCATION:The Woodlands Emergency Training Center\, 16135 IH 45 South\, The Woodlands\, 77385\, United States
CATEGORIES:ARES Meeting
END:VEVENT
BEGIN:VEVENT
DTSTART;TZID=America/Chicago:20250412T100000
DTEND;TZID=America/Chicago:20250412T130000
DTSTAMP:20260425T085851
CREATED:20250329T133857Z
LAST-MODIFIED:20250329T134235Z
UID:4467-1744452000-1744462800@aresofmocotx.org
SUMMARY:The Woodlands Emergency Preparedness Fair
DESCRIPTION:The ARES of Montgomery County Trailer will be at the Woodlands Emergency Preparedness Fair \nhttps://www.thewoodlandstownship-tx.gov/1559/Emergency-Preparedness-Event
URL:https://aresofmocotx.org/event/the-woodlands-emergency-preparedness-fair/
LOCATION:The Woodlands Emergency Preparedness Fair\, 2801 Technology Forest Blvd. The Woodlands\, The Woodlands\, TX\, 77381\, United States
END:VEVENT
BEGIN:VEVENT
DTSTART;TZID=America/Chicago:20250413T070000
DTEND;TZID=America/Chicago:20250413T140000
DTSTAMP:20260425T085851
CREATED:20250226T231808Z
LAST-MODIFIED:20250302T145442Z
UID:3884-1744527600-1744552800@aresofmocotx.org
SUMMARY:Gran Fondo Texas bike ride
DESCRIPTION:Gran Fondo Ham Radio Operator Registration Form \nHam Radio Operators needed to support the Gran Fondo Texas bike ride.\nThere are 5 rest stops.  Each rest stop needs a radio operator to coordinate SAG support / pickup and medical need. Also relay rest stop needs to command center. \nThe ride starts at\nMontgomery High School\n22825 Texas 105 W\nMontgomery\, TX 77356 \nRest Stops\n31 Mile Route Rest Stops\n1st – Mile 12 on FM 149 @ Lone Star Trailhead\n2nd – Mile 19 on Bethel Rd. @ Lone Start Trailhead \n46 Mile Route Rest Stops\n1st – Mile 12 on FM 149 @ Lone Star Trailhead\n2nd – Mile 25 in Richards\n3rd – Mile 33 on Bethel Rd. @ Lone Start Trailhead \n60 Mile Route Rest Stops\n1st – Mile 12 on FM 149 @ Lone Star Trailhead\n2nd – Mile 25 in Richards\n3rd – Mile 39 in Richards\n5th – Mile 47 on Bethel Rd. @ Lone Start Trailhead \n74 Mile Route Rest Stops\n1st – Mile 12 on FM 149 @ Lone Star Trailhead\n2nd – Mile 25 in Richards\n3rd – Mile 36 in Anderson\n4th – Mile 54 in Richards\n5th – Mile 62 on Bethel Rd. @ Lone Start Trailhead \n96 Mile Route Rest Stops\n1st – Mile 12 on FM 149 @ Lone Star Trailhead\n2nd – Mile 25 in Richards\n3rd – Mile 36 in Anderson\n4th – Mile 50 on 3090 @ 244\n5th – Mile 58 in Anderson\n6th – Mile 17 in Richards\n7th – Mile  83 on Bethel Rd. @ Lone Start Trailhead
URL:https://aresofmocotx.org/event/gran-fondo-texas-bike-ride/
LOCATION:Gran Fondo Texas bike ride\, Montgomery High School\, 22825 Texas 105 W\, Montgomery\, TX\, 77356\, United States
END:VEVENT
BEGIN:VEVENT
DTSTART;TZID=America/Chicago:20250414T193000
DTEND;TZID=America/Chicago:20250414T200000
DTSTAMP:20260425T085851
CREATED:20241231T211236Z
LAST-MODIFIED:20250105T204609Z
UID:2980-1744659000-1744660800@aresofmocotx.org
SUMMARY:ARES Monday HF Net
DESCRIPTION:ARES HF Net on 3.873 MHz starting at 1930 (7:30pm).  When checking in\, we are in District 1.  You can also check in digitally using TXARES-HF on hf radio only.  No telnet.
URL:https://aresofmocotx.org/event/ares-monday-hf-net-68/
LOCATION:ARES Monday HF Net\, 3.873 MHz\, United States
CATEGORIES:ARES Net
END:VEVENT
END:VCALENDAR